BEGIN:VCALENDAR
VERSION:2.0
PRODID:-//Markten en meer - ECPv6.15.20//NONSGML v1.0//EN
CALSCALE:GREGORIAN
METHOD:PUBLISH
X-ORIGINAL-URL:https://marktenmeer.nl
X-WR-CALDESC:Evenementen voor Markten en meer
REFRESH-INTERVAL;VALUE=DURATION:PT1H
X-Robots-Tag:noindex
X-PUBLISHED-TTL:PT1H
BEGIN:VTIMEZONE
TZID:Europe/Amsterdam
BEGIN:DAYLIGHT
TZOFFSETFROM:+0100
TZOFFSETTO:+0200
TZNAME:CEST
DTSTART:20250330T010000
END:DAYLIGHT
BEGIN:STANDARD
TZOFFSETFROM:+0200
TZOFFSETTO:+0100
TZNAME:CET
DTSTART:20251026T010000
END:STANDARD
BEGIN:DAYLIGHT
TZOFFSETFROM:+0100
TZOFFSETTO:+0200
TZNAME:CEST
DTSTART:20260329T010000
END:DAYLIGHT
BEGIN:STANDARD
TZOFFSETFROM:+0200
TZOFFSETTO:+0100
TZNAME:CET
DTSTART:20261025T010000
END:STANDARD
BEGIN:DAYLIGHT
TZOFFSETFROM:+0100
TZOFFSETTO:+0200
TZNAME:CEST
DTSTART:20270328T010000
END:DAYLIGHT
BEGIN:STANDARD
TZOFFSETFROM:+0200
TZOFFSETTO:+0100
TZNAME:CET
DTSTART:20271031T010000
END:STANDARD
END:VTIMEZONE
BEGIN:VEVENT
DTSTART;TZID=Europe/Amsterdam:20261003T110000
DTEND;TZID=Europe/Amsterdam:20261003T170000
DTSTAMP:20260420T042947
CREATED:20251218T143717Z
LAST-MODIFIED:20260328T220701Z
UID:17079-1791025200-1791046800@marktenmeer.nl
SUMMARY:Stoofperenfeest Ruinerwold 3 oktober 2026 | Kraampjes & Perenplukken
DESCRIPTION:Op zaterdag 3 oktober 2026 staat Ruinerwold in het teken van het Stoofperenfeest: een kleinschalig en typisch Drents evenement met een bijzondere traditie. Sinds jaar en dag worden de perenbomen langs de Dr. Larijweg op de eerste zaterdag van oktober geveild. Dat zorgt voor een gezellige dag in de buitenlucht\, met sfeer op en rond de erven langs deze karakteristieke weg. \nVerspreid over meerdere erven vind je gezellige kraampjes met brocante\, landelijke spullen en eigengemaakte producten. De deelnemers zijn vooral particulieren en kleine bedrijfjes uit de buurt\, waardoor het aanbod persoonlijk\, uniek en overzichtelijk blijft. Het voelt als een ontspannen route langs boerderijen en erfjes\, waar je rustig kunt rondkijken en overal iets anders ontdekt. \nEn omdat je van perenplukken trek krijgt\, is er op elk erf ook eten en drinken te vinden via foodtrucks. Geen zin om zelf te plukken? Bij De Karstenhoeve kun je stoofperen kopen die door vrijwilligers alvast zijn geoogst langs de Dr. Larijweg. Tussen de locaties rijdt bovendien de “Heen en Peer”\, zodat je makkelijk van erf naar erf kunt. \nPraktische informatie\n\nDatum: zaterdag 3 oktober 2026\nTijd: vanaf 11:00 uur\nLocatie: erven langs de Dr. Larijweg\, Ruinerwold + De Karstenhoeve\nAdres Karstenhoeve: Dr. Larijweg 21\, 7961 NL Ruinerwold\nContact: 0522 – 481447 | info@karstenhoeve.nl
URL:https://marktenmeer.nl/markt/stoofperenfeest-ruinerwold-2026/
LOCATION:De Karstenhoeve\, Ruinerwold\, Dr. Larijweg 21\, Ruinerwold\, 7961 NL\, Netherlands
CATEGORIES:Drenthe,Fairs
END:VEVENT
END:VCALENDAR