BEGIN:VCALENDAR
VERSION:2.0
PRODID:-//Markten en meer - ECPv6.15.20//NONSGML v1.0//EN
CALSCALE:GREGORIAN
METHOD:PUBLISH
X-WR-CALNAME:Markten en meer
X-ORIGINAL-URL:https://marktenmeer.nl
X-WR-CALDESC:Evenementen voor Markten en meer
REFRESH-INTERVAL;VALUE=DURATION:PT1H
X-Robots-Tag:noindex
X-PUBLISHED-TTL:PT1H
BEGIN:VTIMEZONE
TZID:Europe/Amsterdam
BEGIN:DAYLIGHT
TZOFFSETFROM:+0100
TZOFFSETTO:+0200
TZNAME:CEST
DTSTART:20250330T010000
END:DAYLIGHT
BEGIN:STANDARD
TZOFFSETFROM:+0200
TZOFFSETTO:+0100
TZNAME:CET
DTSTART:20251026T010000
END:STANDARD
BEGIN:DAYLIGHT
TZOFFSETFROM:+0100
TZOFFSETTO:+0200
TZNAME:CEST
DTSTART:20260329T010000
END:DAYLIGHT
BEGIN:STANDARD
TZOFFSETFROM:+0200
TZOFFSETTO:+0100
TZNAME:CET
DTSTART:20261025T010000
END:STANDARD
BEGIN:DAYLIGHT
TZOFFSETFROM:+0100
TZOFFSETTO:+0200
TZNAME:CEST
DTSTART:20270328T010000
END:DAYLIGHT
BEGIN:STANDARD
TZOFFSETFROM:+0200
TZOFFSETTO:+0100
TZNAME:CET
DTSTART:20271031T010000
END:STANDARD
END:VTIMEZONE
BEGIN:VEVENT
DTSTART;VALUE=DATE:20261004
DTEND;VALUE=DATE:20261005
DTSTAMP:20260420T024644
CREATED:20251127T083234Z
LAST-MODIFIED:20260328T220701Z
UID:15805-1791072000-1791158399@marktenmeer.nl
SUMMARY:Gamebeurs Drenthe – Hoogeveen - 4 oktober 2026
DESCRIPTION:Op zondag 4 oktober 2026 vindt de derde editie van Gamebeurs Drenthe plaats in Sporthal Activum in Hoogeveen. Deze populaire beurs brengt gamers\, verzamelaars en retrofans samen voor een dag vol snuffelen\, ruilen en ontdekken. Je vindt er een mix van oude en nieuwe games\, consoles\, accessoires\, retro handhelds\, TCG-kaarten\, merchandise en verzamelitems. De locatie is volledig overdekt\, ruim opgezet en goed bereikbaar. Parkeren kan gratis voor de deur. De entree kan bij binnenkomst contant of per pin worden betaald; niet alle standhouders bieden pinmogelijkheden\, dus contant geld meenemen is handig. De sporthal is ook goed bereikbaar met het openbaar vervoer: station Hoogeveen en bushalte Meester Cramerweg liggen op loopafstand. Dieren zijn in de sporthal niet toegestaan. \n📅 Datum: 4 oktober 2026📍 Locatie: Sporthal Activum\, Sportveldenweg 2\, 7902 NX Hoogeveen🚗 Parkeren: gratis
URL:https://marktenmeer.nl/markt/gamebeurs-drenthe-2026/
LOCATION:Sporthal Activum\, Hoogeveen\, Sportveldenweg 2\,\, Hoogeveen
CATEGORIES:Drenthe,Verzamelbeurs,Verzamelbeurs Drenthe
END:VEVENT
BEGIN:VEVENT
DTSTART;TZID=Europe/Amsterdam:20261004T100000
DTEND;TZID=Europe/Amsterdam:20261004T170000
DTSTAMP:20260420T024644
CREATED:20260211T093059Z
LAST-MODIFIED:20260328T220701Z
UID:19454-1791108000-1791133200@marktenmeer.nl
SUMMARY:Braderie & Vlooienmarkt Najaarsmarkt Gieten | Zondag 4 oktober 2026 – Gieten
DESCRIPTION:Op zondag 4 oktober 2026 vindt in het centrum van Gieten de Najaarsmarkt plaats met een uitgebreide braderie en vlooienmarkt. Van 10.00 tot 17.00 uur staat het dorp in het teken van een sfeervolle herfstmarkt. \nTijdens de braderie presenteren ondernemers hun producten en diensten aan een breed publiek. De vlooienmarkt biedt ruimte voor tweedehands spullen\, curiosa en verzamelitems. De combinatie zorgt voor een gevarieerd aanbod en trekt bezoekers uit de regio die graag nog één keer dit seizoen een markt bezoeken in het centrum. \nDe organisatie is in handen van Organisatieburo Wildro\, dat zorgt voor duidelijke afspraken en een overzichtelijke marktindeling. \nPraktische informatie\n\nDatum: zondag 4 oktober 2026\nTijd: 10.00 – 17.00 uur\nLocatie: Centrum Gieten\nType markt: braderie & vlooienmarkt\n\nInformatie voor standhouders\nBraderie\n\nGrondplaats: € 6\,00 per strekkende meter\nKraam: € 45\,00 per kraam (excl. btw\, incl. grondplaats)\n\nVlooienmarkt\n\nGrondplaats: € 3\,00 per strekkende meter\nKraam: € 30\,00 per kraam (incl. grondplaats)\n\n(Over grondplaatsen wordt geen btw berekend)
URL:https://marktenmeer.nl/markt/najaarsmarkt-gieten-braderie-vlooienmarkt-4-oktober-2026/
LOCATION:Gieten\, Gieten\, Netherlands
CATEGORIES:Braderie Drenthe,Braderieën,Drenthe,Rommelmarkten,Rommelmarkten Drenthe
END:VEVENT
BEGIN:VEVENT
DTSTART;TZID=Europe/Amsterdam:20261004T110000
DTEND;TZID=Europe/Amsterdam:20261004T170000
DTSTAMP:20260420T024644
CREATED:20260329T071910Z
LAST-MODIFIED:20260329T071910Z
UID:23869-1791111600-1791133200@marktenmeer.nl
SUMMARY:Braderie en vlomarkt Odoorn – 4 oktober 2026
DESCRIPTION:De braderie en vlomarkt in Odoorn op 4 oktober 2026 is een najaarsmarkt waar je rustig langs de kramen kunt struinen. De markt vindt plaats op een van de brinken in het dorp\, wat zorgt voor een open en overzichtelijke setting. Deze markt in Odoorn combineert braderiekramen met tweedehands verkoop\, waardoor het aanbod gevarieerd is. Of je nu iets zoekt of gewoon wilt rondkijken\, de markt biedt een toegankelijke en ontspannen omgeving. \nDe sfeer is gemoedelijk en dorps. Standhouders bieden een mix van producten aan\, van kleding en accessoires tot curiosa\, huisraad en seizoensartikelen. De combinatie van nieuwe en gebruikte artikelen maakt deze braderie en vlomarkt in Odoorn aantrekkelijk voor een breed publiek. In het najaar is het bovendien een moment om een bezoek te combineren met de natuur in de omgeving van de Drentse Hondsrug. \nVoor bezoekers\n\nDatum: zondag 4 oktober 2026\nTijd: 11.00 – 17.00 uur\nLocatie: brink\, Odoorn\nEntree: gratis\nType markt: braderie en vlomarkt\nAanbod: combinatie van nieuwe en tweedehands producten\n\nVoor standhouders\nDeze markt in Odoorn biedt ruimte aan zowel braderiekramen als verkopers op de vlomarkt. Door de combinatie van typen standhouders trekt het evenement een breed publiek. \n\nKraamprijs braderie: €46\,- (incl. 4 meter grondplaats)\nGrondplaats braderie: €7\,- per meter (minimaal 4 meter)\nStroom (230V): €8\,- per aansluiting\nHobbykraam: €30\,- (incl. 4 meter\, voorwaarden van toepassing)\nVlomarkt grondplaats: €3\,- per meter (minimaal 5 meter)\nKraam vlomarkt: €30\,- (optioneel\, reserveren via inschrijving)\nStroom aanwezig: ja\nDoelgroep: breed publiek\, met interesse in markten en tweedehands aanbod\n\nDeze braderie en vlomarkt in Odoorn biedt een toegankelijke en gevarieerde marktdag.
URL:https://marktenmeer.nl/markt/braderie-en-vlomarkt-odoorn-4-oktober-2026/
LOCATION:Odoorn\, Odoorn\, Netherlands
CATEGORIES:Braderie Drenthe,Braderieën,Drenthe,Rommelmarkten,Rommelmarkten Drenthe
END:VEVENT
END:VCALENDAR