BEGIN:VCALENDAR
VERSION:2.0
PRODID:-//Markten en meer - ECPv6.15.20//NONSGML v1.0//EN
CALSCALE:GREGORIAN
METHOD:PUBLISH
X-ORIGINAL-URL:https://marktenmeer.nl
X-WR-CALDESC:Evenementen voor Markten en meer
REFRESH-INTERVAL;VALUE=DURATION:PT1H
X-Robots-Tag:noindex
X-PUBLISHED-TTL:PT1H
BEGIN:VTIMEZONE
TZID:Europe/Amsterdam
BEGIN:DAYLIGHT
TZOFFSETFROM:+0100
TZOFFSETTO:+0200
TZNAME:CEST
DTSTART:20250330T010000
END:DAYLIGHT
BEGIN:STANDARD
TZOFFSETFROM:+0200
TZOFFSETTO:+0100
TZNAME:CET
DTSTART:20251026T010000
END:STANDARD
BEGIN:DAYLIGHT
TZOFFSETFROM:+0100
TZOFFSETTO:+0200
TZNAME:CEST
DTSTART:20260329T010000
END:DAYLIGHT
BEGIN:STANDARD
TZOFFSETFROM:+0200
TZOFFSETTO:+0100
TZNAME:CET
DTSTART:20261025T010000
END:STANDARD
BEGIN:DAYLIGHT
TZOFFSETFROM:+0100
TZOFFSETTO:+0200
TZNAME:CEST
DTSTART:20270328T010000
END:DAYLIGHT
BEGIN:STANDARD
TZOFFSETFROM:+0200
TZOFFSETTO:+0100
TZNAME:CET
DTSTART:20271031T010000
END:STANDARD
END:VTIMEZONE
BEGIN:VEVENT
DTSTART;TZID=Europe/Amsterdam:20261012T070000
DTEND;TZID=Europe/Amsterdam:20261012T200000
DTSTAMP:20260420T042949
CREATED:20260114T125352Z
LAST-MODIFIED:20260328T220701Z
UID:18250-1791788400-1791835200@marktenmeer.nl
SUMMARY:Dwingelermarkt Najaar 2026 – Dwingeloo - Maandag 12 oktober 2026
DESCRIPTION:Op maandag 12 oktober 2026 staat het centrum van Dwingeloo volledig in het teken van de Dwingelermarkt Najaar. Een levendige en veelzijdige markt met kramen verspreid over de hele Brink\, midden in het dorp. \n’s Ochtends begint de dag traditioneel met de Paardenmarkt en een gezellige Kinderochtend voor de jongste bezoekers. Op de kleine Brink draait de kermis al volop\, die ook het weekend ervoor geopend is. In de loop van de middag is er een leuke activiteit voor (jong)volwassenen en richting het einde van de dag verplaatst de gezelligheid zich naar de lokale cafés voor een ontspannen borrel. \nDe Dwingelermarkt is een echte dorpsklassieker: laagdrempelig\, sfeervol en geschikt voor alle leeftijden. Een perfecte dag om te struinen\, bij te praten en het najaar in Drenthe te vieren. \nPraktische informatie\n\n📅 Datum: maandag 12 oktober 2026\n⏰ Tijd: 07:00 – 20:00 uur\n📍 Locatie: Brink\, 7991 CH Dwingeloo\n🎠 Extra’s: Paardenmarkt\, kinderochtend & kermis\n🎟️ Toegang: gratis
URL:https://marktenmeer.nl/markt/dwingelermarkt-najaar-2026-dwingeloo/
LOCATION:Dwingeloo\, Dwingeloo\, Netherlands
CATEGORIES:Braderie Drenthe,Braderieën,Drenthe
END:VEVENT
END:VCALENDAR