BEGIN:VCALENDAR
VERSION:2.0
PRODID:-//Markten en meer - ECPv6.15.20//NONSGML v1.0//EN
CALSCALE:GREGORIAN
METHOD:PUBLISH
X-ORIGINAL-URL:https://marktenmeer.nl
X-WR-CALDESC:Evenementen voor Markten en meer
REFRESH-INTERVAL;VALUE=DURATION:PT1H
X-Robots-Tag:noindex
X-PUBLISHED-TTL:PT1H
BEGIN:VTIMEZONE
TZID:Europe/Amsterdam
BEGIN:DAYLIGHT
TZOFFSETFROM:+0100
TZOFFSETTO:+0200
TZNAME:CEST
DTSTART:20250330T010000
END:DAYLIGHT
BEGIN:STANDARD
TZOFFSETFROM:+0200
TZOFFSETTO:+0100
TZNAME:CET
DTSTART:20251026T010000
END:STANDARD
BEGIN:DAYLIGHT
TZOFFSETFROM:+0100
TZOFFSETTO:+0200
TZNAME:CEST
DTSTART:20260329T010000
END:DAYLIGHT
BEGIN:STANDARD
TZOFFSETFROM:+0200
TZOFFSETTO:+0100
TZNAME:CET
DTSTART:20261025T010000
END:STANDARD
BEGIN:DAYLIGHT
TZOFFSETFROM:+0100
TZOFFSETTO:+0200
TZNAME:CEST
DTSTART:20270328T010000
END:DAYLIGHT
BEGIN:STANDARD
TZOFFSETFROM:+0200
TZOFFSETTO:+0100
TZNAME:CET
DTSTART:20271031T010000
END:STANDARD
END:VTIMEZONE
BEGIN:VEVENT
DTSTART;TZID=Europe/Amsterdam:20260422T100000
DTEND;TZID=Europe/Amsterdam:20260422T170000
DTSTAMP:20260419T171436
CREATED:20260209T065814Z
LAST-MODIFIED:20260328T220841Z
UID:19370-1776852000-1776877200@marktenmeer.nl
SUMMARY:Braderie Voorjaarsmarkt Centrum Assen | Woensdag 22 april 2026 – Assen
DESCRIPTION:Op woensdag 22 april 2026 vindt de Braderie Voorjaarsmarkt Centrum Assen plaats in het hart van Assen. Van 10.00 tot 17.00 uur staat het centrum van Assen in het teken van een toegankelijke en levendige braderie\, waar bezoekers kunnen struinen langs een gevarieerd aanbod aan producten en diensten. \nDe voorjaarsmarkt sluit perfect aan bij het winkelend publiek in het centrum. Bezoekers combineren een dagje winkelen met een rondje over de braderie\, wat zorgt voor een constante aanloop en een prettige dynamiek. Dat maakt deze markt interessant voor ondernemers die hun aanbod zichtbaar willen presenteren aan een breed publiek. \nDe braderie wordt georganiseerd door Organisatieburo Wildro\, een ervaren organisator van braderieën en markten in heel Nederland. De opzet is overzichtelijk en praktisch\, met ruimte voor zowel vaste kramen als grondplaatsen. \nPraktische informatie\n\nDatum: woensdag 22 april 2026\nTijd: 10.00 – 17.00 uur\nLocatie: Centrum Assen\nType markt: braderie\n\nInformatie voor standhouders\n\nGrondplaats: € 6\,00 per strekkende meter\nKraam: € 50\,00 per kraam (excl. btw\, incl. grondplaats)\n\n(Over grondplaatsen wordt geen btw berekend)
URL:https://marktenmeer.nl/markt/braderie-voorjaarsmarkt-centrum-assen-22-april-2026/
LOCATION:Assen\, Assen\, Netherlands
CATEGORIES:Braderie Drenthe,Braderieën,Drenthe
END:VEVENT
BEGIN:VEVENT
DTSTART;TZID=Europe/Amsterdam:20260425T110000
DTEND;TZID=Europe/Amsterdam:20260425T170000
DTSTAMP:20260419T171436
CREATED:20260329T072304Z
LAST-MODIFIED:20260329T072304Z
UID:23871-1777114800-1777136400@marktenmeer.nl
SUMMARY:Braderie en vlomarkt Borger – 25 april 2026
DESCRIPTION:De braderie en vlomarkt in Borger op 25 april 2026 is een toegankelijke markt waar je op je gemak langs de kramen kunt struinen. In dit dorp op de Hondsrug vind je een combinatie van braderiekramen en tweedehands verkoop\, wat zorgt voor een gevarieerd aanbod. Deze markt in Borger is geschikt voor bezoekers die iets willen kopen\, maar ook voor wie gewoon wil rondkijken. Door de overzichtelijke opzet is het een prettige plek om een paar uur door te brengen. \nDe sfeer is gemoedelijk en dorps. Standhouders bieden een mix van producten aan\, van kleding en accessoires tot curiosa\, huisraad en kleine vondsten. De combinatie van nieuwe en gebruikte artikelen maakt deze braderie en vlomarkt in Borger aantrekkelijk voor een breed publiek. Door de ligging in de omgeving van de Hondsrug is het bovendien goed te combineren met een wandeling of fietstocht. \nVoor bezoekers\n\nDatum: zaterdag 25 april 2026\nTijd: 11.00 – 17.00 uur\nLocatie: centrum Borger\nEntree: gratis\nType markt: braderie en vlomarkt\nAanbod: combinatie van nieuwe en tweedehands producten\n\nVoor standhouders\nDeze markt in Borger biedt ruimte aan zowel braderiekramen als verkopers op de vlomarkt. Door de combinatie van typen standhouders trekt het evenement een breed publiek. \n\nKraamprijs braderie: €46\,- (incl. 4 meter grondplaats)\nGrondplaats braderie: €7\,- per meter (minimaal 4 meter)\nStroom (230V): €8\,- per aansluiting\nHobbykraam: €30\,- (incl. 4 meter\, voorwaarden van toepassing)\nVlomarkt grondplaats: €3\,- per meter (minimaal 5 meter)\nKraam vlomarkt: €30\,- (optioneel\, reserveren via inschrijving)\nStroom aanwezig: ja\nDoelgroep: breed publiek\, met interesse in markten en tweedehands aanbod\n\nDeze braderie en vlomarkt in Borger biedt een toegankelijke en gevarieerde marktdag.
URL:https://marktenmeer.nl/markt/braderie-en-vlomarkt-borger-25-april-2026/
LOCATION:Borger\, Borger\, Netherlands
CATEGORIES:Braderie Drenthe,Braderieën,Drenthe,Rommelmarkten,Rommelmarkten Drenthe
END:VEVENT
BEGIN:VEVENT
DTSTART;TZID=Europe/Amsterdam:20260425T120000
DTEND;TZID=Europe/Amsterdam:20260425T170000
DTSTAMP:20260419T171436
CREATED:20260319T105845Z
LAST-MODIFIED:20260328T220841Z
UID:23173-1777118400-1777136400@marktenmeer.nl
SUMMARY:Open Dag & Lentefair Wapse – 25 april 2026
DESCRIPTION:De open dag en lentefair bij Uniek Paard & Natuur in Wapse is een combinatie van markt\, activiteiten en kennismaking met de locatie. Op zaterdag 25 april vindt dit evenement plaats en biedt het bezoekers een laagdrempelige manier om de omgeving te ontdekken. Deze markt in Wapse is gericht op gezinnen en geïnteresseerden in natuur\, dieren en buitenactiviteiten. \nDe sfeer is ontspannen en actief\, met ruimte om rond te kijken bij de kraampjes en deel te nemen aan activiteiten. Bezoekers kunnen genieten van een hapje en drankje terwijl ze kennismaken met de dagbestedingslocatie en het aanbod van de fair. \nVoor bezoekers\n\nDatum: zaterdag 25 april 2026\nTijd: 12:00 – 17:00 uur\nPlaats: Wapse\nLocatie: Midden 142\nType markt: lentefair / open dag\n\nTijdens de dag zijn er activiteiten\, stands en mogelijkheden om kennis te maken met de locatie en haar werkzaamheden. \nVoor standhouders\nDe combinatie van open dag en markt zorgt voor een betrokken publiek dat langer aanwezig blijft\, wat kansen biedt voor standhouders. \nDeze markt biedt een combinatie van beleving en verkoop in een natuurlijke omgeving.
URL:https://marktenmeer.nl/markt/open-dag-lentefair-wapse-25-april-2026/
LOCATION:Wapse\, Wapse\, Netherlands
CATEGORIES:Drenthe,Fair Drenthe,Fairs
END:VEVENT
BEGIN:VEVENT
DTSTART;TZID=Europe/Amsterdam:20260426T110000
DTEND;TZID=Europe/Amsterdam:20260426T170000
DTSTAMP:20260419T171436
CREATED:20260401T104415Z
LAST-MODIFIED:20260401T104415Z
UID:24251-1777201200-1777222800@marktenmeer.nl
SUMMARY:Struunmarkt Diever – 26 april
DESCRIPTION:De Struunmarkt in Diever is een levendige markt waar een braderie en vlooienmarkt samenkomen. Dit evenement biedt bezoekers een gevarieerd aanbod en een ontspannen sfeer in en rondom het centrum. De markt in Diever trekt zowel koopjeszoekers als liefhebbers van unieke vondsten. Of je nu komt om gericht te zoeken of gewoon wilt rondstruinen\, deze markt biedt voor ieder wat wils. \nWat deze markt bijzonder maakt\, is de combinatie van nieuwe en tweedehands artikelen. Je loopt langs kramen met kleding\, accessoires en woondecoratie\, maar ook langs plekken waar tweedehands spullen en curiosa worden aangeboden. Die mix zorgt voor afwisseling en maakt het struinen extra leuk. De sfeer is gemoedelijk en uitnodigend\, waardoor bezoekers vaak langer blijven hangen. \nVoor bezoekers\n\nDatum: zondag 26 april\nTijd: 11:00 – 17:00 uur\nLocatie: centrum van Diever\nType markt: braderie en vlooienmarkt\nAanbod: mix van nieuwe producten\, tweedehands spullen\, curiosa en food\nSfeer: ontspannen\, gevarieerd en toegankelijk\n\nVoor standhouders\n\nKraamprijs: €50\,00 (inclusief grondplaats en btw)\nGrondplaats: €6\,50 per meter\nVlomarkt: €3\,00 per meter\nStroom: op aanvraag\nFood: toegestaan op aanvraag\nDoelgroep: breed publiek\, koopjeszoekers en dagjesmensen\n\nAanmelden gaat via de marktlijst. Vink de gewenste markt(en) aan\, vul je gegevens in en verzend je aanvraag. Je ontvangt daarna een bevestiging of annulering. Zonder bevestiging is deelname niet definitief. \nBetaling vindt contant plaats op de markt. Je ontvangt een kwitantie. Door deelname ga je akkoord met de geldende voorwaarden. \nEen toegankelijke markt waar nieuw en tweedehands aanbod samenkomt.
URL:https://marktenmeer.nl/markt/struunnmarkt-diever-26-april/
LOCATION:Diever\, Diever\, Netherlands
CATEGORIES:Braderie Drenthe,Braderieën,Drenthe,Rommelmarkten,Rommelmarkten Drenthe
END:VEVENT
BEGIN:VEVENT
DTSTART;VALUE=DATE:20260427
DTEND;VALUE=DATE:20260428
DTSTAMP:20260419T171436
CREATED:20260309T084053Z
LAST-MODIFIED:20260328T220841Z
UID:21875-1777248000-1777334399@marktenmeer.nl
SUMMARY:Koningsdag Meppel – Vrijmarkt\, Straattheater en Live Muziek – 27 april 2026
DESCRIPTION:Op maandag 27 april 2026 wordt Koningsdag in Meppel uitgebreid gevierd met een groot programma in het centrum van de stad. De dag begint met een kinder vrijmarkt in de Brede Woldstraat en de traditionele aubade op het Kerkplein. Daarna volgen door de hele binnenstad verschillende activiteiten zoals straattheater\, muziekoptredens en dj’s op meerdere pleinen. \nVerspreid over locaties zoals het Kerkplein\, De Wheem\, Groenmarkt\, Prinsenplein en de Stoombootkade vinden optredens en activiteiten plaats. Hierdoor verandert het centrum van Meppel de hele dag in een levendig Koningsdagfeest voor jong en oud. \nProgramma Koningsdag Meppel\n08:00 uur – Kinder VrijmarktBrede WoldstraatKinderen verkopen hier hun tweedehands spullen vanaf een kleed op de grond. \n09:30 uur – AubadeKerkpleinDe officiële start van Koningsdag met muziek\, het Koningslied en de opening door burgemeester Arjen Maathuis. De aubade wordt live uitgezonden via RTV Meppel. \nVanaf 11:00 uur – StraattheaterOp verschillende straten en pleinen in het centrum treden diverse straatartiesten op. \nVanaf 14:00 uur – Live muziek en dj’sOptredens en muziek op meerdere locaties in het centrum\, waaronder het Kerkplein\, De Wheem\, Groenmarkt\, Prinsenplein en de Stoombootkade. \nVoor bezoekers\nKoningsdag in Meppel biedt een uitgebreid programma met activiteiten voor alle leeftijden. \nPraktische informatie: \n\nDatum: maandag 27 april 2026\nPlaats: Meppel\nLocaties: centrum van Meppel (o.a. Brede Woldstraat\, Kerkplein\, De Wheem\, Groenmarkt\, Prinsenplein en Stoombootkade)\nEntree: gratis\n\nBezoekers kunnen door het centrum wandelen en genieten van muziek\, straattheater en de vrijmarkt. \nKinder vrijmarkt\nDe kinder vrijmarkt vindt plaats in de Brede Woldstraat. \nPraktische informatie: \n\nOpbouw: vanaf 08:00 uur\nAfbouw: tussen 13:00 en 13:30 uur\nDeelnemers: kinderen van 7 t/m 12 jaar\nVerkoop: vanaf een kleed of plastic op de grond\nMaximale ruimte: 2 meter breed en 1\,5 meter diep\nMaximale prijs per artikel: €10\n\nKramen\, rekken of andere grote verkoopmiddelen zijn niet toegestaan. De organisatie wijst de plekken aan en verkeersregelaars zijn aanwezig. \nKoningsdag in Meppel is een dag met markten\, muziek en activiteiten verspreid door het centrum van de stad.
URL:https://marktenmeer.nl/markt/koningsdag-meppel-2026/
LOCATION:Meppel\, Meppel\, Netherlands
CATEGORIES:Braderie Drenthe,Braderieën,Drenthe,Rommelmarkten,Rommelmarkten Drenthe
END:VEVENT
BEGIN:VEVENT
DTSTART;TZID=Europe/Amsterdam:20260427T080000
DTEND;TZID=Europe/Amsterdam:20260427T140000
DTSTAMP:20260419T171436
CREATED:20260410T091338Z
LAST-MODIFIED:20260410T091338Z
UID:25376-1777276800-1777298400@marktenmeer.nl
SUMMARY:Koningsvrijmarkt Erica – 27 april 2026
DESCRIPTION:De Koningsvrijmarkt in Erica is een toegankelijke en gezellige markt in het centrum\, georganiseerd tijdens Koningsdag. Op maandag 27 april 2026 kunnen bezoekers van 08.00 tot 14.00 uur rondstruinen langs kramen en kleedjes\, met een mix van tweedehands spullen en lokale verkoop. De markt vindt plaats in het centrum van Erica en heeft een laagdrempelig karakter voor jong en oud. \nNaast de vrijmarkt zijn er extra activiteiten\, waaronder een springkussen\, wat het evenement geschikt maakt voor gezinnen en een breder publiek. \nVoor bezoekers\n\nDatum: maandag 27 april 2026\nTijd: 08.00 – 14.00 uur\nLocatie: centrum Erica (o.a. Havenstraat 28a)\nType markt: vrijmarkt / rommelmarkt\nEntree: gratis\nAanbod: tweedehands spullen\, lokale verkoop\nExtra: springkussen en activiteiten\n\nDe markt is compact en goed te combineren met een bezoek aan het centrum. \nVoor standhouders\nDe Koningsvrijmarkt biedt ruimte aan zowel kraamhouders als particulieren met een kleedje. \n\nType plaats: kraam of kleedje\nKraamprijs: €25\,-\nKleedje: gratis\nDoelgroep: gezinnen\, lokale bezoekers\n\nAanmelden: \n\nInschrijven mogelijk tot zondag 20 april 2026\n\nDoor de combinatie van betaalde kramen en gratis kleedjes is deelname toegankelijk voor verschillende soorten verkopers. \nSfeer en aanbod\nDe Koningsvrijmarkt in Erica heeft een dorps en overzichtelijk karakter. Het aanbod bestaat uit een mix van particuliere verkoop en kleine handel\, aangevuld met activiteiten voor kinderen. Dit zorgt voor een informele en ontspannen sfeer gedurende de ochtend en middag. \nEen laagdrempelige en gezellige vrijmarkt in het centrum van Erica tijdens Koningsdag.
URL:https://marktenmeer.nl/markt/koningsvrijmarkt-erica-2026/
LOCATION:Erica\, Erica
CATEGORIES:Drenthe,Koningsdag,Rommelmarkten,Rommelmarkten Drenthe
END:VEVENT
BEGIN:VEVENT
DTSTART;TZID=Europe/Amsterdam:20260427T100000
DTEND;TZID=Europe/Amsterdam:20260427T170000
DTSTAMP:20260419T171436
CREATED:20251114T104654Z
LAST-MODIFIED:20260328T220841Z
UID:14377-1777284000-1777309200@marktenmeer.nl
SUMMARY:koningsdag Braderie & Vlooienmarkt – Wielewaal Hoogeveen – 27 april 2026
DESCRIPTION:Op Koningsdag 27 april 2026 kun je in Wielewaal Hoogeveen van 10:00 tot 17:00 uur terecht voor markt en activiteiten. \nLocatie: Wielewaal\, Hoogeveen
URL:https://marktenmeer.nl/markt/koningsdag-braderie-vlooienmarkt-wielewaal-hoogeveen-27-april-2026/
LOCATION:Hoogeveen\, Hoogeveen\, Netherlands
CATEGORIES:Drenthe,Rommelmarkten
END:VEVENT
BEGIN:VEVENT
DTSTART;TZID=Europe/Amsterdam:20260427T100000
DTEND;TZID=Europe/Amsterdam:20260427T170000
DTSTAMP:20260419T171436
CREATED:20251114T104824Z
LAST-MODIFIED:20260328T220841Z
UID:14379-1777284000-1777309200@marktenmeer.nl
SUMMARY:Braderie en Vlooienmarkt Koningsdag Hoogeveen – 27 april 2026
DESCRIPTION:Op maandag 27 april 2026 vindt in het centrum van Hoogeveen de Braderie en Vlooienmarkt Koningsdag plaats. Deze markt in Hoogeveen duurt van 10.00 tot 17.00 uur en combineert een braderie met een vlooienmarkt tijdens Koningsdag. \nDe braderie en vlooienmarkt in het centrum van Hoogeveen zorgen voor een levendige invulling van Koningsdag. Verspreid door het centrum staan kramen en grondplaatsen met een gevarieerd aanbod. Bezoekers kunnen langs stands wandelen met handelswaar\, tweedehands artikelen en andere producten\, passend bij de sfeer van deze feestdag. \nVoor bezoekers\n\nDatum: maandag 27 april 2026\nTijd: 10.00 – 17.00 uur\nLocatie: Centrum\, Hoogeveen\nType evenement: Braderie en Vlooienmarkt\nEntree: vrij toegankelijk\n\nDe markt is geschikt voor bezoekers die Koningsdag willen combineren met een bezoek aan een braderie en vlooienmarkt in het centrum. \nVoor standhouders\nDe markt biedt mogelijkheden voor zowel commerciële deelnemers (braderie) als particulieren (vlooienmarkt). \nBraderie\n\nGrondplaats: € 6\,00 per strekkende meter\nKraam: € 45\,00 per kraam (excl. btw\, incl. grondplaats)\n\nVlooienmarkt\n\nGrondplaats: € 3\,00 per strekkende meter\nKraam: € 30\,00 per kraam (incl. grondplaats)\n\nOver grondplaatsen wordt geen btw berekend. \n\nInschrijven kan via de organisatie van het evenement.
URL:https://marktenmeer.nl/markt/koningsdag-braderie-vlooienmarkt-centrum-hoogeveen-27-april-2026/
LOCATION:Hoogeveen\, Hoogeveen\, Netherlands
CATEGORIES:Braderie Drenthe,Braderieën,Drenthe,Rommelmarkten,Rommelmarkten Drenthe
END:VEVENT
END:VCALENDAR