BEGIN:VCALENDAR
VERSION:2.0
PRODID:-//Markten en meer - ECPv6.15.20//NONSGML v1.0//EN
CALSCALE:GREGORIAN
METHOD:PUBLISH
X-ORIGINAL-URL:https://marktenmeer.nl
X-WR-CALDESC:Evenementen voor Markten en meer
REFRESH-INTERVAL;VALUE=DURATION:PT1H
X-Robots-Tag:noindex
X-PUBLISHED-TTL:PT1H
BEGIN:VTIMEZONE
TZID:Europe/Amsterdam
BEGIN:DAYLIGHT
TZOFFSETFROM:+0100
TZOFFSETTO:+0200
TZNAME:CEST
DTSTART:20250330T010000
END:DAYLIGHT
BEGIN:STANDARD
TZOFFSETFROM:+0200
TZOFFSETTO:+0100
TZNAME:CET
DTSTART:20251026T010000
END:STANDARD
BEGIN:DAYLIGHT
TZOFFSETFROM:+0100
TZOFFSETTO:+0200
TZNAME:CEST
DTSTART:20260329T010000
END:DAYLIGHT
BEGIN:STANDARD
TZOFFSETFROM:+0200
TZOFFSETTO:+0100
TZNAME:CET
DTSTART:20261025T010000
END:STANDARD
BEGIN:DAYLIGHT
TZOFFSETFROM:+0100
TZOFFSETTO:+0200
TZNAME:CEST
DTSTART:20270328T010000
END:DAYLIGHT
BEGIN:STANDARD
TZOFFSETFROM:+0200
TZOFFSETTO:+0100
TZNAME:CET
DTSTART:20271031T010000
END:STANDARD
END:VTIMEZONE
BEGIN:VEVENT
DTSTART;VALUE=DATE:20261219
DTEND;VALUE=DATE:20261221
DTSTAMP:20260420T090949
CREATED:20251220T102333Z
LAST-MODIFIED:20260328T220700Z
UID:17207-1797638400-1797811199@marktenmeer.nl
SUMMARY:Kerstmarkt Orvelte 19 & 20 december 2026 | Feestdagen sfeer
DESCRIPTION:Het tweede kerstweekend van zaterdag 19 en zondag 20 december 2026 is hét moment om helemaal in feestdagensfeer te komen in Orvelte. Deze editie van de Kerstmarkt sluit perfect aan bij de laatste voorbereidingen voor kerst. \nDe markt biedt een gevarieerd aanbod van brocante\, decoratie\, cadeaus en sfeervolle woonitems. Bezoekers vinden hier unieke stukken die je niet in reguliere winkels tegenkomt. Door de opzet van het dorp voelt de markt overzichtelijk en ontspannen\, met volop ruimte om rustig te struinen. \nDe winterse aankleding en het historische karakter van Orvelte zorgen voor een warme\, authentieke beleving. Deze kerstmarkt is ideaal voor wie op zoek is naar inspiratie\, bijzondere cadeaus en een gezellige dag uit vlak voor de feestdagen.
URL:https://marktenmeer.nl/markt/kerstmarkt-orvelte-19-20-december-2026/
LOCATION:Orvelte\, Orvelte\, Netherlands
CATEGORIES:Drenthe,Kerstmarkt Drenthe,Kerstmarkten
END:VEVENT
BEGIN:VEVENT
DTSTART;TZID=Europe/Amsterdam:20261219T133000
DTEND;TZID=Europe/Amsterdam:20261219T183000
DTSTAMP:20260420T090949
CREATED:20260302T112041Z
LAST-MODIFIED:20260328T220700Z
UID:21065-1797687000-1797705000@marktenmeer.nl
SUMMARY:Dickens Brink Festijn Havelte – 19 december 2026
DESCRIPTION:Op zaterdag 19 december 2026 vindt het Dickens Brink Festijn plaats in Havelte. Deze kerstmarkt in Havelte wordt georganiseerd op de authentieke Brink aan de Dorpsstraat en staat volledig in het teken van een nostalgische Dickens-sfeer. Het evenement beleeft in 2026 zijn 18e editie. \nVan 13:30 tot 18:30 uur verandert de Brink in een sfeervolle kerstmarkt met circa 80 kramen. De combinatie van historische aankleding\, winterse producten en straatacts zorgt voor een warme en herkenbare kerstsfeer waar bezoekers van heinde en verre op afkomen. \nVoor bezoekers\n\nType evenement: kerstmarkt (Dickens-thema)\nPlaats: Havelte\nDatum: zaterdag 19 december 2026\nTijd: 13:30 – 18:30 uur\nLocatie: De Brink\, Dorpsstraat Havelte\nAantal kramen: circa 80\nToegang: gratis\n\nWat kun je verwachten: \n\nKerstkramen met cadeaus en winterse producten\nDickens-figuren en historische sfeer\nDickens kinderplein\nBezoek van de Holtinger Schaapskudde via de Havelter Schapendrift\n\nDe markt is geschikt voor gezinnen\, liefhebbers van historische evenementen en bezoekers die op zoek zijn naar een sfeervolle decemberactiviteit. \nBereikbaarheid\nHavelte ligt op ongeveer 135 kilometer van Utrecht. Met de auto bedraagt de reistijd circa 1 uur en 30 minuten\, afhankelijk van het verkeer. \nHet Dickens Brink Festijn in Havelte op 19 december 2026 biedt een eendaagse kerstmarkt in een historische dorpssetting.
URL:https://marktenmeer.nl/markt/dickens-brink-festijn-havelte-19-december-2026/
LOCATION:Havelte\, Havelte\, Netherlands
CATEGORIES:Drenthe,Kerstmarkt Drenthe,Kerstmarkten
END:VEVENT
BEGIN:VEVENT
DTSTART;TZID=Europe/Amsterdam:20261220T100000
DTEND;TZID=Europe/Amsterdam:20261220T170000
DTSTAMP:20260420T090949
CREATED:20251126T084549Z
LAST-MODIFIED:20260328T220700Z
UID:15693-1797760800-1797786000@marktenmeer.nl
SUMMARY:Platenbeurs – Hoogeveen - 20 december 2026
DESCRIPTION:De platenbeurs in theater De Tamboer op 20 december 2026 vormt een sfeervolle afsluiting van het beursjaar. De warme setting van het theater\, gecombineerd met een enthousiast publiek\, zorgt voor een toegankelijke en inspirerende editie. \nBezoekers vinden lp’s\, singles\, cd’s en memorabilia in een breed scala aan genres. Door de timing vlak voor kerst worden hier veel cadeaus gekocht.
URL:https://marktenmeer.nl/markt/platenbeurs-hoogeveen-20-december-2026/
LOCATION:Tamboer\, Hoogeveen\, Hoofdstraat 17\, Hoogeveen\, Netherlands
CATEGORIES:Drenthe,Platenbeurs,platenbeurzen drenthe
ORGANIZER;CN="Variaworld":MAILTO:info@variaworld.nl
END:VEVENT
BEGIN:VEVENT
DTSTART;TZID=Europe/Amsterdam:20261226T100000
DTEND;TZID=Europe/Amsterdam:20261226T163000
DTSTAMP:20260420T090949
CREATED:20260407T124721Z
LAST-MODIFIED:20260407T124721Z
UID:25010-1798279200-1798302600@marktenmeer.nl
SUMMARY:Eelde Flowerdome vlooienmarkt – vlooienmarkt in Eelde (26 december 2026)
DESCRIPTION:De Flowerdome vlooienmarkt in Eelde is een bekende overdekte vlooienmarkt met een lange traditie. Op zaterdag 26 december 2026 (2e kerstdag) kun je hier op zoek naar tweedehands spullen\, antiek\, brocante\, vintage\, kleding en vinyl. Deze markt in Eelde vindt plaats in een ruime hal en is daardoor ongeacht het weer goed te bezoeken. Met een groot oppervlak en een gevarieerd aanbod is dit een populaire editie tijdens de feestdagen. \nDe Flowerdome (voorheen veilinghallen) biedt een overzichtelijke en ruime opzet. Tijdens speciale dagen zoals 2e kerstdag wordt de vlooienmarkt aangevuld met een braderiegedeelte in de entreehal. De combinatie van binnenlocatie\, horeca en praktische voorzieningen zoals gratis parkeren maakt deze markt geschikt voor een dagje uit in de winterperiode. \nVoor bezoekers\n\nType markt: vlooienmarkt en braderie (overdekt)\nPlaats: Eelde\nDatum: zaterdag 26 december 2026\nTijd: 10.00 – 16.30 uur\nVroege toegang: vanaf 08.00 uur (betaald)\nLocatie: Flowerdome\, Burg. J.G. Legroweg 80\, 9761 TD Eelde\nEntree: €4 (kinderen t/m 13 jaar gratis)\nParkeren: gratis\n\nVoor standhouders\n\nReserveren: noodzakelijk\n\nVlooienmarkt: \n\nStandplaats per 6 meter: €22\,50\nExtra tafel (4 meter): €10\n\nBraderie: \n\nStandplaats 4 meter: €37\,50\nExtra meters: €6\,50 per meter\nKraam (4 meter met bovenbouw): €52\,50 (extra kraam €41)\nDiepte standplaats: 2\,5 meter\nFood toegestaan: nee (horeca via locatie)\nOpbouw: 07.30 – 09.30 uur\n\nStandhouders kunnen tijdens het opbouwen met de auto naar binnen rijden om te lossen. Daarna wordt de auto buiten geparkeerd. Het is belangrijk dat de standplaats schoon wordt achtergelaten en tot het einde van de markt bemand blijft. \nDe Flowerdome vlooienmarkt in Eelde biedt een ruime\, overdekte locatie met een gevarieerd aanbod en praktische voorzieningen.
URL:https://marktenmeer.nl/markt/flowerdome-eelde-vlooienmarkt-26-december-2026/
LOCATION:Flowerdome\, Eelde\, Burg. J.G. Legroweg 80\, Eelde\, Netherlands
CATEGORIES:Braderie Drenthe,Braderieën,Drenthe,Rommelmarkten,Rommelmarkten Drenthe
END:VEVENT
END:VCALENDAR