BEGIN:VCALENDAR
VERSION:2.0
PRODID:-//Markten en meer - ECPv6.15.20//NONSGML v1.0//EN
CALSCALE:GREGORIAN
METHOD:PUBLISH
X-WR-CALNAME:Markten en meer
X-ORIGINAL-URL:https://marktenmeer.nl
X-WR-CALDESC:Evenementen voor Markten en meer
REFRESH-INTERVAL;VALUE=DURATION:PT1H
X-Robots-Tag:noindex
X-PUBLISHED-TTL:PT1H
BEGIN:VTIMEZONE
TZID:Europe/Amsterdam
BEGIN:DAYLIGHT
TZOFFSETFROM:+0100
TZOFFSETTO:+0200
TZNAME:CEST
DTSTART:20250330T010000
END:DAYLIGHT
BEGIN:STANDARD
TZOFFSETFROM:+0200
TZOFFSETTO:+0100
TZNAME:CET
DTSTART:20251026T010000
END:STANDARD
BEGIN:DAYLIGHT
TZOFFSETFROM:+0100
TZOFFSETTO:+0200
TZNAME:CEST
DTSTART:20260329T010000
END:DAYLIGHT
BEGIN:STANDARD
TZOFFSETFROM:+0200
TZOFFSETTO:+0100
TZNAME:CET
DTSTART:20261025T010000
END:STANDARD
BEGIN:DAYLIGHT
TZOFFSETFROM:+0100
TZOFFSETTO:+0200
TZNAME:CEST
DTSTART:20270328T010000
END:DAYLIGHT
BEGIN:STANDARD
TZOFFSETFROM:+0200
TZOFFSETTO:+0100
TZNAME:CET
DTSTART:20271031T010000
END:STANDARD
END:VTIMEZONE
BEGIN:VEVENT
DTSTART;TZID=Europe/Amsterdam:20261017T080000
DTEND;TZID=Europe/Amsterdam:20261017T170000
DTSTAMP:20260421T200440
CREATED:20251212T102511Z
LAST-MODIFIED:20260403T193313Z
UID:16463-1792224000-1792256400@marktenmeer.nl
SUMMARY:Herfstmarkt Eemhof Center Parcs – zaterdag 17 oktober 2026
DESCRIPTION:Tijdens de herfstvakantie\, op zaterdag 17 oktober\, vindt de Herfstmarkt plaats bij Center Parcs De Eemhof in Zeewolde. Deze markt is een geliefd uitje voor zowel vakantiegangers als bezoekers uit de regio. De markt ligt midden op het park en ademt een ontspannen vakantiesfeer. Je loopt langs kramen met mode\, woondecoratie\, cadeaus\, handgemaakte producten en leuke herfstitems. \nBezoekers combineren hun marktbezoek vaak met een dagje uit op het park. Dat maakt deze markt extra aantrekkelijk voor gezinnen. Kinderen vermaken zich op het park\, terwijl volwassenen rustig rondkijken bij de kraampjes. Door de ruime opzet voelt het nergens te druk aan en kun je alles goed bekijken. \nDe herfstmarkt is ideaal voor wie inspiratie zoekt voor het nieuwe seizoen of gewoon zin heeft in een gezellige dag buiten de deur. De warme sfeer\, het diverse aanbod en de mooie omgeving maken dit een markt waar je graag wat langer blijft hangen.
URL:https://marktenmeer.nl/markt/herfstmarkt-eemhof-17-oktober-2026/
LOCATION:Center Parcs De Eemhof\, Zeewolde\, Slingerweg 1\, Eemhof\, Netherlands
CATEGORIES:Braderie Flevoland,Braderieën,Campingmarkten,Campingmarkten Flevoland,Flevoland
END:VEVENT
BEGIN:VEVENT
DTSTART;TZID=Europe/Amsterdam:20261017T100000
DTEND;TZID=Europe/Amsterdam:20261017T170000
DTSTAMP:20260421T200440
CREATED:20260228T131415Z
LAST-MODIFIED:20260328T225435Z
UID:20822-1792231200-1792256400@marktenmeer.nl
SUMMARY:Herfstmarkt Zeewolde – 17 oktober 2026
DESCRIPTION:Op zaterdag 17 oktober 2026 vindt in het centrum van Zeewolde de Herfstmarkt Zeewolde 2026 plaats. Van 10:00 tot 17:00 uur staat de Raadhuisstraat in het teken van deze najaarsbraderie. \nDe Herfstmarkt in Zeewolde is een markt in het najaar waarbij het centrum wordt gevuld met diverse kramen. Bezoekers kunnen de markt combineren met een bezoek aan de winkels en horeca in het centrum. \nWanneer is de Herfstmarkt Zeewolde 2026?\n\nDatum: zaterdag 17 oktober 2026\nTijd: 10:00 – 17:00 uur\n\nWaar vindt de markt plaats?\n\nLocatie: Raadhuisstraat 31\nPostcode: 3891 EB Zeewolde\nGebied: centrum Zeewolde\n\nDe markt wordt georganiseerd in het winkelgebied van het centrum. \nWat kun je verwachten?\n\nNajaarsbraderie in het centrum\nDiverse marktkramen\nMarkt in combinatie met centrumwinkels\n\nNadere informatie over de invulling van de markt wordt later bekendgemaakt. \n\nVoor standhouders\nStandplaatsen dienen vooraf gereserveerd te worden. \n\nKraam (4 meter): € 70\,00\nGrondplaats: € 12\,50 per meter\nKraamhuur los: € 50\,00\nStroom: € 0\,00
URL:https://marktenmeer.nl/markt/herfstmarkt-zeewolde-2026/
LOCATION:Zeewolde\, Zeewolde\, Netherlands
CATEGORIES:Braderie Flevoland,Braderieën,Flevoland
END:VEVENT
END:VCALENDAR