BEGIN:VCALENDAR
VERSION:2.0
PRODID:-//Markten en meer - ECPv6.15.20//NONSGML v1.0//EN
CALSCALE:GREGORIAN
METHOD:PUBLISH
X-WR-CALNAME:Markten en meer
X-ORIGINAL-URL:https://marktenmeer.nl
X-WR-CALDESC:Evenementen voor Markten en meer
REFRESH-INTERVAL;VALUE=DURATION:PT1H
X-Robots-Tag:noindex
X-PUBLISHED-TTL:PT1H
BEGIN:VTIMEZONE
TZID:Europe/Amsterdam
BEGIN:DAYLIGHT
TZOFFSETFROM:+0100
TZOFFSETTO:+0200
TZNAME:CEST
DTSTART:20250330T010000
END:DAYLIGHT
BEGIN:STANDARD
TZOFFSETFROM:+0200
TZOFFSETTO:+0100
TZNAME:CET
DTSTART:20251026T010000
END:STANDARD
BEGIN:DAYLIGHT
TZOFFSETFROM:+0100
TZOFFSETTO:+0200
TZNAME:CEST
DTSTART:20260329T010000
END:DAYLIGHT
BEGIN:STANDARD
TZOFFSETFROM:+0200
TZOFFSETTO:+0100
TZNAME:CET
DTSTART:20261025T010000
END:STANDARD
BEGIN:DAYLIGHT
TZOFFSETFROM:+0100
TZOFFSETTO:+0200
TZNAME:CEST
DTSTART:20270328T010000
END:DAYLIGHT
BEGIN:STANDARD
TZOFFSETFROM:+0200
TZOFFSETTO:+0100
TZNAME:CET
DTSTART:20271031T010000
END:STANDARD
END:VTIMEZONE
BEGIN:VEVENT
DTSTART;TZID=Europe/Amsterdam:20261029T140000
DTEND;TZID=Europe/Amsterdam:20261029T200000
DTSTAMP:20260421T225844
CREATED:20251118T075309Z
LAST-MODIFIED:20260328T225435Z
UID:14871-1793282400-1793304000@marktenmeer.nl
SUMMARY:Halloweenmarkt Lelystad – 29 oktober 2026
DESCRIPTION:Op donderdag 29 oktober maakt Lelystad zich op voor Halloween. De markt krijgt een speelse\, gezellige griezelsfeer met herfstdecoratie\, pompoenproducten\, creatieve stands en lekkernijen. Sommige kramen werken met lichte Halloween-thema’s\, wat het evenement geschikt maakt voor families. Door de vroege schemering ontstaat vanzelf een sfeervol decor. De markt is geopend van 14.00 tot 20.00 uur.
URL:https://marktenmeer.nl/markt/halloweenmarkt-lelystad-29-oktober-2026/
LOCATION:Lelystad\, Lelystad\, Netherlands
CATEGORIES:Braderie Flevoland,Braderieën,Flevoland
END:VEVENT
END:VCALENDAR