BEGIN:VCALENDAR
VERSION:2.0
PRODID:-//Markten en meer - ECPv6.15.20//NONSGML v1.0//EN
CALSCALE:GREGORIAN
METHOD:PUBLISH
X-WR-CALNAME:Markten en meer
X-ORIGINAL-URL:https://marktenmeer.nl
X-WR-CALDESC:Evenementen voor Markten en meer
REFRESH-INTERVAL;VALUE=DURATION:PT1H
X-Robots-Tag:noindex
X-PUBLISHED-TTL:PT1H
BEGIN:VTIMEZONE
TZID:Europe/Amsterdam
BEGIN:DAYLIGHT
TZOFFSETFROM:+0100
TZOFFSETTO:+0200
TZNAME:CEST
DTSTART:20250330T010000
END:DAYLIGHT
BEGIN:STANDARD
TZOFFSETFROM:+0200
TZOFFSETTO:+0100
TZNAME:CET
DTSTART:20251026T010000
END:STANDARD
BEGIN:DAYLIGHT
TZOFFSETFROM:+0100
TZOFFSETTO:+0200
TZNAME:CEST
DTSTART:20260329T010000
END:DAYLIGHT
BEGIN:STANDARD
TZOFFSETFROM:+0200
TZOFFSETTO:+0100
TZNAME:CET
DTSTART:20261025T010000
END:STANDARD
BEGIN:DAYLIGHT
TZOFFSETFROM:+0100
TZOFFSETTO:+0200
TZNAME:CEST
DTSTART:20270328T010000
END:DAYLIGHT
BEGIN:STANDARD
TZOFFSETFROM:+0200
TZOFFSETTO:+0100
TZNAME:CET
DTSTART:20271031T010000
END:STANDARD
END:VTIMEZONE
BEGIN:VEVENT
DTSTART;TZID=Europe/Amsterdam:20260110T100000
DTEND;TZID=Europe/Amsterdam:20260110T130000
DTSTAMP:20260423T140510
CREATED:20260103T150612Z
LAST-MODIFIED:20260329T055915Z
UID:17836-1768039200-1768050000@marktenmeer.nl
SUMMARY:BoerenStreekMarkt | 10 januari 2026
DESCRIPTION:Op zaterdag 10 januari 2026 vindt de BoerenStreekMarkt plaats. Deze tweewekelijkse markt is een vaste plek voor iedereen die houdt van eerlijk\, lokaal en ambachtelijk eten. De markt wordt gehouden van 10.00 tot 13.00 uur en draait volledig om producten die rechtstreeks door de boeren en makers zelf worden verkocht. \nBezoekers kunnen rekenen op een breed en gevarieerd aanbod van lokaal geproduceerde producten. Denk aan verschillende soorten zuivel\, vlees\, kaas\, groenten\, fruit\, vis en brood. Daarnaast zijn er onder andere bier\, kiemgroenten\, verzorgingsproducten en droogwaren te vinden. Het aanbod kan per editie verschillen\, maar de focus ligt altijd op kwaliteit\, herkomst en korte lijnen tussen producent en consument. \nDe BoerenStreekMarkt is geschikt voor iedereen die bewust wil inkopen\, lokale ondernemers wil steunen of simpelweg wil genieten van verse producten met een verhaal. Verdere informatie over locatie of extra activiteiten is niet bekend en daarom niet opgenomen. \nPraktische informatie\n\nEvenement: BoerenStreekMarkt\nDatum: zaterdag 10 januari 2026\nTijd: 10.00 – 13.00 uur\nType markt: tweewekelijkse streekmarkt\nAanbod: zuivel\, vlees\, kaas\, groente\, fruit\, vis\, brood\, bier\, kiemgroenten\, verzorgingsproducten\, droogwaren\nVerkoop door: boeren en producenten zelf
URL:https://marktenmeer.nl/markt/boerenstreekmarkt-10-januari-2026/
LOCATION:Nije Leije\, Leijester Hegedyk 27 B\, Alde Leie\, 9071 XB\, Netherlands
CATEGORIES:Friesland,Streekmarkt,Streekmarkt Friesland
END:VEVENT
BEGIN:VEVENT
DTSTART;TZID=Europe/Amsterdam:20260124T100000
DTEND;TZID=Europe/Amsterdam:20260124T130000
DTSTAMP:20260423T140510
CREATED:20260103T150847Z
LAST-MODIFIED:20260329T055915Z
UID:17840-1769248800-1769259600@marktenmeer.nl
SUMMARY:BoerenStreekMarkt | 24 januari 2026
DESCRIPTION:De BoerenStreekMarkt keert terug op zaterdag 24 januari 2026 met opnieuw een tweewekelijkse editie vol lokaal geproduceerde producten. Tussen 10.00 en 13.00 uur kunnen bezoekers terecht voor een markt waar boeren en makers zelf hun producten aanbieden en toelichten. \nHet assortiment bestaat uit een brede selectie streekproducten\, waaronder zuivel\, vlees\, kaas\, groenten\, fruit\, vis en brood. Ook zijn er producten zoals bier\, kiemgroenten\, verzorgingsproducten en verschillende droogwaren te vinden. De nadruk ligt op lokale herkomst\, ambacht en transparantie. Bezoekers krijgen zo niet alleen verse producten mee naar huis\, maar ook inzicht in hoe en waar deze worden gemaakt. \nDe BoerenStreekMarkt is ideaal voor wie bewust wil kopen\, korte ketens belangrijk vindt en lokale producenten wil ondersteunen. Elke editie heeft zijn eigen dynamiek\, afhankelijk van het seizoen en de deelnemende boeren. Verdere details over locatie of randprogrammering zijn niet bekend en daarom niet vermeld. \nPraktische informatie\n\nEvenement: BoerenStreekMarkt\nDatum: zaterdag 24 januari 2026\nTijd: 10.00 – 13.00 uur\nType markt: tweewekelijkse streekmarkt\nAanbod: zuivel\, vlees\, kaas\, groente\, fruit\, vis\, brood\, bier\, kiemgroenten\, verzorgingsproducten\, droogwaren\nVerkoop door: boeren en producenten zelf
URL:https://marktenmeer.nl/markt/boerenstreekmarkt-24-januari-2026/
LOCATION:Nije Leije\, Leijester Hegedyk 27 B\, Alde Leie\, 9071 XB\, Netherlands
CATEGORIES:Friesland,Streekmarkt,Streekmarkt Friesland
END:VEVENT
BEGIN:VEVENT
DTSTART;TZID=Europe/Amsterdam:20260131T110000
DTEND;TZID=Europe/Amsterdam:20260131T160000
DTSTAMP:20260423T140510
CREATED:20251218T145427Z
LAST-MODIFIED:20260329T055915Z
UID:17088-1769857200-1769875200@marktenmeer.nl
SUMMARY:Winterfair Papageno Huis Fryslân Lemmer 31 januari 2026 | Sfeervolle wintermarkt
DESCRIPTION:Op zaterdag 31 januari 2026 organiseert Papageno Huis Fryslân een warme en sfeervolle Winterfair in Lemmer. Voor deze bijzondere dag wordt de kerk van het Papageno Huis omgetoverd tot een knusse wintermarkt waar ontmoeting\, creativiteit en verbondenheid centraal staan. Een plek waar je rustig kunt rondlopen\, lokale makers ontmoet en tegelijkertijd bijdraagt aan een maatschappelijke organisatie met een groot hart. \nTijdens de Winterfair vind je kraampjes met lokale ambacht en lekkernijen\, waaronder handgemaakte sieraden\, keramiek\, leren tassen\, babykleding\, honing\, prints en woondecoratie. Alle producten zijn met zorg gemaakt door ondernemers en makers uit de regio. Daarnaast is er livemuziek\, verzorgd door bewoners van Papageno Huis\, deelnemers van Werk & Ontwikkeling én muzikanten van buitenaf. Dit geeft de fair een persoonlijk en warm karakter. \nVoor een echte winterbeleving zijn er snert en warme chocolademelk\, en worden er workshops voor jong en oud georganiseerd. De Winterfair is laagdrempelig\, gezellig en geschikt voor alle leeftijden. De toegang is gratis\, waardoor iedereen welkom is om te komen kijken\, genieten en ondersteunen. Met je bezoek steun je niet alleen lokale makers\, maar ook het waardevolle werk van Papageno Huis Fryslân. \n\nPraktische informatie\n\nDatum: zaterdag 31 januari 2026\nTijd: 11:00 – 16:00 uur\nEntree: gratis\nLocatie: Papageno Huis Fryslân\nAdres: Wiepke Hofstraat 2\, 8531 GM Lemmer\n\n\nKraamhouders (selectie)\n\nTreflik – bedrukking\, bestickering & design\nFluffy Hut Friesland – honing & natuurlijke producten\nDDB Design – leren tassen\nLighthouse Baby Shop – handgemaakte babykleding\nPrut – keramiek\nstudioannefloor – sieraden\nStudio Glazenburg – lino prints\nen diverse andere lokale makers
URL:https://marktenmeer.nl/markt/winterfair-papageno-lemmer-2026/
LOCATION:Papageno Huis Fryslân\, Wiepke Hofstraat 2\, Lemmer\, 8531GM\, Netherlands
CATEGORIES:Fairs,Friesland
END:VEVENT
END:VCALENDAR