BEGIN:VCALENDAR
VERSION:2.0
PRODID:-//Markten en meer - ECPv6.15.20//NONSGML v1.0//EN
CALSCALE:GREGORIAN
METHOD:PUBLISH
X-ORIGINAL-URL:https://marktenmeer.nl
X-WR-CALDESC:Evenementen voor Markten en meer
REFRESH-INTERVAL;VALUE=DURATION:PT1H
X-Robots-Tag:noindex
X-PUBLISHED-TTL:PT1H
BEGIN:VTIMEZONE
TZID:Europe/Amsterdam
BEGIN:DAYLIGHT
TZOFFSETFROM:+0100
TZOFFSETTO:+0200
TZNAME:CEST
DTSTART:20250330T010000
END:DAYLIGHT
BEGIN:STANDARD
TZOFFSETFROM:+0200
TZOFFSETTO:+0100
TZNAME:CET
DTSTART:20251026T010000
END:STANDARD
BEGIN:DAYLIGHT
TZOFFSETFROM:+0100
TZOFFSETTO:+0200
TZNAME:CEST
DTSTART:20260329T010000
END:DAYLIGHT
BEGIN:STANDARD
TZOFFSETFROM:+0200
TZOFFSETTO:+0100
TZNAME:CET
DTSTART:20261025T010000
END:STANDARD
BEGIN:DAYLIGHT
TZOFFSETFROM:+0100
TZOFFSETTO:+0200
TZNAME:CEST
DTSTART:20270328T010000
END:DAYLIGHT
BEGIN:STANDARD
TZOFFSETFROM:+0200
TZOFFSETTO:+0100
TZNAME:CET
DTSTART:20271031T010000
END:STANDARD
END:VTIMEZONE
BEGIN:VEVENT
DTSTART;TZID=Europe/Amsterdam:20260213T110000
DTEND;TZID=Europe/Amsterdam:20260213T170000
DTSTAMP:20260423T172115
CREATED:20260106T080406Z
LAST-MODIFIED:20260329T055915Z
UID:17916-1770980400-1771002000@marktenmeer.nl
SUMMARY:Zwanger\, Baby & Kind Event Lemmer 2026 – inspiratie voor (aanstaande) ouders
DESCRIPTION:Op vrijdag 13 februari 2026 vindt het Zwanger\, Baby & Kind Event plaats bij Beach Club Lemmer. Een warme en laagdrempelige middag speciaal voor zwangeren\, jonge ouders en gezinnen met jonge kinderen. Tussen 11:00 en 17:00 uur ben je welkom om inspiratie op te doen\, vragen te stellen en leuke producten te ontdekken. \nTijdens dit event staan er diverse stands met producten en diensten rondom zwangerschap\, baby’s en jonge kinderen. Denk aan baby- en kinderkleding\, verzorgingsproducten\, accessoires\, cadeautjes en praktische ondersteuning voor (aanstaande) ouders. Ook zijn er deskundigen aanwezig\, waaronder een echte poppendokter\, wat het event extra leuk en leerzaam maakt. \nHet Zwanger\, Baby & Kind Event is bedoeld om ouders te verbinden\, te informeren en te inspireren in een ontspannen setting. Beach Club Lemmer vormt hiervoor een fijne en toegankelijke locatie. De entree is gratis\, waardoor je vrijblijvend kunt binnenlopen en rustig rondkijken. \n📍 Locatie: Beach Club Lemmer📅 Datum: vrijdag 13 februari 2026⏰ Tijd: 11:00 – 17:00 uur🎟 Toegang: gratis
URL:https://marktenmeer.nl/markt/zwanger-baby-kind-event-lemmer-2026/
LOCATION:Lemmer\, Lemmer\, Netherlands
CATEGORIES:Fairs,Friesland
END:VEVENT
END:VCALENDAR