BEGIN:VCALENDAR
VERSION:2.0
PRODID:-//Markten en meer - ECPv6.15.20//NONSGML v1.0//EN
CALSCALE:GREGORIAN
METHOD:PUBLISH
X-WR-CALNAME:Markten en meer
X-ORIGINAL-URL:https://marktenmeer.nl
X-WR-CALDESC:Evenementen voor Markten en meer
REFRESH-INTERVAL;VALUE=DURATION:PT1H
X-Robots-Tag:noindex
X-PUBLISHED-TTL:PT1H
BEGIN:VTIMEZONE
TZID:Europe/Amsterdam
BEGIN:DAYLIGHT
TZOFFSETFROM:+0100
TZOFFSETTO:+0200
TZNAME:CEST
DTSTART:20250330T010000
END:DAYLIGHT
BEGIN:STANDARD
TZOFFSETFROM:+0200
TZOFFSETTO:+0100
TZNAME:CET
DTSTART:20251026T010000
END:STANDARD
BEGIN:DAYLIGHT
TZOFFSETFROM:+0100
TZOFFSETTO:+0200
TZNAME:CEST
DTSTART:20260329T010000
END:DAYLIGHT
BEGIN:STANDARD
TZOFFSETFROM:+0200
TZOFFSETTO:+0100
TZNAME:CET
DTSTART:20261025T010000
END:STANDARD
BEGIN:DAYLIGHT
TZOFFSETFROM:+0100
TZOFFSETTO:+0200
TZNAME:CEST
DTSTART:20270328T010000
END:DAYLIGHT
BEGIN:STANDARD
TZOFFSETFROM:+0200
TZOFFSETTO:+0100
TZNAME:CET
DTSTART:20271031T010000
END:STANDARD
END:VTIMEZONE
BEGIN:VEVENT
DTSTART;TZID=Europe/Amsterdam:20260228T110000
DTEND;TZID=Europe/Amsterdam:20260301T160000
DTSTAMP:20260421T173821
CREATED:20260226T075014Z
LAST-MODIFIED:20260329T055915Z
UID:20579-1772276400-1772380800@marktenmeer.nl
SUMMARY:Vakantiebeurs Noord-Nederland – Gorredijk – 28 februari & 1 maart 2026
DESCRIPTION:Op zaterdag 28 februari en zondag 1 maart 2026 vindt de Vakantiebeurs Noord-Nederland plaats in De Skâns in Gorredijk. Deze beurs richt zich op betaalbare vakanties en inspirerende bestemmingen voor het hele gezin. Bezoekers maken op een laagdrempelige manier kennis met campings\, B&B’s\, hotels en reisorganisaties uit binnen- en buitenland. \n\n\n \nNieuw in 2026 zijn lezingen van standhouders. Reisspecialisten delen hun ervaringen en praktische tips over uiteenlopende bestemmingen en reisvormen. Na afloop is er ruimte om vragen te stellen en plannen te bespreken. \n\nVoor bezoekers\nData: 28 februari & 1 maart 2026Tijd: 11:00 – 16:00 uurLocatie: De SkânsAdres: Loaijersstrjitte 2\, 8401 DV GorredijkType evenement: vakantiebeurs / reisinspiratiebeursEntree: gratis \nPraktische informatie\n\nGratis parkeren bij De Skâns en in Gorredijk\nBushalte op circa 50 meter afstand\nDirecte verbinding vanuit Heerenveen en Drachten\n\nWat kun je verwachten?\n\nCampings\, B&B’s en hotels\nBestemmingen in binnen- en buitenland\nLezingen door reisexperts\nTips over reisperiodes en must-sees\nMogelijkheid om direct contact te leggen met aanbieders\n\nDe beurs biedt inspiratie voor zowel korte vakanties in eigen land als verre reizen.
URL:https://marktenmeer.nl/markt/vakantiebeurs-noord-nederland-28-februari-1-maart-2026/
LOCATION:De Skâns\, Gorredijk\, Loaijersstrjitte 2\, Gorredijk\, Netherlands
CATEGORIES:Friesland
END:VEVENT
BEGIN:VEVENT
DTSTART;TZID=Europe/Amsterdam:20260301T093000
DTEND;TZID=Europe/Amsterdam:20260301T163000
DTSTAMP:20260421T173821
CREATED:20251230T101515Z
LAST-MODIFIED:20260329T055915Z
UID:17749-1772357400-1772382600@marktenmeer.nl
SUMMARY:Supervlooi Leeuwarden – WTC Expo | 1 maart 2026
DESCRIPTION:Op zondag 1 maart 2026 opent de Supervlooi opnieuw haar deuren in het WTC Expo Leeuwarden. Deze grote en bekende indoor vlooienmarkt is een vaste trekpleister voor liefhebbers van tweedehands spullen\, vintage vondsten en bijzondere koopjes. Dankzij de ruime hallen kunnen bezoekers comfortabel rondstruinen langs een groot en gevarieerd aanbod\, zonder last te hebben van weersinvloeden. \n\n\n \nDe Supervlooi staat bekend om haar ontspannen sfeer en brede mix van kramen. Van huisraad en kleding tot curiosa en verrassende items: geen editie is hetzelfde. Tijdens het bezoek kun je terecht bij de diverse eet- en drinkgelegenheden in het complex voor een kop koffie\, lunch of snack. Parkeren is gratis en de markt is goed bereikbaar met zowel auto als openbaar vervoer. \nKinderen tot en met 12 jaar hebben gratis toegang onder begeleiding van een volwassene. De Supervlooi in WTC Expo Leeuwarden is daarmee een laagdrempelig en compleet dagje uit voor jong en oud. \nPraktische informatie\n\nDatum: zondag 1 maart 2026\nTijd: 09:30 – 16:30 uur\nType markt: Binnenmarkt\nLocatie: WTC Expo Leeuwarden\nAdres: Fryslânplein / Stadionplein\, 8914 BX Leeuwarden\n\nBezoekersinformatie\n\nEntree v.a. 13 jaar: € 4\,00\nKinderen t/m 12 jaar: gratis (onder begeleiding)\nVroege Vogels (07:00–09:30): € 8\,00\nParkeren: gratis\nHoreca aanwezig: ja
URL:https://marktenmeer.nl/markt/supervlooi-leeuwarden-1-maart-2026/
LOCATION:WTC Expo\, Leeuwarden\, Fryslânplein / Stadionplein\, Leeuwarden\, Netherlands
CATEGORIES:Friesland,Rommelmarkten,Rommelmarkten Friesland
END:VEVENT
END:VCALENDAR