BEGIN:VCALENDAR
VERSION:2.0
PRODID:-//Markten en meer - ECPv6.15.20//NONSGML v1.0//EN
CALSCALE:GREGORIAN
METHOD:PUBLISH
X-WR-CALNAME:Markten en meer
X-ORIGINAL-URL:https://marktenmeer.nl
X-WR-CALDESC:Evenementen voor Markten en meer
REFRESH-INTERVAL;VALUE=DURATION:PT1H
X-Robots-Tag:noindex
X-PUBLISHED-TTL:PT1H
BEGIN:VTIMEZONE
TZID:Europe/Amsterdam
BEGIN:DAYLIGHT
TZOFFSETFROM:+0100
TZOFFSETTO:+0200
TZNAME:CEST
DTSTART:20250330T010000
END:DAYLIGHT
BEGIN:STANDARD
TZOFFSETFROM:+0200
TZOFFSETTO:+0100
TZNAME:CET
DTSTART:20251026T010000
END:STANDARD
BEGIN:DAYLIGHT
TZOFFSETFROM:+0100
TZOFFSETTO:+0200
TZNAME:CEST
DTSTART:20260329T010000
END:DAYLIGHT
BEGIN:STANDARD
TZOFFSETFROM:+0200
TZOFFSETTO:+0100
TZNAME:CET
DTSTART:20261025T010000
END:STANDARD
BEGIN:DAYLIGHT
TZOFFSETFROM:+0100
TZOFFSETTO:+0200
TZNAME:CEST
DTSTART:20270328T010000
END:DAYLIGHT
BEGIN:STANDARD
TZOFFSETFROM:+0200
TZOFFSETTO:+0100
TZNAME:CET
DTSTART:20271031T010000
END:STANDARD
END:VTIMEZONE
BEGIN:VEVENT
DTSTART;VALUE=DATE:20260313
DTEND;VALUE=DATE:20260315
DTSTAMP:20260421T173954
CREATED:20260314T081738Z
LAST-MODIFIED:20260329T055904Z
UID:22546-1773360000-1773532799@marktenmeer.nl
SUMMARY:Kinder- en Tienerkledingbeurs – Lemmer – 13 en 14 maart 2026
DESCRIPTION:De kinder- en tienerkledingbeurs in Lemmer vindt plaats in het Papageno Huis Fryslân en biedt bezoekers de mogelijkheid om tweedehands kleding voor kinderen en tieners te kopen. Op zaterdag 14 maart 2026 kunnen bezoekers terecht voor een selectie nette tweedehands kleding en seizoensartikelen. De beurs richt zich op kleding voor het lente- en zomerseizoen\, met maten van 50 tot en met S. \nTijdens de kledingbeurs zijn er verschillende items te vinden\, zoals kleding\, schoenen\, zwemkleding en accessoires. Het evenement is laagdrempelig en toegankelijk voor gezinnen die op zoek zijn naar betaalbare tweedehands kleding. Naast het winkelen kunnen bezoekers op zaterdag ook terecht voor extra activiteiten voor kinderen\, zoals schminken. \nVoor bezoekers\nPraktische informatie voor een bezoek aan de kledingbeurs in Lemmer: \n\nNaam markt: Kinder- en tienerkledingbeurs\nType markt: tweedehands kledingbeurs\nPlaats: Lemmer\nDatum: zaterdag 14 maart 2026\nTijd: 10:00 – 12:00 uur\nLocatie: Papageno Huis Fryslân\, Nieuwburen 36\, Lemmer\nEntree: gratis\nAanbod: tweedehands kinder- en tienerkleding\, schoenen en accessoires\nMaten: 50 t/m S\nExtra: schminken voor kinderen op zaterdag\nBetalen: alleen contant\n\nTijdens de beurs is de bar geopend waar bezoekers koffie of een drankje kunnen kopen. \nVoor standhouders\nDeze kledingbeurs wordt georganiseerd in het Papageno Huis Fryslân in Lemmer. Het evenement richt zich op tweedehands kinder- en tienerkleding en seizoensartikelen voor het voorjaar en de zomer. \n\nAanbod: tweedehands kinder- en tienerkleding\, schoenen en accessoires\nMaten: 50 t/m S\nDoelgroep: gezinnen en ouders met jonge kinderen\nOrganisatie: Stichting Papageno Huis Fryslân\n\nDe kinder- en tienerkledingbeurs in Lemmer is een kleinschalige markt waar bezoekers tweedehands kleding voor kinderen en tieners kunnen vinden.
URL:https://marktenmeer.nl/markt/kinderkledingbeurs-lemmer-14-maart-2026/
LOCATION:Papageno Huis Fryslân\, Wiepke Hofstraat 2\, Lemmer\, 8531GM\, Netherlands
CATEGORIES:Friesland,Kledingbeurzen,Kledingbeurzen Friesland
END:VEVENT
BEGIN:VEVENT
DTSTART;VALUE=DATE:20260314
DTEND;VALUE=DATE:20260316
DTSTAMP:20260421T173954
CREATED:20260308T171905Z
LAST-MODIFIED:20260407T094520Z
UID:21847-1773446400-1773619199@marktenmeer.nl
SUMMARY:Boeken- en Platenmarkt Appelscha – 14 en 15 maart 2026
DESCRIPTION:Op zaterdag 14 maart en zondag 15 maart 2026 organiseert de Historische Vereniging Appelscha e.o. een boeken- en platenmarkt in De Hoolten Klinte in Appelscha. Tijdens deze markt kunnen bezoekers rondkijken tussen een groot aanbod van tweedehands boeken\, platen en andere media. De markt staat bekend om de ruime keuze en de lage prijzen. \nOp de markt zijn verschillende genres en categorieën te vinden. Denk aan romans\, thrillers\, jeugdboeken\, reisboeken\, stripboeken en boeken over onderwerpen zoals tuinieren en de Tweede Wereldoorlog. Daarnaast zijn er ook boeken in het Stellingwerfs en Fries. Naast boeken zijn er ook lp’s\, cd’s\, dvd’s\, videobanden\, spelletjes en puzzels te koop. Alles is overzichtelijk gerangschikt per categorie. \nVoor bezoekers\nDe boeken- en platenmarkt vindt plaats in het verenigingsgebouw De Hoolten Klinte in Appelscha. \nPraktische informatie: \n\nData: zaterdag 14 maart en zondag 15 maart 2026\nTijd zaterdag: 09:00 – 17:00 uur\nTijd zondag: 12:00 – 17:00 uur\nPlaats: Appelscha\nLocatie: De Hoolten Klinte\nEntree: gratis\n\nBezoekers kunnen rustig rondkijken tussen de verschillende tafels met boeken\, muziek en andere media. Betalen kan zowel contant als met pin. \nVoor verkopers\nDe markt wordt georganiseerd door de Historische Vereniging Appelscha en omstreken. De verkoop bestaat uit een grote voorraad tweedehands boeken en media die door de organisatie wordt aangeboden. \nMeer informatie: \n\n\nE-mail: info@hvappelscha.nl \n\n\nDe boeken- en platenmarkt in Appelscha is een tweedaags evenement waar bezoekers kunnen snuffelen tussen een breed aanbod van tweedehands boeken en muziek.
URL:https://marktenmeer.nl/markt/boekenmarkt-appelscha-14-15-maart-2026/
LOCATION:Appelscha\, Appelscha\, Netherlands
CATEGORIES:Boekenmarkt,Boekenmarkt Friesland,Friesland,Platenbeurs,Platenbeurzen Friesland
END:VEVENT
END:VCALENDAR