BEGIN:VCALENDAR
VERSION:2.0
PRODID:-//Markten en meer - ECPv6.15.20//NONSGML v1.0//EN
CALSCALE:GREGORIAN
METHOD:PUBLISH
X-WR-CALNAME:Markten en meer
X-ORIGINAL-URL:https://marktenmeer.nl
X-WR-CALDESC:Evenementen voor Markten en meer
REFRESH-INTERVAL;VALUE=DURATION:PT1H
X-Robots-Tag:noindex
X-PUBLISHED-TTL:PT1H
BEGIN:VTIMEZONE
TZID:Europe/Amsterdam
BEGIN:DAYLIGHT
TZOFFSETFROM:+0100
TZOFFSETTO:+0200
TZNAME:CEST
DTSTART:20250330T010000
END:DAYLIGHT
BEGIN:STANDARD
TZOFFSETFROM:+0200
TZOFFSETTO:+0100
TZNAME:CET
DTSTART:20251026T010000
END:STANDARD
BEGIN:DAYLIGHT
TZOFFSETFROM:+0100
TZOFFSETTO:+0200
TZNAME:CEST
DTSTART:20260329T010000
END:DAYLIGHT
BEGIN:STANDARD
TZOFFSETFROM:+0200
TZOFFSETTO:+0100
TZNAME:CET
DTSTART:20261025T010000
END:STANDARD
BEGIN:DAYLIGHT
TZOFFSETFROM:+0100
TZOFFSETTO:+0200
TZNAME:CEST
DTSTART:20270328T010000
END:DAYLIGHT
BEGIN:STANDARD
TZOFFSETFROM:+0200
TZOFFSETTO:+0100
TZNAME:CET
DTSTART:20271031T010000
END:STANDARD
END:VTIMEZONE
BEGIN:VEVENT
DTSTART;VALUE=DATE:20260501
DTEND;VALUE=DATE:20260503
DTSTAMP:20260420T141749
CREATED:20260401T211158Z
LAST-MODIFIED:20260401T211158Z
UID:24432-1777593600-1777766399@marktenmeer.nl
SUMMARY:Fair Priced Vintage – Leeuwarden – 1 & 2 mei 2026
DESCRIPTION:Op vrijdag 1 en zaterdag 2 mei 2026 vindt Fair Priced Vintage plaats in Leeuwarden. Deze vintage markt in Leeuwarden wordt gehouden in de Grote Kerk en richt zich op een brede selectie betaalbare tweedehands kleding. Bezoekers kunnen binnen een tijdslot rustig rondkijken tussen een grote hoeveelheid kleding\, waarbij vaste prijzen zorgen voor duidelijkheid. De combinatie van de historische locatie en het concept maakt deze markt anders dan een reguliere kledingmarkt. \nDe sfeer is rustig en gericht op ontdekken. Je vindt er een uitgebreide collectie kleding\, van basics tot unieke vintage items. Door de indoor setting is dit evenement geschikt om langer te blijven en op je gemak te zoeken. De focus ligt op hergebruik\, toegankelijkheid en het verlengen van de levensduur van kleding. \nVoor bezoekers\n\nDatum: 1 & 2 mei 2026\nTijd:\n\nVrijdag: 12:00 – 18:00 uur (tijdsloten)\nZaterdag: 11:00 – 17:00 uur (tijdsloten)\n\n\nLocatie: Grote Kerk\, Jacobijnerkerkhof 95\, Leeuwarden\nType markt: vintage markt / kledingmarkt\nEntree: gratis (reserveren per tijdslot)\nAanbod: vintage kleding en accessoires\nKenmerk: vaste prijzen\, toegang via tijdsloten\nBinnenlocatie: ja\n\nEen bezoek aan deze markt in Leeuwarden is een toegankelijke manier om vintage kleding te ontdekken.
URL:https://marktenmeer.nl/markt/fair-priced-vintage-leeuwarden-1-2-mei-2026/
LOCATION:Leeuwarden\, Leeuwarden\, Netherlands
CATEGORIES:Friesland,Kledingbeurzen,Kledingbeurzen Friesland,Vintage,Vintage Friesland
END:VEVENT
BEGIN:VEVENT
DTSTART;TZID=Europe/Amsterdam:20260502T080000
DTEND;TZID=Europe/Amsterdam:20260502T130000
DTSTAMP:20260420T141749
CREATED:20251222T104020Z
LAST-MODIFIED:20260329T055851Z
UID:17438-1777708800-1777726800@marktenmeer.nl
SUMMARY:Vlooienmarkt Bakkeveen – 2 mei 2026
DESCRIPTION:Op zaterdag 2 mei 2026 staat Bakkeveen opnieuw volledig in het teken van één van de grootste en bekendste vlooienmarkten van Noord-Nederland. Deze openlucht vlooienmarkt trekt wekelijks duizenden bezoekers die speciaal naar Bakkeveen komen om te struinen langs honderden kramen vol tweedehands spullen\, curiosa en unieke vondsten. \nDe markt is ruim opgezet over verschillende terreinen en laantjes\, wat zorgt voor een prettige doorstroming en een ontspannen sfeer. Het aanbod is zeer divers: van antiek en vintage tot speelgoed\, boeken\, gereedschap\, huisraad\, kleding en verzamelobjecten. Zowel fanatieke verzamelaars als recreatieve bezoekers komen hier volop aan hun trekken. \nDe natuurlijke omgeving rondom Bakkeveen draagt bij aan de charme van de markt. Vroeg komen loont\, want dan is het aanbod op zijn grootst en kun je in alle rust rondkijken. Ook later op de ochtend blijft het gezellig druk en levendig. \nPraktische informatie \n\nDatum: zaterdag 2 mei 2026\nTijd: ca. 08.00 – 13.00 uur\nLocatie: Bakkeveen\nEntree: gratis\nParkeren: €1 per auto (bij vertrek)
URL:https://marktenmeer.nl/markt/vlooienmarkt-bakkeveen-2-mei-2026/
LOCATION:Bakkeveen\, Bakkeveen\, Netherlands
CATEGORIES:Friesland,Rommelmarkten,Rommelmarkten Friesland
END:VEVENT
BEGIN:VEVENT
DTSTART;TZID=Europe/Amsterdam:20260502T110000
DTEND;TZID=Europe/Amsterdam:20260502T160000
DTSTAMP:20260420T141749
CREATED:20260216T110043Z
LAST-MODIFIED:20260329T055851Z
UID:19589-1777719600-1777737600@marktenmeer.nl
SUMMARY:Boerenmarkt in de Vijzelstraat – Zaterdag 2 mei 2026 – Leeuwarden
DESCRIPTION:Op zaterdag 2 mei 2026 vindt de Boerenmarkt in de Vijzelstraat weer plaats in het hart van Leeuwarden. Van 11.00 tot 16.00 uur shop je hier verse\, lokale producten in een kleinschalige en persoonlijke setting. \nVerse boodschappen in het centrum van Leeuwarden\nDe Boerenmarkt is een maandelijkse versmarkt waar je rechtstreeks koopt bij de boer en maker. Je vindt er onder andere kaas\, zuivel\, vlees\, brood\, quiches\, groente en fruit\, eieren\, honing\, soepen\, jam en gerookte paling. Veel bezoekers komen hier gericht voor hun vaste producten\, anderen laten zich verrassen door het aanbod. \nNaast food is er ruimte voor ambachtelijke makers. Denk aan tulpenbier\, olijfolie\, natuurlijke zepen en keramiek. In het voorjaar verschijnen ook biologische planten\, zaden\, stekken en kleurrijke plukboeketten op de kramen. \nOntmoeten\, proeven en ontdekken\nDe markt staat bekend om de ontspannen sfeer. Neem de tijd om met de makers in gesprek te gaan en proef wat er wordt aangeboden. Haal koffie bij de brandweertruck van @kopje_kofje [controleer] of bij een van de andere koffiemogelijkheden in de straat. Zoek een zitplek en geniet van iets lekkers\, zoals een verse pain au chocolat of Scandinavische bullar. \nKom je later op de dag? Houd er rekening mee dat sommige verse producten kunnen zijn uitverkocht. \nPraktische informatie\n\n📍 Vijzelstraat 1\, 8911 EW Leeuwarden\n🗓 Zaterdag 2 mei 2026\n⏰ 11.00 – 16.00 uur\n💶 Gratis toegang\n📅 Iedere eerste zaterdag van de maand (m.u.v. januari en augustus)\n🌧 Bij slecht weer kan de markt worden verplaatst\n\nDe markt ligt onder de rook van de Grote Kerk en de Bonifatiuskerk\, op loopafstand van het Natuurmuseum Fryslân en stadspark De Prinsentuin. \n\n🔎 Meer markten ontdekken\nBen je op zoek naar meer leuke markten in de buurt? Bekijk ook: \n\n👉 Meer markten in Friesland\n👉 Markten dit weekend in Nederland\n👉 Alle Boerenmarkten in de Vijzelstraat\n\n 
URL:https://marktenmeer.nl/markt/boerenmarkt-vijzelstraat-leeuwarden-2-mei-2026/
LOCATION:Vijzelstraat\, Leeuwarden\, Vijzelstraat 1\, Leeuwarden\, 8911 EW\, Netherlands
CATEGORIES:Friesland,Streekmarkt,Streekmarkt Friesland
END:VEVENT
END:VCALENDAR