BEGIN:VCALENDAR
VERSION:2.0
PRODID:-//Markten en meer - ECPv6.15.20//NONSGML v1.0//EN
CALSCALE:GREGORIAN
METHOD:PUBLISH
X-WR-CALNAME:Markten en meer
X-ORIGINAL-URL:https://marktenmeer.nl
X-WR-CALDESC:Evenementen voor Markten en meer
REFRESH-INTERVAL;VALUE=DURATION:PT1H
X-Robots-Tag:noindex
X-PUBLISHED-TTL:PT1H
BEGIN:VTIMEZONE
TZID:Europe/Amsterdam
BEGIN:DAYLIGHT
TZOFFSETFROM:+0100
TZOFFSETTO:+0200
TZNAME:CEST
DTSTART:20250330T010000
END:DAYLIGHT
BEGIN:STANDARD
TZOFFSETFROM:+0200
TZOFFSETTO:+0100
TZNAME:CET
DTSTART:20251026T010000
END:STANDARD
BEGIN:DAYLIGHT
TZOFFSETFROM:+0100
TZOFFSETTO:+0200
TZNAME:CEST
DTSTART:20260329T010000
END:DAYLIGHT
BEGIN:STANDARD
TZOFFSETFROM:+0200
TZOFFSETTO:+0100
TZNAME:CET
DTSTART:20261025T010000
END:STANDARD
BEGIN:DAYLIGHT
TZOFFSETFROM:+0100
TZOFFSETTO:+0200
TZNAME:CEST
DTSTART:20270328T010000
END:DAYLIGHT
BEGIN:STANDARD
TZOFFSETFROM:+0200
TZOFFSETTO:+0100
TZNAME:CET
DTSTART:20271031T010000
END:STANDARD
END:VTIMEZONE
BEGIN:VEVENT
DTSTART;TZID=Europe/Amsterdam:20260503T090000
DTEND;TZID=Europe/Amsterdam:20260503T160000
DTSTAMP:20260422T182235
CREATED:20251219T094740Z
LAST-MODIFIED:20260329T055851Z
UID:17137-1777798800-1777824000@marktenmeer.nl
SUMMARY:Gordykstermerke 3 mei 2026 | Gorredijkstermarkt & Voorjaarskermis
DESCRIPTION:Op zondag 3 mei 2026 staat Gorredijk volledig in het teken van de Gordykstermerke\, ook wel bekend als de Gorredijkstermarkt. Deze historische voorjaarsmarkt wordt al sinds 1694 georganiseerd en is daarmee één van de oudste en meest geliefde markten van Friesland. Jaarlijks trekt de Gordykstermerke veel bezoekers uit Gorredijk en de wijde omgeving. \nTijdens deze gezellige voorjaarsmarkt vullen het centrum en de winkelstraten zich met een groot en divers aanbod aan marktkramen. Je vindt er onder andere kleding\, accessoires\, woonartikelen\, lekkernijen\, streekproducten en praktische koopwaar. De markt is laagdrempelig\, sfeervol en geschikt voor jong en oud. \nDe markt is geopend van 09:00 tot 16:00 uur. Op dezelfde dag is het ook Merke Koopzondag: veel winkeliers in Gorredijk openen hun deuren en bieden speciale acties en aanbiedingen aan. Zo combineer je de markt perfect met een dagje winkelen. \nDaarnaast vindt op het Marktplein van donderdag 30 april tot en met zondag 3 mei 2026 de Voorjaarskermis plaats. Met diverse attracties en kermisspellen is er volop vermaak voor kinderen én volwassenen. Op de marktdag zelf is de kermis geopend van 10:00 tot 18:00 uur. \nDe Gordykstermerke staat garant voor een dag vol traditie\, gezelligheid en dorpssfeer. Een vaste afspraak op de Friese evenementenagenda die je niet wilt missen. \nPraktische informatie\n\nDatum: Zondag 3 mei 2026\nTijd markt: 09:00 – 16:00 uur\nTijd kermis (marktdag): 10:00 – 18:00 uur\nLocatie: Centrum Gorredijk\nEntree: Gratis\nBijzonder: Merke Koopzondag & Voorjaarskermis\n\nMeer informatie over de kermis:👉 www.facebook.com/KermisGorredijk
URL:https://marktenmeer.nl/markt/gordykstermerke-gorredijk-2026/
LOCATION:Gorredijk\, Gorredijk\, Netherlands
CATEGORIES:Braderie Friesland,Braderieën,Friesland
END:VEVENT
BEGIN:VEVENT
DTSTART;TZID=Europe/Amsterdam:20260503T100000
DTEND;TZID=Europe/Amsterdam:20260503T160000
DTSTAMP:20260422T182235
CREATED:20260310T100749Z
LAST-MODIFIED:20260329T055851Z
UID:21956-1777802400-1777824000@marktenmeer.nl
SUMMARY:Flinke Flea Market – Hemelum – 3 mei 2026
DESCRIPTION:Op zondag 3 mei 2026 vindt op de Flinkefarm in Hemelum (Friesland) de Flinke Flea Market plaats. Tijdens deze markt kunnen bezoekers heerlijk rondkijken tussen vintage spullen\, meubels\, decoratie en andere tweedehands vondsten. De markt staat in het teken van hergebruik\, bijzondere items en het plezier van schatzoeken. \nDe Flinke Flea Market wordt georganiseerd op het erf van it Flinkeboskje\, een locatie die ook wordt gebruikt voor bruiloften en andere evenementen. Tijdens de markt is ook de shop Sip & Clara geopend\, waar je inspiratie vindt voor vintage meubels\, lampen\, kunst en decoratie. Het is een plek waar liefhebbers van bijzondere en oude items samenkomen. \nVoor bezoekers\nDe Flinke Flea Market is een markt waar bezoekers op zoek kunnen gaan naar unieke tweedehands en vintage spullen. \nPraktische informatie \n\nDatum: zondag 3 mei 2026\nTijd: 10:00 – 16:00 uur\nPlaats: Hemelum\nLocatie: Flinkefarm – it Flinkeboskje\nAdres: Flinkeboskje 1+2\, 8584 WV Hemelum\nType markt: vintage markt / flea market\nEntree: €2\,50\nKinderen: tot 12 jaar gratis\n\nVoor standhouders\nHeb je vintage spullen\, meubels of andere bijzondere items en wil je deze verkopen? Dan kun je deelnemen aan de Flinke Flea Market. \nPraktische informatie voor standhouders \nDeelnameprijs: €15\,- \nAanmelden via e-mail: claartje@itflinkeboskje.nl \nDe Flinke Flea Market is een markt voor liefhebbers van vintage\, tweedehands vondsten en bijzondere items.
URL:https://marktenmeer.nl/markt/flinke-flea-market-hemelum-3-mei-2026/
LOCATION:Flinkefarm\, Hemelum\, Flinkeboskje 1+2\, Hemelum\, 8584 WV\, Netherlands
CATEGORIES:Friesland,Rommelmarkten,Rommelmarkten Friesland,Vintage,Vintage Friesland
END:VEVENT
END:VCALENDAR