BEGIN:VCALENDAR
VERSION:2.0
PRODID:-//Markten en meer - ECPv6.15.20//NONSGML v1.0//EN
CALSCALE:GREGORIAN
METHOD:PUBLISH
X-ORIGINAL-URL:https://marktenmeer.nl
X-WR-CALDESC:Evenementen voor Markten en meer
REFRESH-INTERVAL;VALUE=DURATION:PT1H
X-Robots-Tag:noindex
X-PUBLISHED-TTL:PT1H
BEGIN:VTIMEZONE
TZID:Europe/Amsterdam
BEGIN:DAYLIGHT
TZOFFSETFROM:+0100
TZOFFSETTO:+0200
TZNAME:CEST
DTSTART:20250330T010000
END:DAYLIGHT
BEGIN:STANDARD
TZOFFSETFROM:+0200
TZOFFSETTO:+0100
TZNAME:CET
DTSTART:20251026T010000
END:STANDARD
BEGIN:DAYLIGHT
TZOFFSETFROM:+0100
TZOFFSETTO:+0200
TZNAME:CEST
DTSTART:20260329T010000
END:DAYLIGHT
BEGIN:STANDARD
TZOFFSETFROM:+0200
TZOFFSETTO:+0100
TZNAME:CET
DTSTART:20261025T010000
END:STANDARD
BEGIN:DAYLIGHT
TZOFFSETFROM:+0100
TZOFFSETTO:+0200
TZNAME:CEST
DTSTART:20270328T010000
END:DAYLIGHT
BEGIN:STANDARD
TZOFFSETFROM:+0200
TZOFFSETTO:+0100
TZNAME:CET
DTSTART:20271031T010000
END:STANDARD
END:VTIMEZONE
BEGIN:VEVENT
DTSTART;TZID=Europe/Amsterdam:20260803T130000
DTEND;TZID=Europe/Amsterdam:20260803T180000
DTSTAMP:20260425T222541
CREATED:20260407T074749Z
LAST-MODIFIED:20260407T074749Z
UID:24866-1785762000-1785780000@marktenmeer.nl
SUMMARY:Braderie Veendam – 3 augustus 2026
DESCRIPTION:Op maandag 3 augustus 2026 vindt in Veendam een braderie plaats met een uitgebreid programma. Deze markt in Veendam combineert kramen met entertainment\, waardoor bezoekers niet alleen kunnen rondkijken maar ook kunnen genieten van muziek en gezelligheid. Verspreid over het terrein zijn podia en terrasjes aanwezig\, wat zorgt voor een levendige en toegankelijke sfeer. Door het middag- en avondtijdstip is deze markt geschikt voor een bezoek later op de dag. \nDe sfeer is dynamisch en gericht op beleving. Bezoekers kunnen langs de kramen lopen en tussendoor even blijven hangen bij een terras of activiteit. Het aanbod bestaat uit kleding\, accessoires en diverse handelswaren. De combinatie met horeca en entertainment maakt dat bezoekers vaak langer op de markt blijven. \nVoor bezoekers\n\nDatum: maandag 3 augustus 2026\nTijd: 13:00 – 18:00\nLocatie: Veendam (centrum)\nType markt: braderie\nExtra: podia\, terrasjes en entertainment\nAanbod: handel\, diverse kramen en producten\nDoelgroep: breed publiek\, dagjesmensen en gezinnen\n\nVoor standhouders\nDeze braderie heeft een aangepaste opzet met bijbehorende tarieven. Door het extra programma en de verwachte bezoekersaantallen is het een interessante markt voor standhouders. \n\nKraamgrootte: vanaf 4 meter\nTarief: circa €30\,00 voor 4 meter\, daarna €7\,50 per meter\nFood tarief: circa €42\,50 voor 4 meter\nKraamhuur: circa €17\,50\nInschrijving: vooraf aanbevolen\n\nDe doelgroep bestaat uit een breed publiek dat afkomt op zowel de markt als het entertainment\, wat zorgt voor een constante en levendige bezoekersstroom. \nEen levendige braderie met extra vermaak in Veendam.
URL:https://marktenmeer.nl/markt/braderie-veendam-3-augustus-2026/
LOCATION:Veendam\, Veendam\, Netherlands
CATEGORIES:Braderie Groningen,Braderieën,Groningen
END:VEVENT
END:VCALENDAR