BEGIN:VCALENDAR
VERSION:2.0
PRODID:-//Markten en meer - ECPv6.15.20//NONSGML v1.0//EN
CALSCALE:GREGORIAN
METHOD:PUBLISH
X-WR-CALNAME:Markten en meer
X-ORIGINAL-URL:https://marktenmeer.nl
X-WR-CALDESC:Evenementen voor Markten en meer
REFRESH-INTERVAL;VALUE=DURATION:PT1H
X-Robots-Tag:noindex
X-PUBLISHED-TTL:PT1H
BEGIN:VTIMEZONE
TZID:Europe/Amsterdam
BEGIN:DAYLIGHT
TZOFFSETFROM:+0100
TZOFFSETTO:+0200
TZNAME:CEST
DTSTART:20250330T010000
END:DAYLIGHT
BEGIN:STANDARD
TZOFFSETFROM:+0200
TZOFFSETTO:+0100
TZNAME:CET
DTSTART:20251026T010000
END:STANDARD
BEGIN:DAYLIGHT
TZOFFSETFROM:+0100
TZOFFSETTO:+0200
TZNAME:CEST
DTSTART:20260329T010000
END:DAYLIGHT
BEGIN:STANDARD
TZOFFSETFROM:+0200
TZOFFSETTO:+0100
TZNAME:CET
DTSTART:20261025T010000
END:STANDARD
BEGIN:DAYLIGHT
TZOFFSETFROM:+0100
TZOFFSETTO:+0200
TZNAME:CEST
DTSTART:20270328T010000
END:DAYLIGHT
BEGIN:STANDARD
TZOFFSETFROM:+0200
TZOFFSETTO:+0100
TZNAME:CET
DTSTART:20271031T010000
END:STANDARD
END:VTIMEZONE
BEGIN:VEVENT
DTSTART;TZID=Europe/Amsterdam:20260106T080000
DTEND;TZID=Europe/Amsterdam:20260106T170000
DTSTAMP:20260421T171558
CREATED:20260106T110226Z
LAST-MODIFIED:20260329T061735Z
UID:17977-1767686400-1767718800@marktenmeer.nl
SUMMARY:Mega Snuffelmarkt Zaandam – De Munitiefabriek | 21 & 22 maart 2026
DESCRIPTION:Op zaterdag 21 en zondag 22 maart 2026 verandert de De Munitiefabriek in een waar koopjesparadijs tijdens de Mega Snuffelmarkt Zaandam. Deze grote\, overdekte markt trekt bezoekers uit de hele regio en staat bekend om haar omvang\, sfeer en verrassende aanbod. Met meer dan 250 kramen per dag is er volop keuze voor iedereen die graag snuffelt tussen tweedehands vondsten\, curiosa en bijzondere spullen. \nHet grootste deel van de markt – circa 90% van de kramen – bestaat uit tweedehands goederen. Dat maakt deze snuffelmarkt ideaal voor liefhebbers van hergebruik\, vintage en unieke items. Daarnaast is er beperkte ruimte voor nieuwe artikelen\, waardoor het aanbod gevarieerd blijft zonder het karakter van een echte snuffelmarkt te verliezen. De Munitiefabriek is een unieke indoorlocatie met veel ruimte\, wat zorgt voor comfortabel rondlopen\, ongeacht het weer. \nDankzij de centrale ligging in Zaandam is de markt goed bereikbaar. Gratis parkeren direct naast de hal maakt een bezoek extra aantrekkelijk. Of je nu gericht komt zoeken of gewoon lekker wilt rondkijken: deze tweedaagse snuffelmarkt biedt alles voor een gezellig dagje uit. \n\nPraktische informatie\n\nDatum: zaterdag 21 & zondag 22 maart 2026\nOpeningstijden: 09:00 – 16:00 uur\nLocatie: De Munitiefabriek\, Middenweg 62\, 1505 RK Zaandam\nType markt: overdekte snuffelmarkt\n\n\nInformatie voor standhouders\n\nKraam 2 dagen: €55\,-\nHoekkraam 2 dagen: €70\,-\nKraam 1 dag: €30\,-\nHoekkraam 1 dag: €35\,-\nGrondplaats (4×2 m\, alleen 2 dagen): €50\,-\n\nInbrengtijden \n\nVrijdag: 14:00 – 16:00 uur\nZaterdag & zondag: 07:00 – 08:30 uur\n\nAnnuleren kan tot donderdag 12:00 uur vóór de markt (€7\,50 administratiekosten). Daarna is de volledige kraamhuur verschuldigd. \n\nEntree voor bezoekers\n\nToegang: €5\,- per persoon\nKinderen t/m 10 jaar: gratis\nParkeren: gratis
URL:https://marktenmeer.nl/markt/mega-snuffelmarkt-zaandam-21-22-maart-2026/
LOCATION:De Munitiefabriek\, Zaandam\, Middenweg 62\, Zaandam\, 1505 RK\, Netherlands
CATEGORIES:Noord-Holland,Rommelmarkten,Rommelmarkten Noord-Holland
END:VEVENT
END:VCALENDAR