BEGIN:VCALENDAR
VERSION:2.0
PRODID:-//Markten en meer - ECPv6.15.20//NONSGML v1.0//EN
CALSCALE:GREGORIAN
METHOD:PUBLISH
X-WR-CALNAME:Markten en meer
X-ORIGINAL-URL:https://marktenmeer.nl
X-WR-CALDESC:Evenementen voor Markten en meer
REFRESH-INTERVAL;VALUE=DURATION:PT1H
X-Robots-Tag:noindex
X-PUBLISHED-TTL:PT1H
BEGIN:VTIMEZONE
TZID:Europe/Amsterdam
BEGIN:DAYLIGHT
TZOFFSETFROM:+0100
TZOFFSETTO:+0200
TZNAME:CEST
DTSTART:20250330T010000
END:DAYLIGHT
BEGIN:STANDARD
TZOFFSETFROM:+0200
TZOFFSETTO:+0100
TZNAME:CET
DTSTART:20251026T010000
END:STANDARD
BEGIN:DAYLIGHT
TZOFFSETFROM:+0100
TZOFFSETTO:+0200
TZNAME:CEST
DTSTART:20260329T010000
END:DAYLIGHT
BEGIN:STANDARD
TZOFFSETFROM:+0200
TZOFFSETTO:+0100
TZNAME:CET
DTSTART:20261025T010000
END:STANDARD
BEGIN:DAYLIGHT
TZOFFSETFROM:+0100
TZOFFSETTO:+0200
TZNAME:CEST
DTSTART:20270328T010000
END:DAYLIGHT
BEGIN:STANDARD
TZOFFSETFROM:+0200
TZOFFSETTO:+0100
TZNAME:CET
DTSTART:20271031T010000
END:STANDARD
END:VTIMEZONE
BEGIN:VEVENT
DTSTART;TZID=Europe/Amsterdam:20260228T090000
DTEND;TZID=Europe/Amsterdam:20260301T160000
DTSTAMP:20260421T153048
CREATED:20260106T095603Z
LAST-MODIFIED:20260329T061710Z
UID:17957-1772269200-1772380800@marktenmeer.nl
SUMMARY:Mega Vlooienmarkt EXPO Greater Amsterdam – Vijfhuizen | 28 februari & 1 maart 2026
DESCRIPTION:In het weekend van zaterdag 28 februari en zondag 1 maart 2026 vindt een van de grootste vlooienmarkten van Nederland plaats in EXPO Greater Amsterdam. Tijdens deze 2-daagse Mega Vlooienmarkt waan je je tussen maar liefst 500 kramen\, gevuld met tweedehands koopjes en unieke vondsten. Een waar paradijs voor liefhebbers van snuffelen\, vintage en betaalbare schatten. \nDe beursvloer is ruim opgezet en volledig overdekt\, waardoor je comfortabel kunt rondlopen en rustig de tijd kunt nemen om alles te bekijken. Het aanbod is zeer divers: van meubels\, woonaccessoires en boeken tot kleding\, speelgoed\, curiosa en verzamelobjecten. Door de omvang en variatie is deze markt aantrekkelijk voor zowel fanatieke verzamelaars als bezoekers die gewoon zin hebben in een gezellig dagje uit. \nDe locatie in Vijfhuizen is uitstekend bereikbaar en beschikt over gratis parkeergelegenheid\, wat een groot pluspunt is voor bezoekers uit de hele regio. Dankzij de twee dagen kun je zelf kiezen of je één dag komt of er een compleet vlooienmarktweekend van maakt. Deze editie staat bekend als dé grootste vlooienmarkt van de Haarlemmermeer. \n\nPraktische informatie\n\nDatum: zaterdag 28 februari & zondag 1 maart 2026\nTijd: 09:00 – 16:00 uur\nLocatie: EXPO Greater Amsterdam\, Vijfhuizen\nType markt: mega vlooienmarkt (binnen)\nAantal kramen: ca. 500\nParkeren: gratis\n\nInformatie voor standhouders (samenvatting)\n\nVerkoop van tweedehands goederen toegestaan\nBeperkt aantal plaatsen voor nieuwe goederen\nKraamprijzen tweedehands:\n2 dagen: €75\,-\nZaterdag: €37\,50\nZondag: €37\,50\nGrondplaats (4 × 2 m): €55\,- voor 2 dagen\nAnnuleren tot donderdag 12:00 uur vóór de markt (€7\,50 administratiekosten)\nTip: neem een stoel en een karretje mee\n\nEntree voor bezoekers\n\nToegang: €6\,- per persoon\nKinderen t/m 12 jaar: gratis
URL:https://marktenmeer.nl/markt/mega-vlooienmarkt-expo-greater-amsterdam-2026/
LOCATION:Greater Expo Amsterdam\, Vijfhuizen\, Stelling 1\, Vijfhuizen\, Netherlands
CATEGORIES:Noord-Holland,Rommelmarkten,Rommelmarkten Noord-Holland
END:VEVENT
BEGIN:VEVENT
DTSTART;TZID=Europe/Amsterdam:20260228T110000
DTEND;TZID=Europe/Amsterdam:20260301T170000
DTSTAMP:20260421T153048
CREATED:20251213T103117Z
LAST-MODIFIED:20260329T061710Z
UID:16521-1772276400-1772384400@marktenmeer.nl
SUMMARY:Brocantemarkt Enkhuizen – Westerkerk – 28 februari & 1 maart 2026
DESCRIPTION:Op zaterdag 28 februari en zondag 1 maart 2026 vindt de Brocantemarkt Enkhuizen plaats in de Westerkerk. Twee dagen lang staat deze historische locatie in het teken van brocante\, antiek en verzamelobjecten. Van 11.00 tot 17.00 uur kunnen bezoekers rustig rondstruinen langs stands van handelaren uit Nederland\, België en Frankrijk. \nDeze markt in Enkhuizen combineert karaktervolle vondsten met de sfeer van een monumentale kerk. Bezoekers treffen er uiteenlopende items: van brocante woonaccessoires en antieke meubels tot bijzondere verzamelstukken. De locatie is goed te combineren met een dagje Enkhuizen\, waar winkels\, horeca en musea geopend zijn. \n\n\n \nVoor bezoekers\nPraktische informatie \n\nType markt: brocantemarkt / antiekmarkt\nPlaats: Enkhuizen\nDatum: zaterdag 28 februari & zondag 1 maart 2026\nTijd: 11.00 – 17.00 uur\nLocatie: Westerkerk\, Westerstraat 138\, Enkhuizen\nEntree: € 5\,- per persoon\n\nBezoekers kunnen rekenen op een gevarieerd aanbod van unieke vondsten en sfeervolle presentaties. De markt is geschikt voor liefhebbers van brocante\, antiek en verzamelingen. \n\n\n \nVoor standhouders\nDe Brocantemarkt in de Westerkerk richt zich op aanbieders van brocante\, antiek en aanverwante verzamelobjecten. Standhouders komen uit binnen- en buitenland. \nDeelnamemogelijkheden \n\n\nDoelgroep: liefhebbers van brocante\, antiek en unieke woonitems \n\n\nDe organisatie is in handen van FAIRS NL. Voor actuele informatie over deelname\, voorwaarden en beschikbaarheid is het raadzaam de organisatie te benaderen via www.top-events.nl.
URL:https://marktenmeer.nl/markt/montmartre-markt-enkhuizen-28-februari-1-maart-2026/
LOCATION:Westerkerk\, Enkhuizen\, Westerstraat 138\, Enkhuizen\, Netherlands
CATEGORIES:Brocantemarkten,Brocantemarkten Noord-Holland,Noord-Holland
END:VEVENT
BEGIN:VEVENT
DTSTART;TZID=Europe/Amsterdam:20260228T110000
DTEND;TZID=Europe/Amsterdam:20260301T170000
DTSTAMP:20260421T153048
CREATED:20260226T070319Z
LAST-MODIFIED:20260329T061710Z
UID:20549-1772276400-1772384400@marktenmeer.nl
SUMMARY:Klerenmeisjes – Den Haag – 28 februari & 1 maart 2026
DESCRIPTION:Op zaterdag 28 februari en zondag 1 maart 2026 keert Klerenmeisjes terug naar Amare in Den Haag. Twee dagen lang staat het gebouw aan het Spui in het teken van tweedehands mode\, duurzame initiatieven en creatieve workshops. De markt richt zich op liefhebbers van preloved fashion en bewuste keuzes. \nTijdens dit weekend vind je een mix van tweedehands kleding\, influencers’ closets\, duurzame merken en creatieve makers. Daarnaast zijn er talks over duurzaamheid\, workshops\, een repair- en upcyclingstation\, een color scan en muziek. De entree is gratis. \n\nVoor bezoekers\nData: zaterdag 28 februari & zondag 1 maart 2026Tijd: 11:00 – 17:00 uurLocatie: AmareAdres: Spui 150\, 2511 DG Den HaagType markt: tweedehands kledingmarkt / duurzame fashionmarktEntree: gratis \nWat kun je verwachten: \n\nTweedehands en preloved kleding\nInfluencers’ closets\nDuurzame talks en workshops\nRepair- en upcyclingstation\nMuziek en horeca\n\nOver toegankelijkheid is geen aanvullende informatie beschikbaar. \nVoor standhouders\nWil je deelnemen als verkoopster of verkoper tijdens Klerenmeisjes? \nAanmelden: info@klerenmeisjes.nlDoelgroep: bezoekers met interesse in tweedehands mode en duurzaamheid \nStandplaatsen zijn beperkt beschikbaar. Tijdig aanmelden wordt aanbevolen. \nKlerenmeisjes op 28 februari en 1 maart 2026 vormt de eerste editie van het jaar in Den Haag.
URL:https://marktenmeer.nl/markt/klerenmeisjes-den-haag-28-februari-1-maart-2026/
LOCATION:Amare\, Den Haag\, Spui 150\, Den Haag\, 2511 DG\, Netherlands
CATEGORIES:Kledingbeurzen,Kledingbeurzen Noord-Holland,Noord-Holland
END:VEVENT
BEGIN:VEVENT
DTSTART;TZID=Europe/Amsterdam:20260301T093000
DTEND;TZID=Europe/Amsterdam:20260301T160000
DTSTAMP:20260421T153048
CREATED:20251222T094236Z
LAST-MODIFIED:20260329T061710Z
UID:17402-1772357400-1772380800@marktenmeer.nl
SUMMARY:Vlooienmarkt Hillegom – Sportcentrum De Vosse | 1 maart 2026
DESCRIPTION:Op zondag 1 maart 2026 vindt een grote indoor vlooienmarkt plaats in Sportcentrum De Vosse in Hillegom. De ruime sporthal wordt gevuld met kramen vol tweedehands goederen\, variërend van huisraad en speelgoed tot boeken\, kleding en curiosa. Het aanbod verschilt per editie\, waardoor iedere bezoeker opnieuw iets verrassends kan ontdekken. \n\n\n \nDe vlooienmarkt is overzichtelijk opgezet en daardoor prettig te bezoeken voor jong en oud. Bezoekers nemen rustig de tijd om langs de kramen te lopen en op zoek te gaan naar betaalbare vondsten. Dankzij de indoor locatie is de markt comfortabel\, ongeacht het weer. \nDeze vlooienmarkt wordt georganiseerd door Organisatieburo M!KKi vof. Meer informatie over de organisatie en het volledige marktenoverzicht vind je op Markten & Meer:👉 https://marktenmeer.nl/organisatie/vlooienmarkten-mikki/ \nPraktische informatie \n\nDatum: zondag 1 maart 2026\nTijd: 09.30 – 16.00 uur\nLocatie: Sportcentrum De Vosse\, Vosselaan 152\, Hillegom\nEntree: € 3\,00 | kinderen t/m 11 jaar gratis\nParkeren: gratis
URL:https://marktenmeer.nl/markt/vlooienmarkt-hillegom-maart-2026/
LOCATION:Sportcentrum De Vosse\, Hillegom\, Vosselaan 152\, Hillegom\, Netherlands
CATEGORIES:Noord-Holland,Rommelmarkten,Rommelmarkten Noord-Holland
END:VEVENT
BEGIN:VEVENT
DTSTART;TZID=Europe/Amsterdam:20260301T100000
DTEND;TZID=Europe/Amsterdam:20260301T160000
DTSTAMP:20260421T153048
CREATED:20251124T095503Z
LAST-MODIFIED:20260329T061710Z
UID:15582-1772359200-1772380800@marktenmeer.nl
SUMMARY:Rommelmarkt Alkmaar – zondag 1 maart 2026
DESCRIPTION:Op zondag 1 maart 2026 staat Rommelmarkt Alkmaar opnieuw op de agenda. Een fijne dag voor iedereen die graag rondstruint tussen tafels vol verrassingen en op zoek is naar betaalbare vondsten. De markt vindt plaats op een ruime binnenlocatie\, waardoor je comfortabel kunt snuffelen\, ongeacht het weer. \n\n\n \n\nBezoekers kunnen rekenen op een breed en gevarieerd aanbod aan tweedehands artikelen\, vintage servies\, retro woonaccessoires\, speelgoed\, boeken en uiteenlopende verzamelobjecten. Of je nu gericht zoekt naar iets specifieks of je gewoon wilt laten verrassen door wat je tegenkomt: op deze rommelmarkt is altijd iets bijzonders te vinden. \nDe gemoedelijke sfeer maakt de markt geschikt voor jong en oud. Veel bezoekers combineren een bezoek aan de markt met een gezellig dagje uit in Alkmaar. Dankzij de overzichtelijke opzet kun je op je eigen tempo langs de kramen lopen en rustig vergelijken. \nEntree: €3 per persoon – kinderen t/m 13 jaar gratisKaartverkoop: aan de deur
URL:https://marktenmeer.nl/markt/rommelmarkt-alkmaar-1-maart-2026/
LOCATION:Sportpaleis Alkmaar\, Terborchlaan 200\, Alkmaar\, Netherlands
CATEGORIES:Noord-Holland,Rommelmarkten,Rommelmarkten Noord-Holland
END:VEVENT
BEGIN:VEVENT
DTSTART;TZID=Europe/Amsterdam:20260301T100000
DTEND;TZID=Europe/Amsterdam:20260301T170000
DTSTAMP:20260421T153048
CREATED:20251115T093556Z
LAST-MODIFIED:20260329T061710Z
UID:14552-1772359200-1772384400@marktenmeer.nl
SUMMARY:Braderie Centrum Amstelveen – zondag 1 maart 2026
DESCRIPTION:Op zondag 1 maart 2026 vindt in het centrum van Amstelveen een levendige en goedbezochte braderie plaats. Het winkelgebied vormt het decor voor een gevarieerde markt met uiteenlopende kramen. Dankzij de centrale ligging en de combinatie met vaste winkelstroom trekt deze braderie jaarlijks een breed publiek. \n\n\n \nBezoekers kunnen struinen langs kramen met mode\, sieraden\, lifestyleproducten\, huishoudelijke artikelen\, cadeau-items en creatieve vondsten. De sfeer is open en gemoedelijk\, waardoor een bezoek aan de braderie goed te combineren is met een middag winkelen in het centrum van Amstelveen. \nVoor bezoekers\n\nDatum: zondag 1 maart 2026\nLocatie: Centrum Amstelveen\n\nDe goede bereikbaarheid en parkeermogelijkheden in het centrum maken deze markt gemakkelijk toegankelijk. \n\n\n \nVoor standhouders\nOndernemers krijgen een kraam van 4 meter om hun assortiment overzichtelijk te presenteren. \n\nKraamprijs: €69\,95\nStroom: niet aanwezig\nFoodverkoop: niet toegestaan\n\nDoor de combinatie van winkelend publiek en weekendbezoekers biedt deze braderie een interessante verkoopdag voor ondernemers.
URL:https://marktenmeer.nl/markt/braderie-centrum-amstelveen-1-maart-2026/
LOCATION:Amstelveen\, Amstelveen\, Netherlands
CATEGORIES:Braderie Noord-Holland,Braderieën,Noord-Holland
END:VEVENT
BEGIN:VEVENT
DTSTART;TZID=Europe/Amsterdam:20260301T120000
DTEND;TZID=Europe/Amsterdam:20260301T180000
DTSTAMP:20260421T153048
CREATED:20251215T104742Z
LAST-MODIFIED:20260329T061709Z
UID:16734-1772366400-1772388000@marktenmeer.nl
SUMMARY:Sunday Market Westergas | Spring is in the Air – 1 maart 2026
DESCRIPTION:Spring is in the Air bij Sunday Market Westergas markeert op zondag 1 maart 2026 de start van het lenteseizoen in Amsterdam. Van 12.00 tot 18.00 uur verandert het Westergas- en Westerparkgebied in een levendige en kleurrijke markt waar creativiteit\, mode en gezelligheid samenkomen. Terwijl narcissen en crocussen in bloei staan\, kun je heerlijk struinen langs een groot aantal stands met een gevarieerd aanbod. \n\n\n \nBezoekers ontdekken hier onder andere mode- en woonaccessoires\, sieraden\, fashion\, keramiek\, kunst en delicatessen. Alles is overzichtelijk opgesteld\, waardoor je op je gemak kunt rondkijken en inspiratie kunt opdoen voor het nieuwe seizoen. Tussendoor is het fijn pauzeren bij een van de foodstands voor een hapje en een drankje. \nOok voor gezinnen is deze Sunday Market een leuk uitje. Voor kinderen is er een reuzenrad\, kunnen zij zich laten schminken of meedoen aan een workshop\, wat zorgt voor extra reuring en plezier. De combinatie van creatief shoppen\, eten en ontspanning maakt deze markt tot een ideale zondagmiddag. De toegang is gratis\, waardoor je laagdrempelig kunt binnenlopen en genieten van de lente in de stad. \n\nDatum: zondag 1 maart 2026\nTijd: 12.00 – 18.00 uur\nLocatie: Westergas\, Pazzanistraat 33\, 1014 DB Amsterdam\nEntree: Gratis
URL:https://marktenmeer.nl/markt/sunday-market-westergas-1-maart-2026/
LOCATION:Westergas\, Amsterdam\, Pazzanistraat 33\, Amsterdam\, Netherlands
CATEGORIES:Creatieve Markt Noord-Holland,Creatieve markten,Noord-Holland
END:VEVENT
END:VCALENDAR