BEGIN:VCALENDAR
VERSION:2.0
PRODID:-//Markten en meer - ECPv6.15.20//NONSGML v1.0//EN
CALSCALE:GREGORIAN
METHOD:PUBLISH
X-WR-CALNAME:Markten en meer
X-ORIGINAL-URL:https://marktenmeer.nl
X-WR-CALDESC:Evenementen voor Markten en meer
REFRESH-INTERVAL;VALUE=DURATION:PT1H
X-Robots-Tag:noindex
X-PUBLISHED-TTL:PT1H
BEGIN:VTIMEZONE
TZID:Europe/Amsterdam
BEGIN:DAYLIGHT
TZOFFSETFROM:+0100
TZOFFSETTO:+0200
TZNAME:CEST
DTSTART:20250330T010000
END:DAYLIGHT
BEGIN:STANDARD
TZOFFSETFROM:+0200
TZOFFSETTO:+0100
TZNAME:CET
DTSTART:20251026T010000
END:STANDARD
BEGIN:DAYLIGHT
TZOFFSETFROM:+0100
TZOFFSETTO:+0200
TZNAME:CEST
DTSTART:20260329T010000
END:DAYLIGHT
BEGIN:STANDARD
TZOFFSETFROM:+0200
TZOFFSETTO:+0100
TZNAME:CET
DTSTART:20261025T010000
END:STANDARD
BEGIN:DAYLIGHT
TZOFFSETFROM:+0100
TZOFFSETTO:+0200
TZNAME:CEST
DTSTART:20270328T010000
END:DAYLIGHT
BEGIN:STANDARD
TZOFFSETFROM:+0200
TZOFFSETTO:+0100
TZNAME:CET
DTSTART:20271031T010000
END:STANDARD
END:VTIMEZONE
BEGIN:VEVENT
DTSTART;TZID=Europe/Amsterdam:20260314T080000
DTEND;TZID=Europe/Amsterdam:20260314T123000
DTSTAMP:20260420T091322
CREATED:20260205T075303Z
LAST-MODIFIED:20260329T061657Z
UID:19216-1773475200-1773491400@marktenmeer.nl
SUMMARY:Markt Ankeveen – zaterdag 14 maart 2026 | Stichts End\, Ankeveen
DESCRIPTION:Op zaterdag 14 maart 2026 vindt de wekelijkse markt plaats op het Stichts End in Ankeveen. Deze dorpsmarkt is een vast moment in de week voor inwoners en bezoekers die waarde hechten aan verse producten\, persoonlijk contact en een rustige\, overzichtelijke setting. De markt wordt gehouden op de parkeerplaats naast de RK Martinus Kerk en is eenvoudig bereikbaar. \nBezoekers kunnen gratis parkeren op het marktterrein of langs het Stichts End. Op de aangegeven gedeelten geldt een parkeerontheffing tussen 8.00 en 12.30 uur. Dit maakt een kort of langer bezoek goed mogelijk. \nVaste marktondernemers\nOp deze datum zijn de vaste ondernemers aanwezig met een vertrouwd aanbod: \n\nBruisend Ankeveen met een overdekt terras\, koffie\, thee en iets lekkers\nKamer Bloemen met bloemen en planten\nBrood- en banketkraam met diverse broodsoorten\, waaronder spelt\nDe Noterij met noten\, zuidvruchten en delicatessen\nKees de Jong met kaasspecialiteiten\nVan Dijk met aardappelen\, verse groente en fruit\nVishandel Sijtse met verse\, gebakken en gerookte vis\n\nCombineer uw marktbezoek met een wandeling of bekijk de instagrampagina van Bruisend Ankeveen voor andere activiteiten in het dorp. Door het jaar heen worden ook themamarkten georganiseerd.
URL:https://marktenmeer.nl/markt/markt-ankeveen-14-maart-2026/
LOCATION:Ankeveen\, Ankeveen\, Netherlands
CATEGORIES:Noord-Holland,Streekmarkt,Streekmarkt Noord-Holland
END:VEVENT
BEGIN:VEVENT
DTSTART;TZID=Europe/Amsterdam:20260314T090000
DTEND;TZID=Europe/Amsterdam:20260314T120000
DTSTAMP:20260420T091322
CREATED:20260216T104715Z
LAST-MODIFIED:20260329T061657Z
UID:19575-1773478800-1773489600@marktenmeer.nl
SUMMARY:Rommelmarkt De Nieuwe Boet Watergang – 14 maart 2026
DESCRIPTION:Op zaterdag 14 maart 2026 vindt van 9.00 tot 12.00 uur een rommelmarkt plaats in dorpshuis De Nieuwe Boet aan de Dorpsstraat 67 in Watergang. Een kleinschalige en gezellige markt in het hart van het dorp. \nDe opbrengst van deze rommelmarkt is bestemd voor het monumentale kerkgebouw in Watergang. \nSnuffelen voor het goede doel\nTijdens deze rommelmarkt kun je rustig rondkijken tussen tweedehands spullen en bijzondere vondsten. Denk aan: \n\nBoeken en speelgoed\nHuisraad en servies\nKleine meubels\nDecoratie en curiosa\n\nDoor je aankoop steun je direct het behoud van het historische kerkgebouw in Watergang. \nPraktische informatie\n\nDatum: zaterdag 14 maart 2026\nTijd: 9.00 – 12.00 uur\nLocatie: Dorpshuis De Nieuwe Boet\, Dorpsstraat 67\, Watergang\nType markt: Rommelmarkt\nEntree: Gratis\n\nMeer informatie vind je via Kerk in Watergang of telefonisch via 06-48646718. \nWil je op 14 maart 2026 een gezellige rommelmarkt bezoeken en tegelijk bijdragen aan het behoud van een monumentaal kerkgebouw? Kom dan naar De Nieuwe Boet in Watergang.
URL:https://marktenmeer.nl/markt/rommelmarkt-watergang-14-maart-2026/
LOCATION:Dorpshuis De Nieuwe Boet\, Watergang\, Dorpsstraat 67\, Watergang\, Netherlands
CATEGORIES:Noord-Holland,Rommelmarkten,Rommelmarkten Noord-Holland
END:VEVENT
BEGIN:VEVENT
DTSTART;TZID=Europe/Amsterdam:20260314T100000
DTEND;TZID=Europe/Amsterdam:20260314T160000
DTSTAMP:20260420T091322
CREATED:20251222T081341Z
LAST-MODIFIED:20260329T061657Z
UID:17331-1773482400-1773504000@marktenmeer.nl
SUMMARY:Boer & Ambacht Markt Purmerend – 14 maart 2026
DESCRIPTION:Op zaterdag 14 maart 2026 keert de Boer & Ambacht Markt terug op de Kaasmarkt in Purmerend. Deze maand staat de markt in het teken van het naderende voorjaar\, met een gevarieerd aanbod aan ambachtelijke en lokaal geproduceerde producten. Van 10.00 tot 16.00 uur is het een levendige ontmoetingsplek voor inwoners en bezoekers. \nDe markt telt ongeveer 30 kramen\, bemand door makers en producenten die met passie hun producten presenteren. Denk aan verse streekwaren\, zelfgemaakte specialiteiten en handgemaakte creaties. Door de kleinschalige opzet blijft de sfeer persoonlijk en overzichtelijk. \nDe maarteditie is bij uitstek geschikt om inspiratie op te doen voor het nieuwe seizoen en bewuster te kiezen voor lokale producten. De Boer & Ambacht Markt biedt niet alleen een leuk uitje\, maar draagt ook bij aan het ondersteunen van kleinschalige ondernemers en ambachtslieden. \nBenieuwd naar de organisatie achter de Boer & Ambacht Markt en alle bijbehorende informatie? Je vindt het volledige overzicht op Markten & Meer:👉 https://marktenmeer.nl/organisatie/boer-ambacht-markt/
URL:https://marktenmeer.nl/markt/boer-ambacht-markt-purmerend-maart-2026/
LOCATION:Kaasmarkt\, Purmerend\, Kaasmarkt\, Purmerend\, Netherlands
CATEGORIES:Noord-Holland,Streekmarkt Noord-Holland
END:VEVENT
BEGIN:VEVENT
DTSTART;TZID=Europe/Amsterdam:20260314T110000
DTEND;TZID=Europe/Amsterdam:20260314T170000
DTSTAMP:20260420T091322
CREATED:20260312T094131Z
LAST-MODIFIED:20260329T061657Z
UID:22367-1773486000-1773507600@marktenmeer.nl
SUMMARY:Speel\, Deel\, Ruil & Recycle Project – Amsterdam – 14 maart 2026
DESCRIPTION:Het Speel\, Deel\, Ruil & Recycle Project vindt plaats op zaterdag 14 maart 2026 in De Hallen in Amsterdam. Tijdens dit evenement kunnen gezinnen speelgoed en kinderkleding ruilen met andere bezoekers. Het project richt zich op delen\, hergebruik en bewust omgaan met spullen. In plaats van nieuwe items te kopen\, krijgen gebruikte spullen een nieuw leven bij andere gezinnen. Tijdens elke editie wisselen duizenden speelgoeditems van eigenaar. \nNaast de ruilmarkt zijn er verschillende workshops en activiteiten rond recyclen\, repareren en creatief hergebruik. Bezoekers kunnen bijvoorbeeld leren hoe speelgoed gerepareerd kan worden of hoe materialen een nieuwe functie krijgen. Voor kinderen zijn er speelse activiteiten zoals bouwen met karton en creatieve workshops. Het evenement is bedoeld als een laagdrempelige en leerzame bijeenkomst waar gezinnen samen kunnen ontdekken hoe delen en ruilen kan bijdragen aan minder verspilling. \nVoor bezoekers\nPraktische informatie voor een bezoek aan dit evenement in Amsterdam: \n\nNaam evenement: Speel\, Deel\, Ruil & Recycle Project – Voorjaar editie\nType markt: ruilmarkt voor speelgoed en kinderkleding\nPlaats: Amsterdam\nDatum: zaterdag 14 maart 2026\nTijd: 11:00 – 17:00\nLocatie: De Hallen\, Amsterdam\nEntree: ticket vereist\nAanbod: speelgoed en kinderkleding ruilen\nExtra activiteiten: workshops\, creatieve activiteiten en reparatie-initiatieven\n\nBezoekers kunnen tijdens het evenement zowel deelnemen aan de ruilmarkt als aan de verschillende activiteiten. \nVoor deelnemers\nDe ruilmarkt werkt met een eenvoudig ruilsysteem. Bezoekers leveren speelgoed of kinderkleding in en ontvangen daarvoor tokens. Met deze tokens kunnen vervolgens andere items worden uitgezocht. \nPraktische informatie voor deelname: \n\nSpeelgoed inleveren: maximaal 7 stuks\nKinderkleding inleveren: maximaal 5 stuks\nVoorwaarde: schoon\, compleet en in goede staat\nTokens: per ingeleverd item ontvangt men een ruiltoken\n\nVrijwilligers sorteren de ingeleverde items op verschillende tafels\, zoals spellen\, boeken\, verkleedkleding\, bouwspeelgoed en buitenspeelgoed. \nNiet-geruilde spullen worden na afloop gedoneerd aan onder andere buurthuizen en hulporganisaties. \nHet Speel\, Deel\, Ruil & Recycle Project biedt een plek waar gezinnen speelgoed en kleding kunnen uitwisselen en tegelijkertijd kennismaken met creatieve manieren van hergebruik.
URL:https://marktenmeer.nl/markt/speel-deel-ruil-recycle-project-amsterdam-14-maart-2026/
LOCATION:De Hallen\, Amsterdam\, Hannie Dankbaarpassage\, Amsterdam\, 1053 RT\, Netherlands
CATEGORIES:Kledingbeurzen,Kledingbeurzen Noord-Holland,Noord-Holland
END:VEVENT
END:VCALENDAR