BEGIN:VCALENDAR
VERSION:2.0
PRODID:-//Markten en meer - ECPv6.15.20//NONSGML v1.0//EN
CALSCALE:GREGORIAN
METHOD:PUBLISH
X-WR-CALNAME:Markten en meer
X-ORIGINAL-URL:https://marktenmeer.nl
X-WR-CALDESC:Evenementen voor Markten en meer
REFRESH-INTERVAL;VALUE=DURATION:PT1H
X-Robots-Tag:noindex
X-PUBLISHED-TTL:PT1H
BEGIN:VTIMEZONE
TZID:Europe/Amsterdam
BEGIN:DAYLIGHT
TZOFFSETFROM:+0100
TZOFFSETTO:+0200
TZNAME:CEST
DTSTART:20250330T010000
END:DAYLIGHT
BEGIN:STANDARD
TZOFFSETFROM:+0200
TZOFFSETTO:+0100
TZNAME:CET
DTSTART:20251026T010000
END:STANDARD
BEGIN:DAYLIGHT
TZOFFSETFROM:+0100
TZOFFSETTO:+0200
TZNAME:CEST
DTSTART:20260329T010000
END:DAYLIGHT
BEGIN:STANDARD
TZOFFSETFROM:+0200
TZOFFSETTO:+0100
TZNAME:CET
DTSTART:20261025T010000
END:STANDARD
BEGIN:DAYLIGHT
TZOFFSETFROM:+0100
TZOFFSETTO:+0200
TZNAME:CEST
DTSTART:20270328T010000
END:DAYLIGHT
BEGIN:STANDARD
TZOFFSETFROM:+0200
TZOFFSETTO:+0100
TZNAME:CET
DTSTART:20271031T010000
END:STANDARD
END:VTIMEZONE
BEGIN:VEVENT
DTSTART;TZID=Europe/Amsterdam:20260315T090000
DTEND;TZID=Europe/Amsterdam:20260315T160000
DTSTAMP:20260421T153154
CREATED:20260106T104823Z
LAST-MODIFIED:20260329T061657Z
UID:17971-1773565200-1773590400@marktenmeer.nl
SUMMARY:Vlooienmarkt Amstelveen – Emergohal | zondag 15 maart 2026
DESCRIPTION:Op zondag 15 maart 2026 organiseert Don Events een gezellige en overzichtelijke vlooienmarkt in Amstelveen\, in de Emergohal. Deze overdekte vlooienmarkt is dé plek voor liefhebbers van tweedehands spullen die graag rustig willen struinen en verrassende vondsten willen doen. Met een breed aanbod aan gebruikte artikelen is er voor ieder wat wils\, van huisraad en boeken tot kleding\, speelgoed en kleine verzamelobjecten. \nDe markt vindt volledig binnen plaats en is daardoor comfortabel te bezoeken\, ongeacht het weer. De Emergohal is goed bereikbaar en biedt gratis parkeergelegenheid. Is de parkeerplaats bij de hal vol\, dan kan er worden uitgeweken naar de carpoolplaats Amstelveen aan de kruising Burgemeester Boersweg / Langs de Akker. Dankzij de duidelijke opzet en vaste openingstijden is deze vlooienmarkt geschikt voor een ontspannen dagje uit voor jong en oud. \nOp deze markt geldt een duidelijke focus op tweedehands goederen. De verkoop van nieuwe spullen of partijhandel is niet toegestaan\, wat zorgt voor een authentieke vlooienmarktsfeer en een gevarieerd aanbod. Don Events staat bekend om haar jarenlange ervaring en verzorgde organisatie\, wat ook bij deze editie in Amstelveen merkbaar is. \nPraktische informatie\n\nDatum: zondag 15 maart 2026\nTijd: 09:00 – 16:00 uur\nLocatie: De Emergohal\, Langs de Akker 3\, Amstelveen\nType markt: vlooienmarkt (binnen)\n\nInformatie voor standhouders\n\nKraamprijs: €33\,-\nInbreng tijden: 07:00 – 08:30 uur\nAlleen verkoop van tweedehands goederen toegestaan\nGeen nieuwe spullen of partijhandel\nAnnuleren tot donderdag 12:00 uur vóór de markt (€7\,50 administratiekosten)\nAnnuleren na dit tijdstip: volledige kraamhuur verschuldigd\n\nEntree voor bezoekers\n\nToegang: €4\,- per persoon\nKinderen t/m 12 jaar: gratis
URL:https://marktenmeer.nl/markt/vlooienmarkt-amstelveen-emergohal-15-maart-2026/
LOCATION:Emergohal\, Amstelveen\, Amstelveen\, Netherlands
CATEGORIES:Noord-Holland,Rommelmarkten,Rommelmarkten Noord-Holland
END:VEVENT
BEGIN:VEVENT
DTSTART;TZID=Europe/Amsterdam:20260315T090000
DTEND;TZID=Europe/Amsterdam:20260315T160000
DTSTAMP:20260421T153154
CREATED:20260112T091948Z
LAST-MODIFIED:20260329T061657Z
UID:18153-1773565200-1773590400@marktenmeer.nl
SUMMARY:Snuffelmarkt Hilversum Arena – zondag 15 maart 2026
DESCRIPTION:Op zondag 15 maart 2026 wordt de Dudok Arena in Hilversum omgetoverd tot een grote en gezellige snuffelmarkt. In de Dudok Arena\, aan Arena 303\, 1213 NW Hilversum\, kun je van 09:00 tot 16:00 uur rondstruinen langs maar liefst 175 kramen vol tweedehands spullen\, curiosa en andere oude vondsten. \nDeze snuffelmarkt is ideaal voor liefhebbers van spullen met een verhaal. Het aanbod bestaat uit zolderopruimingen\, verzamelobjecten\, boeken\, platen en items uit grootmoederstijd. De ene kraam verrast met nostalgische herinneringen\, terwijl je bij de volgende onverwacht iets bijzonders tegenkomt. \nDe markt is volledig overdekt\, waardoor je comfortabel kunt snuffelen ongeacht het weer. Dankzij de overzichtelijke opzet\, gemoedelijke sfeer en gratis parkeren is dit een fijne zondagse activiteit voor het hele gezin. Even lekker rondkijken\, inspiratie opdoen en misschien wel met een unieke vondst naar huis. \n\nPraktische informatie (bezoekers)\n\nDatum: zondag 15 maart 2026\nTijd: 09:00 – 16:00\nLocatie: Dudok Arena\, Arena 303\, 1213 NW Hilversum\nEntree: € 4\,-\nKinderen: t/m 12 jaar gratis (onder begeleiding)\nParkeren: gratis\n\n\nVoor standhouders (kort)\n\nAantal kramen: ca. 175\nKraamprijs: € 37\,-\nKramen: met bovenbouw\nInbrengtijden: 07:00 – 08:15
URL:https://marktenmeer.nl/markt/snuffelmarkt-hilversum-15-maart-2026/
LOCATION:Dudok Arena\, Hilversum\, Arena 303\, Hilversum\, Netherlands
CATEGORIES:Noord-Holland,Rommelmarkten,Rommelmarkten Noord-Holland
END:VEVENT
BEGIN:VEVENT
DTSTART;TZID=Europe/Amsterdam:20260315T093000
DTEND;TZID=Europe/Amsterdam:20260315T160000
DTSTAMP:20260421T153154
CREATED:20251222T094656Z
LAST-MODIFIED:20260329T061657Z
UID:17408-1773567000-1773590400@marktenmeer.nl
SUMMARY:Vlooienmarkt Heemstede – Sportfondsen Groenendaal | 15 maart 2026
DESCRIPTION:De vlooienmarkt in Sportfondsen Groenendaal keert terug op zondag 15 maart 2026 in Heemstede. Deze locatie is een vaste waarde binnen het aanbod van Mikki en trekt iedere editie veel bezoekers. In de sporthal presenteren deelnemers hun tweedehands goederen\, variërend van huisraad en speelgoed tot boeken en verzamelobjecten. \nDe markt is geliefd vanwege de gemoedelijke sfeer en het brede aanbod. Bezoekers kunnen rustig rondkijken en de tijd nemen om koopjes te vinden. De indoor setting maakt de markt prettig en toegankelijk\, ook bij minder goed weer. \nDeze vlooienmarkt wordt georganiseerd door Organisatieburo M!KKi vof. Meer informatie over de organisatie en het volledige marktenoverzicht vind je op Markten & Meer:👉 https://marktenmeer.nl/organisatie/vlooienmarkten-mikki/ \nPraktische informatie \n\nDatum: zondag 15 maart 2026\nTijd: 09.30 – 16.00 uur\nLocatie: Sportfondsen Groenendaal\, Sportparklaan 16\, Heemstede\nEntree: € 3\,00 | kinderen t/m 11 jaar gratis\nParkeren: gratis
URL:https://marktenmeer.nl/markt/vlooienmarkt-heemstede-maart-2026/
LOCATION:Sportfondsen Groenendaal\, Heemstede\, Sportparklaan 16\, Heemstede\, 2103 VT\, Netherlands
CATEGORIES:Noord-Holland,Rommelmarkten,Rommelmarkten Noord-Holland
END:VEVENT
BEGIN:VEVENT
DTSTART;TZID=Europe/Amsterdam:20260315T093000
DTEND;TZID=Europe/Amsterdam:20260315T160000
DTSTAMP:20260421T153154
CREATED:20251230T085658Z
LAST-MODIFIED:20260329T061657Z
UID:17702-1773567000-1773590400@marktenmeer.nl
SUMMARY:Indoor Markt Schagen – zondag 15 maart 2026
DESCRIPTION:De indoor markt in Schagen op zondag 15 maart 2026 vindt plaats in de vertrouwde Groeneweghal. Deze sporthal is al jaren een vaste locatie voor binnenmarkten en staat bekend om de goede bereikbaarheid en ruime parkeergelegenheid. \nBinnen presenteren standhouders hun artikelen vanaf overzichtelijk ingerichte kramen. Het aanbod bestaat uit onder andere tweedehands spullen en curiosa. Dankzij de binnenlocatie kunnen bezoekers comfortabel rondlopen en rustig de tijd nemen om te kijken en te vergelijken. \nDe markt heeft een toegankelijke en gemoedelijke sfeer en trekt bezoekers uit Schagen en de regio. De kantine op de begane grond biedt extra gemak tijdens het bezoek. Een fijne afsluiter van het winterseizoen en een gezellige zondagactiviteit. \nPraktische informatie\n\nDatum: zondag 15 maart 2026\nTijd: 09:30 – 16:00 uur\nLocatie: Groeneweghal\, Schagen\n\nTarieven & entree\n\nKraam (4 m + balk): € 29\,50\nGrondplaats 4 m: € 19\,00\nKraam + grondplaats (8 m): € 43\,00\nEntree bezoekers: € 3\,00\nKinderen t/m 12 jaar: gratis
URL:https://marktenmeer.nl/markt/indoor-markt-schagen-15-maart-2026/
LOCATION:Groeneweghal\, Schagen\, Wilgenlaan 1a\, Schagen\, Netherlands
CATEGORIES:Noord-Holland,Rommelmarkten,Rommelmarkten Noord-Holland
END:VEVENT
END:VCALENDAR