BEGIN:VCALENDAR
VERSION:2.0
PRODID:-//Markten en meer - ECPv6.15.20//NONSGML v1.0//EN
CALSCALE:GREGORIAN
METHOD:PUBLISH
X-ORIGINAL-URL:https://marktenmeer.nl
X-WR-CALDESC:Evenementen voor Markten en meer
REFRESH-INTERVAL;VALUE=DURATION:PT1H
X-Robots-Tag:noindex
X-PUBLISHED-TTL:PT1H
BEGIN:VTIMEZONE
TZID:Europe/Amsterdam
BEGIN:DAYLIGHT
TZOFFSETFROM:+0100
TZOFFSETTO:+0200
TZNAME:CEST
DTSTART:20250330T010000
END:DAYLIGHT
BEGIN:STANDARD
TZOFFSETFROM:+0200
TZOFFSETTO:+0100
TZNAME:CET
DTSTART:20251026T010000
END:STANDARD
BEGIN:DAYLIGHT
TZOFFSETFROM:+0100
TZOFFSETTO:+0200
TZNAME:CEST
DTSTART:20260329T010000
END:DAYLIGHT
BEGIN:STANDARD
TZOFFSETFROM:+0200
TZOFFSETTO:+0100
TZNAME:CET
DTSTART:20261025T010000
END:STANDARD
BEGIN:DAYLIGHT
TZOFFSETFROM:+0100
TZOFFSETTO:+0200
TZNAME:CEST
DTSTART:20270328T010000
END:DAYLIGHT
BEGIN:STANDARD
TZOFFSETFROM:+0200
TZOFFSETTO:+0100
TZNAME:CET
DTSTART:20271031T010000
END:STANDARD
END:VTIMEZONE
BEGIN:VEVENT
DTSTART;TZID=Europe/Amsterdam:20261107T080000
DTEND;TZID=Europe/Amsterdam:20261107T160000
DTSTAMP:20260419T152016
CREATED:20260318T105204Z
LAST-MODIFIED:20260329T062911Z
UID:23034-1794038400-1794067200@marktenmeer.nl
SUMMARY:Snuffelmarkt Middelburg – 7 november 2026
DESCRIPTION:De snuffelmarkt in Middelburg op het Damplein is een maandelijkse markt waar bezoekers rustig kunnen rondkijken tussen tweedehands spullen\, vintage items en curiosa. Deze rommelmarkt op de Graanbeurs trekt een breed publiek\, van lokale bezoekers tot toeristen die op zoek zijn naar betaalbare en unieke vondsten. Door de centrale ligging in Middelburg is de markt goed bereikbaar en eenvoudig te combineren met een bezoek aan de binnenstad. De combinatie van een snuffelmarkt in Middelburg en het karakteristieke Damplein zorgt voor een toegankelijke en ontspannen sfeer. \nDe markt heeft een informele opzet met een wisselend aanbod. Je vindt er onder andere kleding\, boeken\, huisraad en verzamelobjecten. Het aantal kramen kan per editie verschillen\, waardoor elk bezoek anders is. De indeling is overzichtelijk en geschikt om op je gemak langs alle kramen te lopen. \n\n\n \nVoor bezoekers\n\nDatum: zaterdag 7 november 2026\nTijd: 08.00 – 16.00\nLocatie: Damplein (Graanbeurs)\, Middelburg\nType markt: snuffelmarkt / rommelmarkt\nEntree: gratis\nLigging: centraal in de binnenstad\n\nVoor standhouders\n\nDoelgroep: breed publiek\, inclusief toeristen en koopjeszoekers\nFrequentie: elke eerste zaterdag van de maand (maart t/m december\, december afwijkende locatie)\n\nDeze markt biedt standhouders een vaste plek in het centrum van Middelburg met een stabiele bezoekersstroom. Door de maandelijkse frequentie is het geschikt voor verkopers die regelmatig willen deelnemen en herkenbaarheid willen opbouwen. \nVoor meer informatie of deelname:Telefoon: 0118 624 736E-mail: schetsmarkten@zeelandnet.nl \nEen overzichtelijke en toegankelijke markt in het centrum van Middelburg.
URL:https://marktenmeer.nl/markt/snuffelmarkt-middelburg-graanbeurs-7-november-2026/
LOCATION:Middelburg\, Middelburg\, Netherlands
CATEGORIES:Rommelmarkten,Rommelmarkten Zeeland,Zeeland
END:VEVENT
BEGIN:VEVENT
DTSTART;VALUE=DATE:20261113
DTEND;VALUE=DATE:20261116
DTSTAMP:20260419T152016
CREATED:20260401T213145Z
LAST-MODIFIED:20260401T213145Z
UID:24444-1794528000-1794787199@marktenmeer.nl
SUMMARY:Winterfair Heinkenszand – Heinkenszand – 13 t/m 15 november 2026
DESCRIPTION:Van vrijdag 13 tot en met zondag 15 november 2026 vindt de Winterfair plaats in Heinkenszand. Deze wintermarkt in Heinkenszand wordt georganiseerd in De Stenge en staat volledig in het teken van de feestdagen. Bezoekers kunnen rustig rondstruinen langs kraampjes met cadeaus\, lekkernijen en handgemaakte producten. De indoor setting zorgt voor een toegankelijke en comfortabele omgeving om inspiratie op te doen voor de winterperiode. \nDe sfeer is warm en feestelijk. Je vindt er een mix van producten zoals woondecoratie\, cadeaus en ambachtelijke artikelen. Daarnaast is er een gevarieerd programma met muziek\, optredens en activiteiten voor kinderen. Op de bovenverdieping is er extra aandacht voor kunst\, waar makers hun werk tonen en toelichten. Dit maakt de fair geschikt voor een breed publiek. \nVoor bezoekers\n\nDatum: 13 t/m 15 november 2026\nPlaats: Heinkenszand\nLocatie: De Stenge\, Stengeplein\nType markt: winterfair / kerstmarkt\n\nVrijdag 13 november \n\nOpening: 13:30 uur\n\nZaterdag 14 november \n\nOpening: 11:30 uur\n\nZondag 15 november \n\nOpening: 10:30 uur\nEntree: gratis\nAanbod: cadeaus\, woondecoratie\, lekkernijen en ambacht\nExtra: live muziek\, kinderactiviteiten\, kunstexpositie\nBinnenlocatie: ja\n\nVoor standhouders\nDe Winterfair in Heinkenszand trekt een breed publiek dat op zoek is naar cadeaus en inspiratie voor de feestdagen. De combinatie van markt en programma zorgt voor een langere verblijfsduur. \nStandhouders profiteren van een sfeervolle setting waarin beleving en presentatie een belangrijke rol spelen. \nEen bezoek aan deze markt in Heinkenszand biedt een toegankelijke en gezellige start van het winterseizoen.
URL:https://marktenmeer.nl/markt/winterfair-heinkenszand-2026/
LOCATION:Heinkenszand\, Heinkenszand\, Netherlands
CATEGORIES:Kerstmarkt Zeeland,Kerstmarkten,Zeeland
END:VEVENT
BEGIN:VEVENT
DTSTART;TZID=Europe/Amsterdam:20261127T140000
DTEND;TZID=Europe/Amsterdam:20261127T200000
DTSTAMP:20260419T152016
CREATED:20260416T102200Z
LAST-MODIFIED:20260416T102200Z
UID:25767-1795788000-1795809600@marktenmeer.nl
SUMMARY:Winterfair Arnemuiden – 27 november 2026
DESCRIPTION:Op vrijdag 27 november 2026 vindt de Winterfair in Arnemuiden plaats\, georganiseerd door de Ondernemersvereniging Arnemuiden. Dit winterse evenement in Arnemuiden staat in het teken van sfeer\, gezelligheid en samenkomen in het centrum van het stadje. De Winterfair trekt bezoekers die op zoek zijn naar een knusse markt met een combinatie van kramen\, food en activiteiten in een winterse setting. \nDe sfeer is warm en feestelijk\, met kraampjes\, foodtrucks en diverse activiteiten verspreid door het centrum. Bezoekers kunnen rustig langs de stands wandelen\, iets eten of drinken en genieten van muziek en entertainment. Net als voorgaande edities kun je rekenen op een gevarieerd programma met optredens\, demonstraties en activiteiten voor jong en oud. Ook lokale winkels zijn betrokken en zorgen voor extra levendigheid tijdens het evenement. \nVoor bezoekers\n\nDatum: vrijdag 27 november 2026\nTijd: 14:00 – 20:00\nLocatie: centrum Arnemuiden\nType evenement: winterfair / braderie\nEntree: gratis\nAanbod: kramen\, foodtrucks\, muziek en winterse activiteiten\nExtra: winkels geopend\, entertainment en optredens [controleer programma]\nKenmerk: sfeervol winterevent met lokaal karakter\n\nVoor standhouders\nDe Winterfair in Arnemuiden biedt standhouders een plek tijdens een goedbezocht evenement met een gezellige en toegankelijke sfeer. De combinatie van markt en entertainment zorgt voor een constante bezoekersstroom. \n\nOrganisatie: Ondernemersvereniging Arnemuiden\n\nStandhouders profiteren van een evenement dat gericht is op beleving\, waarbij bezoekers langer blijven en meerdere kramen bezoeken. \nDe Winterfair in Arnemuiden is een sfeervol winterevenement met een combinatie van markt\, horeca en activiteiten.
URL:https://marktenmeer.nl/markt/winterfair-arnemuiden-2026/
LOCATION:Arnemuiden\, Arnemuiden\, Netherlands
CATEGORIES:Kerstmarkt Zeeland,Kerstmarkten,Zeeland
END:VEVENT
END:VCALENDAR