BEGIN:VCALENDAR
VERSION:2.0
PRODID:-//Markten en meer - ECPv6.15.20//NONSGML v1.0//EN
CALSCALE:GREGORIAN
METHOD:PUBLISH
X-WR-CALNAME:Markten en meer
X-ORIGINAL-URL:https://marktenmeer.nl
X-WR-CALDESC:Evenementen voor Markten en meer
REFRESH-INTERVAL;VALUE=DURATION:PT1H
X-Robots-Tag:noindex
X-PUBLISHED-TTL:PT1H
BEGIN:VTIMEZONE
TZID:Europe/Amsterdam
BEGIN:DAYLIGHT
TZOFFSETFROM:+0100
TZOFFSETTO:+0200
TZNAME:CEST
DTSTART:20250330T010000
END:DAYLIGHT
BEGIN:STANDARD
TZOFFSETFROM:+0200
TZOFFSETTO:+0100
TZNAME:CET
DTSTART:20251026T010000
END:STANDARD
BEGIN:DAYLIGHT
TZOFFSETFROM:+0100
TZOFFSETTO:+0200
TZNAME:CEST
DTSTART:20260329T010000
END:DAYLIGHT
BEGIN:STANDARD
TZOFFSETFROM:+0200
TZOFFSETTO:+0100
TZNAME:CET
DTSTART:20261025T010000
END:STANDARD
BEGIN:DAYLIGHT
TZOFFSETFROM:+0100
TZOFFSETTO:+0200
TZNAME:CEST
DTSTART:20270328T010000
END:DAYLIGHT
BEGIN:STANDARD
TZOFFSETFROM:+0200
TZOFFSETTO:+0100
TZNAME:CET
DTSTART:20271031T010000
END:STANDARD
END:VTIMEZONE
BEGIN:VEVENT
DTSTART;TZID=Europe/Amsterdam:20260706T100000
DTEND;TZID=Europe/Amsterdam:20260706T170000
DTSTAMP:20260417T160515
CREATED:20260404T051914Z
LAST-MODIFIED:20260404T051914Z
UID:24695-1783332000-1783357200@marktenmeer.nl
SUMMARY:Maandagmarkt Middelburg (Stadhuisplein) – 6 juli 2026
DESCRIPTION:Op maandag 6 juli 2026 vindt de wekelijkse maandagmarkt plaats op het plein voor het stadhuis in Middelburg. Deze boeken- en verzamelmarkt in Middelburg maakt deel uit van de reeks die loopt tot en met september en trekt een breed publiek van verzamelaars\, toeristen en dagjesmensen. Door de vaste dag en centrale locatie is het een herkenbare plek in de binnenstad. \nDe sfeer is ontspannen en gericht op rustig rondkijken. Op de markt staan verkopers met boeken\, brocante\, curiosa en antiek. Daarnaast kom je er kleinere items tegen zoals sieraden\, munten\, speelgoed en andere verzamelobjecten. Het aanbod wisselt per week\, waardoor er steeds nieuwe vondsten te ontdekken zijn. \nVoor bezoekers\n\nDatum: maandag 6 juli 2026\nLocatie: plein voor het stadhuis\, Middelburg\nType markt: boeken- en verzamelmarkt\nEntree: gratis\nAanbod: boeken\, brocante\, curiosa en antiek\n\nDe markt is goed te combineren met een bezoek aan de binnenstad en omliggende winkels en horeca. \nVoor standhouders\nDe maandagmarkt richt zich op verkopers van boeken en verzamelobjecten die een breed publiek willen bereiken. \n\nKraamprijs: €50 per kraam\nDoelgroep: verzamelaars\, toeristen en dagjesmensen\nProducten: boeken\, brocante\, curiosa en antiek\nInschrijving: vooraf aanmelden\n\nDoor de wekelijkse opzet is er een terugkerend publiek dat gericht op zoek is naar bijzondere items. \nEen vaste markt voor liefhebbers van boeken en verzamelobjecten in Middelburg.
URL:https://marktenmeer.nl/markt/maandagmarkt-middelburg-6-juli-2026/
LOCATION:Middelburg\, Middelburg\, Netherlands
CATEGORIES:Antiek- en curiosamarkten,Antiek- en curiosamarkten Zeeland,Boekenmarkt,Boekenmarkt Zeeland,Brocantemarkten,Brocantemarkten Zeeland,Zeeland
END:VEVENT
BEGIN:VEVENT
DTSTART;TZID=Europe/Amsterdam:20260706T150000
DTEND;TZID=Europe/Amsterdam:20260706T200000
DTSTAMP:20260417T160515
CREATED:20260223T141458Z
LAST-MODIFIED:20260329T062953Z
UID:20120-1783350000-1783368000@marktenmeer.nl
SUMMARY:Jaarmarkt Westdorpe met Kermis – Westdorpe – 6 juli 2026
DESCRIPTION:Op maandag 6 juli 2026 organiseert LineUpMarkten de Jaarmarkt Westdorpe met Kermis. Van 15.00 tot 20.00 uur staat het dorp in het teken van een combinatie van markt en kermis\, wat zorgt voor extra levendigheid in het centrum. \nDe jaarmarkt in Westdorpe trekt bezoekers uit het dorp en omliggende plaatsen. Langs de route staan diverse kramen met onder meer mode\, accessoires\, cadeauartikelen\, huishoudelijke producten en seizoensgebonden items. De aanwezigheid van de kermis maakt het evenement aantrekkelijk voor jong en oud. \nVoor bezoekers\nPraktische informatie \n\nType markt: jaarmarkt met kermis\nPlaats: Westdorpe\nDatum: maandag 6 juli 2026\nTijd: 15.00 – 20.00 uur\nLocatie: centrum van Westdorpe\nEntree: gratis\nFood aanwezig: ja\n\nDe middag- en avondtijden maken de markt goed toegankelijk voor bezoekers die later op de dag willen langskomen. \nVoor standhouders\nDe organisatie is in handen van LineUpMarkten en richt zich op een gevarieerd aanbod dat aansluit bij het dorpskarakter van het evenement. \nDeelnamemogelijkheden \n\nFood toegestaan: ja (in overleg)\nDoelgroep: bezoekers uit Westdorpe en omgeving\n\nDeelname is afhankelijk van beschikbaarheid en bevestiging door de organisatie. Voor actuele voorwaarden en inschrijving is het raadzaam contact op te nemen met LineUpMarkten.
URL:https://marktenmeer.nl/markt/jaarmarkt-westdorpe-met-kermis-6-juli-2026/
LOCATION:Westdorpe\, Westdorpe\, Netherlands
CATEGORIES:Braderie Zeeland,Braderieën,Jaarmarkten,Jaarmarkten Zeeland,Zeeland
END:VEVENT
END:VCALENDAR