BEGIN:VCALENDAR
VERSION:2.0
PRODID:-//Markten en meer - ECPv6.15.20//NONSGML v1.0//EN
CALSCALE:GREGORIAN
METHOD:PUBLISH
X-ORIGINAL-URL:https://marktenmeer.nl
X-WR-CALDESC:Evenementen voor Markten en meer
REFRESH-INTERVAL;VALUE=DURATION:PT1H
X-Robots-Tag:noindex
X-PUBLISHED-TTL:PT1H
BEGIN:VTIMEZONE
TZID:Europe/Amsterdam
BEGIN:DAYLIGHT
TZOFFSETFROM:+0100
TZOFFSETTO:+0200
TZNAME:CEST
DTSTART:20250330T010000
END:DAYLIGHT
BEGIN:STANDARD
TZOFFSETFROM:+0200
TZOFFSETTO:+0100
TZNAME:CET
DTSTART:20251026T010000
END:STANDARD
BEGIN:DAYLIGHT
TZOFFSETFROM:+0100
TZOFFSETTO:+0200
TZNAME:CEST
DTSTART:20260329T010000
END:DAYLIGHT
BEGIN:STANDARD
TZOFFSETFROM:+0200
TZOFFSETTO:+0100
TZNAME:CET
DTSTART:20261025T010000
END:STANDARD
BEGIN:DAYLIGHT
TZOFFSETFROM:+0100
TZOFFSETTO:+0200
TZNAME:CEST
DTSTART:20270328T010000
END:DAYLIGHT
BEGIN:STANDARD
TZOFFSETFROM:+0200
TZOFFSETTO:+0100
TZNAME:CET
DTSTART:20271031T010000
END:STANDARD
END:VTIMEZONE
BEGIN:VEVENT
DTSTART;TZID=Europe/Amsterdam:20260801T080000
DTEND;TZID=Europe/Amsterdam:20260801T160000
DTSTAMP:20260421T163604
CREATED:20260318T104430Z
LAST-MODIFIED:20260329T062926Z
UID:23028-1785571200-1785600000@marktenmeer.nl
SUMMARY:Snuffelmarkt Middelburg – 1 augustus 2026
DESCRIPTION:De snuffelmarkt in Middelburg op het Damplein is een maandelijkse markt waar je rustig kunt rondkijken tussen tweedehands spullen\, vintage items en curiosa. Deze rommelmarkt op de Graanbeurs trekt een breed publiek van lokale bezoekers en toeristen die op zoek zijn naar betaalbare vondsten. Door de centrale ligging in Middelburg is de markt goed bereikbaar en eenvoudig te combineren met een bezoek aan winkels en horeca in de binnenstad. De combinatie van een snuffelmarkt in Middelburg en het historische plein zorgt voor een toegankelijke en ontspannen sfeer. \nDe markt heeft een informele opzet met een wisselend aanbod. Je vindt er onder andere kleding\, boeken\, huisraad en verzamelobjecten. Het aantal kramen kan per editie variëren\, waardoor elk bezoek anders is. De indeling is overzichtelijk\, wat het prettig maakt om langs alle kramen te lopen. \n\n\n \nVoor bezoekers\n\nDatum: zaterdag 1 augustus 2026\nTijd: 08.00 – 16.00\nLocatie: Damplein (Graanbeurs)\, Middelburg\nType markt: snuffelmarkt / rommelmarkt\nEntree: gratis\nLigging: centraal in de binnenstad\n\nVoor standhouders\n\nDoelgroep: breed publiek\, inclusief toeristen en koopjeszoekers\nFrequentie: elke eerste zaterdag van de maand (maart t/m december\, december afwijkende locatie)\n\nDeze markt biedt standhouders een vaste plek in het centrum van Middelburg met een constante stroom bezoekers. Door de maandelijkse frequentie is het geschikt voor verkopers die regelmatig willen deelnemen. \nVoor meer informatie of aanmelden:Telefoon: 0118 624 736E-mail: schetsmarkten@zeelandnet.nl \nEen toegankelijke en terugkerende markt voor een ontspannen bezoek in Middelburg.
URL:https://marktenmeer.nl/markt/snuffelmarkt-middelburg-graanbeurs-1-augustus-2026/
LOCATION:Middelburg\, Middelburg\, Netherlands
CATEGORIES:Rommelmarkten,Rommelmarkten Zeeland,Zeeland
END:VEVENT
BEGIN:VEVENT
DTSTART;TZID=Europe/Amsterdam:20260801T100000
DTEND;TZID=Europe/Amsterdam:20260801T170000
DTSTAMP:20260421T163604
CREATED:20251119T090425Z
LAST-MODIFIED:20260329T062926Z
UID:15049-1785578400-1785603600@marktenmeer.nl
SUMMARY:Jaarmarkt Sint-Maartensdijk – 1 augustus 2026
DESCRIPTION:Op zaterdag 1 augustus wordt in Sint-Maartensdijk de jaarmarkt georganiseerd. Deze markt is een vaste zomertrekker op Tholen en trekt bezoekers uit de hele regio. Het aanbod loopt uiteen van mode\, sieraden\, ambacht en decoratie tot speelgoed\, streekproducten en zomerse lekkernijen. \nDe lange route door het centrum zorgt voor een goede doorloop en een levendige dag. De markt wordt vaak gecombineerd met een bezoek aan de winkels en horeca van Sint-Maartensdijk\, waardoor er tot het einde van de middag veel publiek aanwezig blijft. \nEen aantrekkelijke markt voor standhouders die brede zichtbaarheid zoeken.Geopend van 10.00 tot 17.00 uur.
URL:https://marktenmeer.nl/markt/jaarmarkt-sint-maartensdijk-1-augustus-2026/
LOCATION:Sint-Maartensdijk\, Sint-Maartensdijk\, Netherlands
CATEGORIES:Braderie Zeeland,Braderieën,Zeeland
END:VEVENT
BEGIN:VEVENT
DTSTART;TZID=Europe/Amsterdam:20260801T100000
DTEND;TZID=Europe/Amsterdam:20260801T170000
DTSTAMP:20260421T163604
CREATED:20260120T083138Z
LAST-MODIFIED:20260329T062926Z
UID:18535-1785578400-1785603600@marktenmeer.nl
SUMMARY:Ibizamarkt Zoutelande – zaterdag 1 augustus 2026
DESCRIPTION:Op zaterdag 1 augustus 2026 strijkt de Ibizamarkt neer in Zoutelande. Deze zomerse themamarkt staat bekend om haar ontspannen sfeer\, creatieve stands en mix van lifestyle\, mode en handgemaakte producten. Een dagje struinen langs inspirerende kramen\, met de Zeeuwse kust op loopafstand\, maakt deze markt aantrekkelijk voor zowel bezoekers als standhouders. \nDe Ibizamarkt in Zoutelande is gericht op bezoekers die houden van unieke producten\, kleine labels en een gemoedelijke marktbeleving. Denk aan sieraden\, accessoires\, woonitems\, kunst en cadeaus die je niet in de winkelstraat vindt. Voor creatieve ondernemers is dit een toegankelijke markt om zichtbaar te zijn en direct in contact te komen met een breed publiek. \nPraktische informatie\n\nDatum: zaterdag 1 augustus 2026\nTijd: 10.00 – 17.00 uur\nPlaats: Zoutelande\nKraamhuur: € 72\,50 excl. 21% btw\nGrondplaats: € 16\,00 per meter\, excl. 21% btw\n\nDe markt wordt georganiseerd door Kroko’s Evenementen en staat bekend om een duidelijke organisatie en vaste bezoekersstroom. Of je nu komt om te shoppen\, inspiratie op te doen of jouw merk te presenteren: deze Ibizamarkt past perfect bij de zomerse drukte in Zoutelande.
URL:https://marktenmeer.nl/markt/ibizamarkt-zoutelande-1-augustus-2026/
LOCATION:Zoutelande\, Zoutelande\, Netherlands
CATEGORIES:Ibizamarkt,Ibizamarkt Zeeland,Zeeland
END:VEVENT
BEGIN:VEVENT
DTSTART;TZID=Europe/Amsterdam:20260801T110000
DTEND;TZID=Europe/Amsterdam:20260801T170000
DTSTAMP:20260421T163604
CREATED:20260415T071042Z
LAST-MODIFIED:20260415T071042Z
UID:25685-1785582000-1785603600@marktenmeer.nl
SUMMARY:Montmartre op Montmaertre Zierikzee – 1 augustus 2026
DESCRIPTION:Montmartre op Montmaertre in Zierikzee vindt plaats op zaterdag 1 augustus 2026 op Plein Montmaertre. Deze creatieve markt in Zierikzee brengt kunstenaars en makers samen die hun werk tonen en ter plekke bezig zijn met schilderen\, tekenen en andere ambachten. Bezoekers lopen langs werkplekken en kleine stands met onder andere kunst\, keramiek\, sieraden en handgemaakte producten. \nDe sfeer is ontspannen en uitnodigend. Op het plein met terrassen en een fontein neem je de tijd om rond te kijken en makers aan het werk te zien. Doordat deelnemers live creëren\, ontstaat er een open setting waarin je gemakkelijk contact maakt en meer leert over het maakproces. \nVoor bezoekers\n\nDatum: 1 augustus 2026\nTijd: 11:00 – 17:00\nLocatie: Plein Montmaertre\, Maarstraat\, Zierikzee\nType markt: creatieve markt / kunstmarkt\nAanbod: kunst\, schilderijen\, keramiek\, sieraden en handgemaakte producten\nEntree: gratis\nLet op: gaat alleen door bij droog weer\n\nVoor standhouders\nMontmartre op Montmaertre is gericht op kunstenaars en creatievelingen die hun werk willen tonen en direct willen werken op locatie. \n\nStandplaats: eigen tafel\, stoel of ezel meenemen\nPrijs: gratis\nOpzet: vrije deelname zonder aanmelding\n\nDe open opzet maakt deelname laagdrempelig voor makers die zichtbaar willen zijn in een creatieve omgeving. \nDeze editie is een praktische keuze voor wie een kunstmarkt in Zierikzee wil bezoeken.
URL:https://marktenmeer.nl/markt/montmartre-op-montmaertre-zierikzee-1-augustus-2026/
LOCATION:Zierikzee\, Zierikzee\, Netherlands
CATEGORIES:Creatieve Markt Zeeland,Creatieve markten,Zeeland
END:VEVENT
BEGIN:VEVENT
DTSTART;TZID=Europe/Amsterdam:20260801T150000
DTEND;TZID=Europe/Amsterdam:20260801T210000
DTSTAMP:20260421T163604
CREATED:20260120T082825Z
LAST-MODIFIED:20260329T062926Z
UID:18533-1785596400-1785618000@marktenmeer.nl
SUMMARY:Zomeravondmarkt Burgh-Haamstede – zaterdag 1 augustus 2026 | Burgh-Haamstede
DESCRIPTION:Op zaterdag 1 augustus 2026 staat Burgh-Haamstede opnieuw in het teken van de Zomeravondmarkt\, dit keer in de avonduren. Deze zaterdageditie heeft een andere dynamiek dan de dagmarkten en is extra sfeervol. \nVan 15:00 tot 21:00 uur komt het centrum tot leven met marktkramen en zomerse gezelligheid. Naarmate de avond vordert\, wordt het drukker en intiemer. Veel bezoekers combineren de markt met uit eten gaan of een avondwandeling door het dorp. \nDeze Zomeravondmarkt is ideaal voor wie overdag andere plannen heeft en ’s avonds nog iets leuks wil doen. Een ontspannen afsluiting van een zomerse zaterdag. \nPraktisch \n\nTijd: 15:00 – 21:00 uur\nLocatie: Centrum Burgh-Haamstede
URL:https://marktenmeer.nl/markt/zomeravondmarkt-burgh-haamstede-1-augustus-2026/
LOCATION:Burgh-Haamstede\, Burgh-Haamstede\, Netherlands
CATEGORIES:Braderie Zeeland,Braderieën,Zeeland
END:VEVENT
END:VCALENDAR