BEGIN:VCALENDAR
VERSION:2.0
PRODID:-//Markten en meer - ECPv6.15.20//NONSGML v1.0//EN
CALSCALE:GREGORIAN
METHOD:PUBLISH
X-WR-CALNAME:Markten en meer
X-ORIGINAL-URL:https://marktenmeer.nl
X-WR-CALDESC:Evenementen voor Markten en meer
REFRESH-INTERVAL;VALUE=DURATION:PT1H
X-Robots-Tag:noindex
X-PUBLISHED-TTL:PT1H
BEGIN:VTIMEZONE
TZID:Europe/Amsterdam
BEGIN:DAYLIGHT
TZOFFSETFROM:+0100
TZOFFSETTO:+0200
TZNAME:CEST
DTSTART:20250330T010000
END:DAYLIGHT
BEGIN:STANDARD
TZOFFSETFROM:+0200
TZOFFSETTO:+0100
TZNAME:CET
DTSTART:20251026T010000
END:STANDARD
BEGIN:DAYLIGHT
TZOFFSETFROM:+0100
TZOFFSETTO:+0200
TZNAME:CEST
DTSTART:20260329T010000
END:DAYLIGHT
BEGIN:STANDARD
TZOFFSETFROM:+0200
TZOFFSETTO:+0100
TZNAME:CET
DTSTART:20261025T010000
END:STANDARD
BEGIN:DAYLIGHT
TZOFFSETFROM:+0100
TZOFFSETTO:+0200
TZNAME:CEST
DTSTART:20270328T010000
END:DAYLIGHT
BEGIN:STANDARD
TZOFFSETFROM:+0200
TZOFFSETTO:+0100
TZNAME:CET
DTSTART:20271031T010000
END:STANDARD
END:VTIMEZONE
BEGIN:VEVENT
DTSTART;TZID=Europe/Amsterdam:20260802T110000
DTEND;TZID=Europe/Amsterdam:20260802T170000
DTSTAMP:20260421T103458
CREATED:20260120T083332Z
LAST-MODIFIED:20260329T062926Z
UID:18537-1785668400-1785690000@marktenmeer.nl
SUMMARY:Jaarmarkt Powerhorse Noordwelle – zondag 2 augustus 2026
DESCRIPTION:De Jaarmarkt Powerhorse in Noordwelle vindt plaats op zondag 2 augustus 2026 en is een toegankelijke\, goed bezochte markt met een brede opzet. Deze jaarmarkt trekt een gevarieerd publiek uit Noordwelle en omliggende dorpen en is geschikt voor zowel startende als ervaren standhouders. \nBezoekers komen hier om rustig te winkelen\, bij te praten en lokale en creatieve producten te ontdekken. Het aanbod bestaat uit onder andere mode\, accessoires\, cadeauartikelen\, woondecoratie en ambachtelijke producten. Door de zondag en de zomervakantie is de kans groot op extra aanloop van recreanten en dagjesmensen. \nVoor ondernemers is dit een praktische markt met overzichtelijke tijden en duidelijke voorwaarden. De sfeer is laagdrempelig en persoonlijk\, wat zorgt voor makkelijk contact met bezoekers en ruimte voor verkoop én zichtbaarheid. \nPraktische informatie\n\nDatum: zondag 2 augustus 2026\nTijd: 11.00 – 17.00 uur\nPlaats: Noordwelle\nKraamhuur: € 72\,50 excl. 21% btw\nGrondplaats: € 16\,00 per meter\, excl. 21% btw\n\nDe organisatie is in handen van Kroko’s Evenementen. Deze markt is geschikt voor ondernemers die graag op een ontspannen manier hun producten presenteren aan een breed publiek.
URL:https://marktenmeer.nl/markt/jaarmarkt-noordwelle-2-augustus-2026/
LOCATION:Noordwelle\, Noordwelle\, Netherlands
CATEGORIES:Braderie Zeeland,Braderieën,Jaarmarkten,Jaarmarkten Zeeland,Zeeland
END:VEVENT
END:VCALENDAR