BEGIN:VCALENDAR
VERSION:2.0
PRODID:-//Markten en meer - ECPv6.15.20//NONSGML v1.0//EN
CALSCALE:GREGORIAN
METHOD:PUBLISH
X-WR-CALNAME:Markten en meer
X-ORIGINAL-URL:https://marktenmeer.nl
X-WR-CALDESC:Evenementen voor Markten en meer
REFRESH-INTERVAL;VALUE=DURATION:PT1H
X-Robots-Tag:noindex
X-PUBLISHED-TTL:PT1H
BEGIN:VTIMEZONE
TZID:Europe/Amsterdam
BEGIN:DAYLIGHT
TZOFFSETFROM:+0100
TZOFFSETTO:+0200
TZNAME:CEST
DTSTART:20250330T010000
END:DAYLIGHT
BEGIN:STANDARD
TZOFFSETFROM:+0200
TZOFFSETTO:+0100
TZNAME:CET
DTSTART:20251026T010000
END:STANDARD
BEGIN:DAYLIGHT
TZOFFSETFROM:+0100
TZOFFSETTO:+0200
TZNAME:CEST
DTSTART:20260329T010000
END:DAYLIGHT
BEGIN:STANDARD
TZOFFSETFROM:+0200
TZOFFSETTO:+0100
TZNAME:CET
DTSTART:20261025T010000
END:STANDARD
BEGIN:DAYLIGHT
TZOFFSETFROM:+0100
TZOFFSETTO:+0200
TZNAME:CEST
DTSTART:20270328T010000
END:DAYLIGHT
BEGIN:STANDARD
TZOFFSETFROM:+0200
TZOFFSETTO:+0100
TZNAME:CET
DTSTART:20271031T010000
END:STANDARD
END:VTIMEZONE
BEGIN:VEVENT
DTSTART;TZID=Europe/Amsterdam:20261205T080000
DTEND;TZID=Europe/Amsterdam:20261205T160000
DTSTAMP:20260419T224400
CREATED:20260318T105357Z
LAST-MODIFIED:20260329T062911Z
UID:23036-1796457600-1796486400@marktenmeer.nl
SUMMARY:Snuffelmarkt Middelburg – 5 december 2026
DESCRIPTION:De snuffelmarkt in Middelburg krijgt in december een andere setting dan gebruikelijk. In plaats van het Damplein vindt deze editie plaats op de Markt\, bij de ijsbaan. Deze rommelmarkt in Middelburg biedt een vergelijkbaar aanbod van tweedehands spullen\, maar in een meer winterse omgeving. Bezoekers kunnen hier rondkijken tussen diverse kramen en het bezoek combineren met andere activiteiten in de binnenstad. De combinatie van een snuffelmarkt in Middelburg en de winterse sfeer op de Markt zorgt voor een andere beleving dan de eerdere edities van het jaar. \nHet aanbod blijft gevarieerd met onder andere kleding\, boeken\, huisraad en kleine vondsten. Door de andere locatie en periode hangt er een iets drukkere en seizoensgebonden sfeer. De markt blijft overzichtelijk opgezet\, zodat je rustig langs de kramen kunt lopen. \n\n\n \nVoor bezoekers\n\nDatum: zaterdag 5 december 2026\nTijd: 08.00 – 16.00\nLocatie: Markt (bij de ijsbaan)\, Middelburg\nType markt: snuffelmarkt / rommelmarkt\nEntree: gratis\nBijzonderheid: afwijkende locatie t.o.v. andere maanden\n\nVoor standhouders\n\nDoelgroep: breed publiek\, inclusief winkelend publiek en winterbezoekers\nFrequentie: maandelijkse markt\, december op alternatieve locatie\n\nDeze editie biedt standhouders een plek in een druk bezocht deel van de binnenstad\, met extra passanten door de winteractiviteiten rondom de ijsbaan. \nVoor meer informatie of aanmelden:Telefoon: 0118 624 736E-mail: schetsmarkten@zeelandnet.nl \nEen maandelijkse markt met een afwijkende\, winterse locatie in Middelburg.
URL:https://marktenmeer.nl/markt/snuffelmarkt-middelburg-5-december-2026/
LOCATION:Middelburg\, Middelburg\, Netherlands
CATEGORIES:Rommelmarkten,Rommelmarkten Zeeland,Zeeland
END:VEVENT
BEGIN:VEVENT
DTSTART;TZID=Europe/Amsterdam:20261227T130000
DTEND;TZID=Europe/Amsterdam:20261227T180000
DTSTAMP:20260419T224400
CREATED:20260223T101359Z
LAST-MODIFIED:20260329T062911Z
UID:20062-1798376400-1798394400@marktenmeer.nl
SUMMARY:Kerstmarkt The Day After Renesse – Renesse – 27 december 2026
DESCRIPTION:Op zondag 27 december 2026 organiseert LineUpMarkten de Kerstmarkt The Day After in het centrum van Renesse. Van 13.00 tot 18.00 uur kunnen bezoekers in ontspannen sfeer rondstruinen langs diverse kramen. Deze markt vindt plaats direct na de kerstdagen en biedt een laagdrempelig moment om nog even naar buiten te gaan tijdens de feestperiode. \nDe kerstmarkt in Renesse richt zich op een breed publiek van toeristen en bezoekers die tussen Kerst en Oud & Nieuw in de regio verblijven. Het aanbod bestaat uit uiteenlopende producten zoals mode\, accessoires\, cadeauartikelen\, decoratie en seizoensgebonden items. \nVoor bezoekers\nPraktische informatie \n\nType markt: kerstmarkt\nPlaats: Renesse\nDatum: zondag 27 december 2026\nTijd: 13.00 – 18.00 uur\nLocatie: centrum van Renesse\nEntree: grati\nFood aanwezig: ja\n\nDe markt is goed te combineren met een middag in het centrum of een bezoek aan de kust. \nVoor standhouders\nDe organisatie is in handen van LineUpMarkten en richt zich op een gevarieerd aanbod dat past binnen de winterperiode. \nDeelnamemogelijkheden \n\nKraamprijs: € 85\,- excl. btw\nFood toegestaan: ja (in overleg)\nDoelgroep: toeristen en bezoekers uit Renesse en omgeving\n\nDeelname is definitief na bevestiging door de organisatie en ontvangst van betaling. Voor actuele voorwaarden en beschikbaarheid is het raadzaam contact op te nemen met LineUpMarkten. \n[event_links]
URL:https://marktenmeer.nl/markt/kerstmarkt-the-day-after-renesse-27-december-2026/
LOCATION:Renesse\, Renesse\, Netherlands
CATEGORIES:Kerstmarkt Zeeland,Kerstmarkten,Zeeland
END:VEVENT
END:VCALENDAR