BEGIN:VCALENDAR
VERSION:2.0
PRODID:-//Markten en meer - ECPv6.15.20//NONSGML v1.0//EN
CALSCALE:GREGORIAN
METHOD:PUBLISH
X-ORIGINAL-URL:https://marktenmeer.nl
X-WR-CALDESC:Evenementen voor Markten en meer
REFRESH-INTERVAL;VALUE=DURATION:PT1H
X-Robots-Tag:noindex
X-PUBLISHED-TTL:PT1H
BEGIN:VTIMEZONE
TZID:Europe/Amsterdam
BEGIN:DAYLIGHT
TZOFFSETFROM:+0100
TZOFFSETTO:+0200
TZNAME:CEST
DTSTART:20250330T010000
END:DAYLIGHT
BEGIN:STANDARD
TZOFFSETFROM:+0200
TZOFFSETTO:+0100
TZNAME:CET
DTSTART:20251026T010000
END:STANDARD
BEGIN:DAYLIGHT
TZOFFSETFROM:+0100
TZOFFSETTO:+0200
TZNAME:CEST
DTSTART:20260329T010000
END:DAYLIGHT
BEGIN:STANDARD
TZOFFSETFROM:+0200
TZOFFSETTO:+0100
TZNAME:CET
DTSTART:20261025T010000
END:STANDARD
BEGIN:DAYLIGHT
TZOFFSETFROM:+0100
TZOFFSETTO:+0200
TZNAME:CEST
DTSTART:20270328T010000
END:DAYLIGHT
BEGIN:STANDARD
TZOFFSETFROM:+0200
TZOFFSETTO:+0100
TZNAME:CET
DTSTART:20271031T010000
END:STANDARD
END:VTIMEZONE
BEGIN:VEVENT
DTSTART;TZID=Europe/Amsterdam:20260405T110000
DTEND;TZID=Europe/Amsterdam:20260405T170000
DTSTAMP:20260423T090838
CREATED:20260401T180316Z
LAST-MODIFIED:20260401T180316Z
UID:24382-1775386800-1775408400@marktenmeer.nl
SUMMARY:Waddenmarkt Pieterburen – 1e paasdag – 5 april 2026
DESCRIPTION:Op zondag 5 april 2026 vindt de Waddenmarkt plaats in Pieterburen. Deze terugkerende markt in Pieterburen staat bekend als een gezellige streek-\, handel- en warenmarkt waar voor jong en oud iets te vinden is. Bezoekers kunnen op hun gemak langs de kraampjes wandelen\, genieten van vers bereide hapjes en de ontspannen sfeer ervaren. Door de combinatie van lokale producten\, tweedehands vondsten en creatieve artikelen is geen bezoek hetzelfde. De markt vormt een vaste ontmoetingsplek in het dorp\, waar bezoekers uit de regio samenkomen. \nDe sfeer is levendig en laagdrempelig\, met een gevarieerd aanbod van onder andere versgerookte vis\, groente en fruit\, streekkazen\, kleding\, sieraden en woonaccessoires. Ook voor gezinnen is er volop ruimte: kinderen kunnen zich vermaken op het grote speelplein van circa 2500 m². Dankzij de goede bereikbaarheid en gratis parkeergelegenheid is deze markt eenvoudig te bezoeken. \nVoor bezoekers\n\nDatum: 5 april 2026\nTijd: 11:00 – 17:00 uur\nPlaats: Pieterburen\nType markt: streekmarkt / warenmarkt / braderie\nAanbod: food\, streekproducten\, kleding\, accessoires en tweedehands items\nExtra: groot speelplein voor kinderen (± 2500 m²)\, horeca aanwezig\nParkeren: gratis\n\nVoor standhouders\nDe Waddenmarkt in Pieterburen trekt gedurende het seizoen een breed publiek van toeristen en lokale bezoekers. De markt is geschikt voor standhouders met food\, streekproducten\, ambachtelijke artikelen en lifestyleproducten. \n\nFood toegestaan: ja\nFrequentie: wekelijks in hoogseizoen\, tweewekelijks in voor- en najaar\n\nDoor de afwisseling in aanbod en bezoekers blijft elke editie van deze markt aantrekkelijk voor standhouders. \nEen bezoek aan deze markt in Pieterburen is een toegankelijke manier om de regio en lokale producten te ontdekken.
URL:https://marktenmeer.nl/markt/waddenmarkt-pieterburen-5-april-2026/
LOCATION:Pieterburen\, Pieterburen\, Netherlands
CATEGORIES:Braderie Groningen,Braderieën,Groningen,Paasmarkt Groningen,Paasmarkten,Streekmarkt,Streekmarkt Groningen
END:VEVENT
BEGIN:VEVENT
DTSTART;TZID=Europe/Amsterdam:20260403T100000
DTEND;TZID=Europe/Amsterdam:20260403T170000
DTSTAMP:20260423T090838
CREATED:20260202T093337Z
LAST-MODIFIED:20260329T060502Z
UID:19017-1775210400-1775235600@marktenmeer.nl
SUMMARY:Paasmarkt Kanaalpassage – vrijdag 3 april 2026 (Goede Vrijdag)
DESCRIPTION:Op vrijdag 3 april 2026 (Goede Vrijdag) staat de Kanaalpassage in Stadskanaal volledig in het teken van Pasen tijdens de jaarlijkse Paasmarkt. Van 10.00 tot 17.00 uur wordt het winkelcentrum omgetoverd tot een gezellige markt waar winkelen en beleving samenkomen. \nDe Paasmarkt trekt een breed publiek. Bezoekers combineren hun paasinkopen met het struinen langs diverse kramen en genieten van de extra sfeer die hoort bij deze feestdag. De markt is laagdrempelig en geschikt voor gezinnen\, winkelend publiek en bezoekers die speciaal voor de paasactiviteiten langskomen. Foodtrucks zorgen voor aanvullende horeca en maken het verblijf langer en aangenamer. \nVoor kraamhouders is de Paasmarkt een aantrekkelijk moment om zichtbaar te zijn. Goede Vrijdag is traditioneel een drukke winkeldag\, met een constante stroom bezoekers door de passage. De overdekte ligging zorgt voor zekerheid\, ongeacht het weer. Zowel food- als non-foodproducten passen goed binnen deze markt\, zeker wanneer zij aansluiten bij Pasen\, voorjaar of seizoensbeleving. \nPraktische informatie\n\nDatum: vrijdag 3 april 2026\nTijden: 10.00 – 17.00 uur\nType markt: paasmarkt\nLocatie: Kanaalpassage\, Stadskanaal
URL:https://marktenmeer.nl/markt/paasmarkt-kanaalpassage-stadskanaal-3-april-2026/
LOCATION:Kanaalpassage\, Stadskanaal\, Oude Markt 1H\, Stadskanaal\, Netherlands
CATEGORIES:Braderie Groningen,Braderieën,Groningen,Paasmarkt Groningen,Paasmarkten
END:VEVENT
BEGIN:VEVENT
DTSTART;TZID=Europe/Amsterdam:20260403T090000
DTEND;TZID=Europe/Amsterdam:20260403T180000
DTSTAMP:20260423T090838
CREATED:20260227T055116Z
LAST-MODIFIED:20260329T060502Z
UID:20636-1775206800-1775239200@marktenmeer.nl
SUMMARY:Bloemenjaarmarkt Groningen – Goede Vrijdag 3 april 2026
DESCRIPTION:De Bloemenjaarmarkt Groningen vindt in 2026 plaats op Goede Vrijdag\, 3 april 2026. Deze jaarlijkse bloemen- en plantenmarkt in de binnenstad van Groningen geldt als de grootste van Noord-Nederland en trekt ieder jaar tienduizenden bezoekers. In de volksmond staat het evenement bekend als de Bloemetjesmarkt. \nTijdens de Bloemenjaarmarkt in Groningen bieden ruim honderd marktkooplui hun assortiment aan. Je vindt er verse snijbloemen\, kamerplanten\, bloembollen\, zaaigoed\, tuin- en kuipplanten en diverse tuinartikelen. De combinatie van voorjaarsaanbod en de historische binnenstad zorgt voor een herkenbare sfeer op Goede Vrijdag. \nLocaties in de binnenstad\nDe markt verspreidt zich over meerdere plekken in het centrum van Gtoningen\, waaronder: \n\nGrote Markt\nVismarkt\nA-Kerkhof\nOude Ebbingestraat\nGuldenstraat\n\nVanuit verschillende toegangswegen naar de stad is de bloemenmarkt direct zichtbaar en merkbaar. \nPraktische informatie Bloemenjaarmarkt Groningen\n\nDatum: vrijdag 3 april 2026 (Goede Vrijdag)\nTijd bloemendepot: 09:00 – 18:00 uur\nLocatie: binnenstad Groningen\nAantal kramen: ruim 100\nToegang: gratis\n\nBloemendepot\nOp de Grote Markt bevindt zich het bloemendepot. Hier kun je tussen 09:00 en 18:00 uur gratis je aankopen in bewaring geven\, zodat je verder kunt winkelen of de stad kunt verkennen. \nDe Bloemenjaarmarkt Groningen op Goede Vrijdag 2026 is een vaste voorjaarstraditie in het centrum van de stad.
URL:https://marktenmeer.nl/markt/bloemenjaarmarkt-groningen-2026/
LOCATION:Groningen\, Centrum\, Groningen\, Netherlands
CATEGORIES:Groningen,Jaarmarkten,Jaarmarkten Groningen,Paasmarkt Groningen,Paasmarkten
END:VEVENT
BEGIN:VEVENT
DTSTART;TZID=Europe/Amsterdam:20260329T100000
DTEND;TZID=Europe/Amsterdam:20260329T163000
DTSTAMP:20260423T090838
CREATED:20251112T173758Z
LAST-MODIFIED:20260329T060502Z
UID:14055-1774778400-1774801800@marktenmeer.nl
SUMMARY:Stadjersmarkt Groningen – 6 april 2026 (Martiniplaza)
DESCRIPTION:Op maandag 6 april 2026 vindt de Stadjersmarkt in Groningen plaats in Martiniplaza. Deze overdekte markt op Tweede Paasdag combineert een vlooienmarkt en braderie onder één dak. Van 10:00 tot 16:30 uur kun je rondstruinen langs uiteenlopende kramen met tweedehands artikelen\, kleding\, curiosa en non-food producten. \nDankzij de binnenlocatie is de Stadjersmarkt in Martiniplaza een comfortabel uitje\, ongeacht het weer. De markt trekt bezoekers uit Groningen en omgeving die op zoek zijn naar koopjes\, bijzondere vondsten of gewoon een gezellige marktdag.\n\n\n \nVoor bezoekers\n\nDatum: maandag 6 april 2026\nTijd: 10:00 – 16:30 uur\nKassa open: 10:00 – 16:00 uur\nLocatie: Martiniplaza\, Leonard Springerlaan 2\, Groningen\nEntree: € 4\,00 per volwassene\nKinderen t/m 13 jaar: gratis\nStrippenkaart (15x entree): € 50\,00 (geldig op alle Vitalismarkten)\n\nDe markt is overzichtelijk opgezet en geschikt voor jong en oud. \nVoor standhouders\nStandplaatsen dienen vooraf gereserveerd te worden. Standhouders blijven tot 16:30 uur. \nInruimen: tussen 07:30 en 09:30 uur (melden vóór 09:15 uur) \nStandplaats vlooienmarkt\n\n5 meter: € 22\,50\n5 meter incl. kraam (4 meter): € 37\,50\nDiepte stand: 2\,50 meter\n\nStandplaats braderie\n\n4 meter: € 37\,50\nExtra meters: € 6\,50 per meter\n4 meter incl. kraam met bovenbouw: € 52\,50\nElke volgende kraam: € 41\,00\n\nFoodstands zijn niet mogelijk; horeca is in beheer van de locatie. \nDe Stadjersmarkt in Martiniplaza op 6 april 2026 biedt een toegankelijke overdekte marktdag in Groningen.
URL:https://marktenmeer.nl/markt/stadjersmarkt-groningen-29-maart-2026/
LOCATION:Martiniplaza\, Groningen\, Leonard Springerlaan 2\, Groningen\, 9727 KB\, Netherlands
CATEGORIES:Braderie Groningen,Braderieën,Groningen,Paasmarkt Groningen,Paasmarkten,Rommelmarkten,Rommelmarkten Groningen
END:VEVENT
END:VCALENDAR