BEGIN:VCALENDAR
VERSION:2.0
PRODID:-//Markten en meer - ECPv6.15.20//NONSGML v1.0//EN
CALSCALE:GREGORIAN
METHOD:PUBLISH
X-WR-CALNAME:Markten en meer
X-ORIGINAL-URL:https://marktenmeer.nl
X-WR-CALDESC:Evenementen voor Markten en meer
REFRESH-INTERVAL;VALUE=DURATION:PT1H
X-Robots-Tag:noindex
X-PUBLISHED-TTL:PT1H
BEGIN:VTIMEZONE
TZID:Europe/Amsterdam
BEGIN:DAYLIGHT
TZOFFSETFROM:+0100
TZOFFSETTO:+0200
TZNAME:CEST
DTSTART:20250330T010000
END:DAYLIGHT
BEGIN:STANDARD
TZOFFSETFROM:+0200
TZOFFSETTO:+0100
TZNAME:CET
DTSTART:20251026T010000
END:STANDARD
BEGIN:DAYLIGHT
TZOFFSETFROM:+0100
TZOFFSETTO:+0200
TZNAME:CEST
DTSTART:20260329T010000
END:DAYLIGHT
BEGIN:STANDARD
TZOFFSETFROM:+0200
TZOFFSETTO:+0100
TZNAME:CET
DTSTART:20261025T010000
END:STANDARD
BEGIN:DAYLIGHT
TZOFFSETFROM:+0100
TZOFFSETTO:+0200
TZNAME:CEST
DTSTART:20270328T010000
END:DAYLIGHT
BEGIN:STANDARD
TZOFFSETFROM:+0200
TZOFFSETTO:+0100
TZNAME:CET
DTSTART:20271031T010000
END:STANDARD
END:VTIMEZONE
BEGIN:VEVENT
DTSTART;TZID=Europe/Amsterdam:20260404T090000
DTEND;TZID=Europe/Amsterdam:20260404T160000
DTSTAMP:20260423T093911
CREATED:20260225T201702Z
LAST-MODIFIED:20260329T061626Z
UID:20474-1775293200-1775318400@marktenmeer.nl
SUMMARY:Kofferbakmarkt Schoorl – 4 april 2026
DESCRIPTION:Op zaterdag 4 april 2026 start het nieuwe seizoen van de Kofferbakmarkt Schoorl. Op het grasveld aan de Sportlaan in Schoorl kunnen bezoekers tussen 9.00 en 16.00 uur rondstruinen langs auto’s\, busjes en kramen vol tweedehands spullen. Deze vlooienmarkt in Schoorl staat bekend om het brede aanbod en de toegankelijke opzet. \nVan kleding en boeken tot gereedschap\, speelgoed en antiek: het aanbod wisselt per week. Ook worden er regelmatig lokaal geteelde producten en huisgemaakte artikelen aangeboden. De markt draagt bij aan hergebruik en circulaire economie. \nVoor bezoekers\nDatum: zaterdag 4 april 2026Tijd: 9.00 – 16.00 uurLocatie: Grasveld Sportlaan 7Plaats: SchoorlType markt: kofferbakmarkt / vlooienmarktEntree: gratis \nToiletgebouw is aanwezig. Parkeren kan op korte afstand van het terrein. \nVoor standhouders\nInschrijven: verplicht\, uiterlijk 12 uur voorafPlaatsen per markt: maximaal 100 \nTarieven: \n\nPersonenauto €19\,00\nStationwagon/combo €21\,00\nBestelbus/camper €24\,00\nVerlengde bestelbus €26\,00\nAanhanger enkelasser €5\,00\nAanhanger dubbelasser €10\,00\n\nOnline betalen of contant op de markt. 10-rittenkaart mogelijk. \nContact: 06-16263395
URL:https://marktenmeer.nl/markt/kofferbakmarkt-schoorl-4-april-2026/
LOCATION:Schoorl\, Schoorl\, Netherlands
CATEGORIES:Noord-Holland,Paasmarkt Noord-Holland,Paasmarkten,Rommelmarkten,Rommelmarkten Noord-Holland
END:VEVENT
BEGIN:VEVENT
DTSTART;TZID=Europe/Amsterdam:20260404T110000
DTEND;TZID=Europe/Amsterdam:20260404T163000
DTSTAMP:20260423T093911
CREATED:20260401T093611Z
LAST-MODIFIED:20260401T093611Z
UID:24238-1775300400-1775320200@marktenmeer.nl
SUMMARY:Paasmarkt WC Oostermeent Huizen – 4 april 2026
DESCRIPTION:Op zaterdag 4 april 2026 vindt de Paasmarkt plaats in winkelcentrum Oostermeent in Huizen. Deze markt in Huizen staat in het teken van Pasen en biedt een gezellige combinatie van braderie en themamarkt. Bezoekers kunnen rekenen op een gevarieerd aanbod van producten\, passend bij het voorjaar en de paasdagen. De Paasmarkt in winkelcentrum Oostermeent is een laagdrempelig evenement waar winkelen en sfeer samenkomen. \nDe markt heeft een toegankelijke en familievriendelijke sfeer. Je vindt er kramen met cadeauartikelen\, decoratie\, seizoensproducten en diverse lekkernijen. De paassfeer is zichtbaar in het aanbod en de aankleding\, wat zorgt voor een herkenbare en gezellige setting. Door de ligging in het winkelcentrum is de markt goed te combineren met een bezoek aan de winkels. \nVoor bezoekers\n\nDatum: zaterdag 4 april 2026\nTijd: 11:00 – 16:30 uur\nLocatie: winkelcentrum Oostermeent\, Huizen\nType markt: paasmarkt / braderie\nEntree: gratis\nAanbod: cadeauartikelen\, decoratie\, seizoensproducten en food\nExtra: combinatie met winkels in het centrum\n\nVoor standhouders\nVoor deze Paasmarkt zijn nog standplaatsen beschikbaar voor diverse branches. \n\nKraamgrootte: standaard marktkraam (ca. 4 meter)\nKraamprijs: €69\,-\nGrondplaats: 4 meter €49\,-\nDoelgroep: winkelend publiek\, gezinnen en bezoekers uit de regio\n\nAanmelden kan via de organisatie van Frits Events. \nDe Paasmarkt in Huizen biedt een toegankelijke markt met een seizoensgebonden aanbod in een winkelcentrum.
URL:https://marktenmeer.nl/markt/paasmarkt-oostermeent-huizen-2026/
LOCATION:Huizen\, Huizen\, Netherlands
CATEGORIES:Braderie Noord-Holland,Braderieën,Noord-Holland,Paasmarkt Noord-Holland,Paasmarkten
END:VEVENT
BEGIN:VEVENT
DTSTART;TZID=Europe/Amsterdam:20260405T110000
DTEND;TZID=Europe/Amsterdam:20260406T180000
DTSTAMP:20260423T093911
CREATED:20260401T085521Z
LAST-MODIFIED:20260401T085521Z
UID:24210-1775386800-1775498400@marktenmeer.nl
SUMMARY:Noordhollands Oldtimerfestival Venhuizen – 5 & 6 april 2026
DESCRIPTION:Tijdens het paasweekend vindt in Venhuizen opnieuw het Noordhollands Oldtimerfestival plaats. Dit bekende evenement brengt liefhebbers van klassieke voertuigen samen voor twee dagen vol historie en techniek. In meerdere hallen staan honderden oldtimers opgesteld: van personenauto’s en vrachtwagens tot motoren\, brommers en tractoren. De combinatie van een oldtimermarkt in Venhuizen met een uitgebreide tentoonstelling maakt dit evenement geschikt voor een breed publiek. Of je nu komt kijken\, herinneringen wilt ophalen of gericht op zoek bent naar onderdelen\, er is voor ieder wat te beleven. \nDe sfeer is gemoedelijk en nostalgisch. Naast de voertuigen is er een onderdelen- en curiosamarkt waar bezoekers kunnen struinen langs kramen met onderdelen\, miniaturen en verzamelobjecten. Muziek uit eerdere decennia en een horecaplek zorgen voor een ontspannen dagje uit. Nieuw dit jaar is een hal met drift- en supercars\, wat een interessant contrast biedt met de klassieke collectie. \nVoor bezoekers\n\nDatum: 5 & 6 april 2026\nTijd: 11.00 – 18.00 uur\nLocatie: Torenweg 44\, Venhuizen\nType markt: oldtimerfestival met onderdelen- en curiosamarkt\nEntree: €14\,- per persoon\nKinderen: t/m 12 jaar gratis\nAanbod: klassieke voertuigen\, onderdelenmarkt\, miniaturen\, horeca en muziek\n\nVoor standhouders\nVoor standhouders is er ruimte op de onderdelen- en curiosamarkt\, gericht op bezoekers met interesse in oldtimers\, techniek en verzamelobjecten. \n\nKraamgrootte: circa 4 meter\nKraamprijs: €65\,- inclusief kraam\nOpbouw: zaterdag voorafgaand aan het evenement\nBijzonderheden: voertuigen en handelswaar blijven gedurende het weekend in bewaakte hallen\n\nDe markt trekt een doelgroep van liefhebbers\, verzamelaars en gezinnen die geïnteresseerd zijn in klassieke voertuigen en nostalgie. \nHet Noordhollands Oldtimerfestival in Venhuizen biedt een combinatie van tentoonstelling en markt in een toegankelijke setting.
URL:https://marktenmeer.nl/markt/noordhollands-oldtimerfestival-venhuizen-5-6-april-2026/
LOCATION:Venhuizen\, Venhuizen\, Netherlands
CATEGORIES:Noord-Holland,Paasmarkt Noord-Holland,Paasmarkten,Verzamelbeurs,Verzamelbeurs Noord-Holland
END:VEVENT
END:VCALENDAR