BEGIN:VCALENDAR
VERSION:2.0
PRODID:-//Markten en meer - ECPv6.15.20//NONSGML v1.0//EN
CALSCALE:GREGORIAN
METHOD:PUBLISH
X-ORIGINAL-URL:https://marktenmeer.nl
X-WR-CALDESC:Evenementen voor Markten en meer
REFRESH-INTERVAL;VALUE=DURATION:PT1H
X-Robots-Tag:noindex
X-PUBLISHED-TTL:PT1H
BEGIN:VTIMEZONE
TZID:Europe/Amsterdam
BEGIN:DAYLIGHT
TZOFFSETFROM:+0100
TZOFFSETTO:+0200
TZNAME:CEST
DTSTART:20250330T010000
END:DAYLIGHT
BEGIN:STANDARD
TZOFFSETFROM:+0200
TZOFFSETTO:+0100
TZNAME:CET
DTSTART:20251026T010000
END:STANDARD
BEGIN:DAYLIGHT
TZOFFSETFROM:+0100
TZOFFSETTO:+0200
TZNAME:CEST
DTSTART:20260329T010000
END:DAYLIGHT
BEGIN:STANDARD
TZOFFSETFROM:+0200
TZOFFSETTO:+0100
TZNAME:CET
DTSTART:20261025T010000
END:STANDARD
BEGIN:DAYLIGHT
TZOFFSETFROM:+0100
TZOFFSETTO:+0200
TZNAME:CEST
DTSTART:20270328T010000
END:DAYLIGHT
BEGIN:STANDARD
TZOFFSETFROM:+0200
TZOFFSETTO:+0100
TZNAME:CET
DTSTART:20271031T010000
END:STANDARD
END:VTIMEZONE
BEGIN:VEVENT
DTSTART;TZID=Europe/Amsterdam:20260808T100000
DTEND;TZID=Europe/Amsterdam:20260808T170000
DTSTAMP:20260419T135926
CREATED:20251120T143122Z
LAST-MODIFIED:20260329T063252Z
UID:15203-1786183200-1786208400@marktenmeer.nl
SUMMARY:Platenbeurs – Gouda - 8 augustus 2026
DESCRIPTION:Deze sfeervolle editie in de Agnietenkapel biedt een mooi en divers aanbod voor verzamelaars die liever rustig snuffelen.
URL:https://marktenmeer.nl/markt/platenbeurs-gouda-8-augustus-2026/
LOCATION:Agnietenkapel\, Gouda\, Nieuwe Markt 100\, Gouda\, Netherlands
CATEGORIES:Platenbeurs,Platenbeurzen Zuid-Holland,Zuid-Holland
ORGANIZER;CN="Variaworld":MAILTO:info@variaworld.nl
END:VEVENT
END:VCALENDAR