BEGIN:VCALENDAR
VERSION:2.0
PRODID:-//Markten en meer - ECPv6.15.20//NONSGML v1.0//EN
CALSCALE:GREGORIAN
METHOD:PUBLISH
X-ORIGINAL-URL:https://marktenmeer.nl
X-WR-CALDESC:Evenementen voor Markten en meer
REFRESH-INTERVAL;VALUE=DURATION:PT1H
X-Robots-Tag:noindex
X-PUBLISHED-TTL:PT1H
BEGIN:VTIMEZONE
TZID:Europe/Amsterdam
BEGIN:DAYLIGHT
TZOFFSETFROM:+0100
TZOFFSETTO:+0200
TZNAME:CEST
DTSTART:20250330T010000
END:DAYLIGHT
BEGIN:STANDARD
TZOFFSETFROM:+0200
TZOFFSETTO:+0100
TZNAME:CET
DTSTART:20251026T010000
END:STANDARD
BEGIN:DAYLIGHT
TZOFFSETFROM:+0100
TZOFFSETTO:+0200
TZNAME:CEST
DTSTART:20260329T010000
END:DAYLIGHT
BEGIN:STANDARD
TZOFFSETFROM:+0200
TZOFFSETTO:+0100
TZNAME:CET
DTSTART:20261025T010000
END:STANDARD
BEGIN:DAYLIGHT
TZOFFSETFROM:+0100
TZOFFSETTO:+0200
TZNAME:CEST
DTSTART:20270328T010000
END:DAYLIGHT
BEGIN:STANDARD
TZOFFSETFROM:+0200
TZOFFSETTO:+0100
TZNAME:CET
DTSTART:20271031T010000
END:STANDARD
END:VTIMEZONE
BEGIN:VEVENT
DTSTART;TZID=Europe/Amsterdam:20260814T120000
DTEND;TZID=Europe/Amsterdam:20260814T170000
DTSTAMP:20260419T135921
CREATED:20251120T143529Z
LAST-MODIFIED:20260329T061845Z
UID:15210-1786708800-1786726800@marktenmeer.nl
SUMMARY:KPOP DAG – Zwolle  - 14 augustus 2026
DESCRIPTION:De KPOP Dag in Zwolle op 14 augustus 2026 is volledig gewijd aan Koreaanse popcultuur. Met Random Play Dance\, freebies\, photocards\, merch en trading zones.
URL:https://marktenmeer.nl/markt/kpop-dag-zwolle-14-augustus-2026/
LOCATION:Zwolle\, Zwolle\, Netherlands
CATEGORIES:Overijssel,Platenbeurs,Platenbeurzen Overijssel
ORGANIZER;CN="Variaworld":MAILTO:info@variaworld.nl
END:VEVENT
END:VCALENDAR