BEGIN:VCALENDAR
VERSION:2.0
PRODID:-//Markten en meer - ECPv6.15.20//NONSGML v1.0//EN
CALSCALE:GREGORIAN
METHOD:PUBLISH
X-WR-CALNAME:Markten en meer
X-ORIGINAL-URL:https://marktenmeer.nl
X-WR-CALDESC:Evenementen voor Markten en meer
REFRESH-INTERVAL;VALUE=DURATION:PT1H
X-Robots-Tag:noindex
X-PUBLISHED-TTL:PT1H
BEGIN:VTIMEZONE
TZID:Europe/Amsterdam
BEGIN:DAYLIGHT
TZOFFSETFROM:+0100
TZOFFSETTO:+0200
TZNAME:CEST
DTSTART:20250330T010000
END:DAYLIGHT
BEGIN:STANDARD
TZOFFSETFROM:+0200
TZOFFSETTO:+0100
TZNAME:CET
DTSTART:20251026T010000
END:STANDARD
BEGIN:DAYLIGHT
TZOFFSETFROM:+0100
TZOFFSETTO:+0200
TZNAME:CEST
DTSTART:20260329T010000
END:DAYLIGHT
BEGIN:STANDARD
TZOFFSETFROM:+0200
TZOFFSETTO:+0100
TZNAME:CET
DTSTART:20261025T010000
END:STANDARD
BEGIN:DAYLIGHT
TZOFFSETFROM:+0100
TZOFFSETTO:+0200
TZNAME:CEST
DTSTART:20270328T010000
END:DAYLIGHT
BEGIN:STANDARD
TZOFFSETFROM:+0200
TZOFFSETTO:+0100
TZNAME:CET
DTSTART:20271031T010000
END:STANDARD
END:VTIMEZONE
BEGIN:VEVENT
DTSTART;TZID=Europe/Amsterdam:20260816T100000
DTEND;TZID=Europe/Amsterdam:20260816T170000
DTSTAMP:20260419T135753
CREATED:20251120T143802Z
LAST-MODIFIED:20260329T060043Z
UID:15214-1786874400-1786899600@marktenmeer.nl
SUMMARY:Platenbeurs – Grolloo - 16 augustus 2026
DESCRIPTION:Deze editie is uniek doordat Grolloo het dorp is van Cuby + Blizzards. Veel bluesliefhebbers komen speciaal voor deze editie. \nHet aanbod bevat blues\, rock\, rootsmuziek\, collectors-items en vinyl uit alle genres. Een karaktervolle beurs.
URL:https://marktenmeer.nl/markt/platenbeurs-grolloo-16-augustus-2026/
LOCATION:Grolloo\, Grolloo\, Netherlands
CATEGORIES:Gelderland,Platenbeurs,Platenbeurzen Gelderland
ORGANIZER;CN="Variaworld":MAILTO:info@variaworld.nl
END:VEVENT
END:VCALENDAR