BEGIN:VCALENDAR
VERSION:2.0
PRODID:-//Markten en meer - ECPv6.15.20//NONSGML v1.0//EN
CALSCALE:GREGORIAN
METHOD:PUBLISH
X-ORIGINAL-URL:https://marktenmeer.nl
X-WR-CALDESC:Evenementen voor Markten en meer
REFRESH-INTERVAL;VALUE=DURATION:PT1H
X-Robots-Tag:noindex
X-PUBLISHED-TTL:PT1H
BEGIN:VTIMEZONE
TZID:Europe/Amsterdam
BEGIN:DAYLIGHT
TZOFFSETFROM:+0100
TZOFFSETTO:+0200
TZNAME:CEST
DTSTART:20250330T010000
END:DAYLIGHT
BEGIN:STANDARD
TZOFFSETFROM:+0200
TZOFFSETTO:+0100
TZNAME:CET
DTSTART:20251026T010000
END:STANDARD
BEGIN:DAYLIGHT
TZOFFSETFROM:+0100
TZOFFSETTO:+0200
TZNAME:CEST
DTSTART:20260329T010000
END:DAYLIGHT
BEGIN:STANDARD
TZOFFSETFROM:+0200
TZOFFSETTO:+0100
TZNAME:CET
DTSTART:20261025T010000
END:STANDARD
BEGIN:DAYLIGHT
TZOFFSETFROM:+0100
TZOFFSETTO:+0200
TZNAME:CEST
DTSTART:20270328T010000
END:DAYLIGHT
BEGIN:STANDARD
TZOFFSETFROM:+0200
TZOFFSETTO:+0100
TZNAME:CET
DTSTART:20271031T010000
END:STANDARD
END:VTIMEZONE
BEGIN:VEVENT
DTSTART;TZID=Europe/Amsterdam:20260913T100000
DTEND;TZID=Europe/Amsterdam:20260913T170000
DTSTAMP:20260419T152024
CREATED:20251121T163644Z
LAST-MODIFIED:20260329T061312Z
UID:15319-1789293600-1789318800@marktenmeer.nl
SUMMARY:Platenbeurs – Hilversum - 13 september 2026
DESCRIPTION:De editie op het Marktplein Hilversum op 13 september 2026 trekt dankzij de mediastad-locatie een modern en divers publiek. Het aanbod loopt uiteen van populaire lp’s tot unieke persingen.
URL:https://marktenmeer.nl/markt/platenbeurs-hilversum-13-september-2026/
LOCATION:Marktplein\, Hilversum\, Marktplein\, Hilversum\, Netherlands
CATEGORIES:Noord-Holland,Platenbeurs,Platenbeurzen Noord-Holland
ORGANIZER;CN="Variaworld":MAILTO:info@variaworld.nl
END:VEVENT
END:VCALENDAR