BEGIN:VCALENDAR
VERSION:2.0
PRODID:-//Markten en meer - ECPv6.15.20//NONSGML v1.0//EN
CALSCALE:GREGORIAN
METHOD:PUBLISH
X-WR-CALNAME:Markten en meer
X-ORIGINAL-URL:https://marktenmeer.nl
X-WR-CALDESC:Evenementen voor Markten en meer
REFRESH-INTERVAL;VALUE=DURATION:PT1H
X-Robots-Tag:noindex
X-PUBLISHED-TTL:PT1H
BEGIN:VTIMEZONE
TZID:Europe/Amsterdam
BEGIN:DAYLIGHT
TZOFFSETFROM:+0100
TZOFFSETTO:+0200
TZNAME:CEST
DTSTART:20250330T010000
END:DAYLIGHT
BEGIN:STANDARD
TZOFFSETFROM:+0200
TZOFFSETTO:+0100
TZNAME:CET
DTSTART:20251026T010000
END:STANDARD
BEGIN:DAYLIGHT
TZOFFSETFROM:+0100
TZOFFSETTO:+0200
TZNAME:CEST
DTSTART:20260329T010000
END:DAYLIGHT
BEGIN:STANDARD
TZOFFSETFROM:+0200
TZOFFSETTO:+0100
TZNAME:CET
DTSTART:20261025T010000
END:STANDARD
BEGIN:DAYLIGHT
TZOFFSETFROM:+0100
TZOFFSETTO:+0200
TZNAME:CEST
DTSTART:20270328T010000
END:DAYLIGHT
BEGIN:STANDARD
TZOFFSETFROM:+0200
TZOFFSETTO:+0100
TZNAME:CET
DTSTART:20271031T010000
END:STANDARD
END:VTIMEZONE
BEGIN:VEVENT
DTSTART;TZID=Europe/Amsterdam:20260920T100000
DTEND;TZID=Europe/Amsterdam:20260920T170000
DTSTAMP:20260419T151826
CREATED:20251121T164050Z
LAST-MODIFIED:20260329T061312Z
UID:15326-1789898400-1789923600@marktenmeer.nl
SUMMARY:Platenbeurs – Alkmaar - 20 september 2026
DESCRIPTION:De Paardenmarkt in Alkmaar biedt op 20 september 2026 een sfeervolle locatie voor vinyljacht. Het plein ligt centraal en zorgt voor een mix van bezoekers.
URL:https://marktenmeer.nl/markt/platenbeurs-alkmaar-20-september-2026/
LOCATION:Paardenmarkt\, Alkmaar\, Paardenmarkt\, Alkmaar\, Netherlands
CATEGORIES:Noord-Holland,Platenbeurs,Platenbeurzen Noord-Holland
ORGANIZER;CN="Variaworld":MAILTO:info@variaworld.nl
END:VEVENT
BEGIN:VEVENT
DTSTART;TZID=Europe/Amsterdam:20260920T110000
DTEND;TZID=Europe/Amsterdam:20260920T170000
DTSTAMP:20260419T151826
CREATED:20260330T114309Z
LAST-MODIFIED:20260330T114309Z
UID:24091-1789902000-1789923600@marktenmeer.nl
SUMMARY:Platenbeurs Pier 15 Breda (buiten) – Breda – 20 september 2026
DESCRIPTION:Op zondag 20 september 2026 vindt bij Pier 15 in Breda een levendige platenbeurs in Breda plaats. Deze buiteneditie\, georganiseerd door Ray Elpee\, speelt zich af op een creatieve hotspot waar muziek en sfeer samenkomen. Bezoekers kunnen hier op hun gemak rondstruinen tussen vinyl en cd’s\, terwijl ze genieten van de informele setting van deze locatie. \nSfeer en aanbod\nDe platenbeurs heeft een ontspannen en eigentijdse sfeer. Op het buitenterrein staan kramen opgesteld met een gevarieerd aanbod aan vinylplaten en cd’s in verschillende genres. De locatie bij Pier 15\, bekend om zijn creatieve en alternatieve karakter\, trekt een breed publiek en zorgt voor een open en toegankelijke marktbeleving. \nVoor bezoekers\n\nDatum: zondag 20 september 2026\nTijd: 11.00 – 17.00 uur\nLocatie: Pier 15\, Breda (buitenlocatie)\nAanbod: vinylplaten\, cd’s en muziekverzamelingen\nBijzonder: buitenbeurs op creatieve hotspot\n\nVoor standhouders\nDeze beurs maakt deel uit van de evenementen georganiseerd door Ray Elpee. \n\nKraamprijs: €85\,00 per kraam\nKraamgrootte: circa 4 x 1\,20 meter\nBelangrijk:\n\nVooraf betalen om plek vast te leggen\nVerkoop van bootlegs en namaak is niet toegestaan\nUitbreiding buiten toegewezen plek niet toegestaan\n\n\n\nStandhouders profiteren van een creatieve locatie en een publiek dat gericht komt voor muziek en beleving. \nEen toegankelijke en sfeervolle buitenmarkt voor liefhebbers van vinyl en cd’s in Breda.
URL:https://marktenmeer.nl/markt/platenbeurs-breda-pier15-september-2026/
LOCATION:Pier 15\, Breda\, Breda\, Netherlands
CATEGORIES:Noord-Brabant,Platenbeurs,Platenbeurzen Noord-Brabant
END:VEVENT
END:VCALENDAR