BEGIN:VCALENDAR
VERSION:2.0
PRODID:-//Markten en meer - ECPv6.15.20//NONSGML v1.0//EN
CALSCALE:GREGORIAN
METHOD:PUBLISH
X-ORIGINAL-URL:https://marktenmeer.nl
X-WR-CALDESC:Evenementen voor Markten en meer
REFRESH-INTERVAL;VALUE=DURATION:PT1H
X-Robots-Tag:noindex
X-PUBLISHED-TTL:PT1H
BEGIN:VTIMEZONE
TZID:Europe/Amsterdam
BEGIN:DAYLIGHT
TZOFFSETFROM:+0100
TZOFFSETTO:+0200
TZNAME:CEST
DTSTART:20250330T010000
END:DAYLIGHT
BEGIN:STANDARD
TZOFFSETFROM:+0200
TZOFFSETTO:+0100
TZNAME:CET
DTSTART:20251026T010000
END:STANDARD
BEGIN:DAYLIGHT
TZOFFSETFROM:+0100
TZOFFSETTO:+0200
TZNAME:CEST
DTSTART:20260329T010000
END:DAYLIGHT
BEGIN:STANDARD
TZOFFSETFROM:+0200
TZOFFSETTO:+0100
TZNAME:CET
DTSTART:20261025T010000
END:STANDARD
BEGIN:DAYLIGHT
TZOFFSETFROM:+0100
TZOFFSETTO:+0200
TZNAME:CEST
DTSTART:20270328T010000
END:DAYLIGHT
BEGIN:STANDARD
TZOFFSETFROM:+0200
TZOFFSETTO:+0100
TZNAME:CET
DTSTART:20271031T010000
END:STANDARD
END:VTIMEZONE
BEGIN:VEVENT
DTSTART;TZID=Europe/Amsterdam:20260927T100000
DTEND;TZID=Europe/Amsterdam:20260927T170000
DTSTAMP:20260419T152026
CREATED:20251121T164644Z
LAST-MODIFIED:20260329T063147Z
UID:15335-1790503200-1790528400@marktenmeer.nl
SUMMARY:Platenbeurs – Dordrecht - 27 september 2026
DESCRIPTION:De Statenplein-beurs op 27 september 2026 staat bekend om zijn constante doorloop en brede selectie vinyl en cd’s.
URL:https://marktenmeer.nl/markt/platenbeurs-dordrecht-27-september-2026/
LOCATION:Statenplein\, Dordrecht\, statenplein\, Dordrecht\, Netherlands
CATEGORIES:Platenbeurs,Platenbeurzen Zuid-Holland,Zuid-Holland
ORGANIZER;CN="Variaworld":MAILTO:info@variaworld.nl
END:VEVENT
END:VCALENDAR