BEGIN:VCALENDAR
VERSION:2.0
PRODID:-//Markten en meer - ECPv6.15.20//NONSGML v1.0//EN
CALSCALE:GREGORIAN
METHOD:PUBLISH
X-WR-CALNAME:Markten en meer
X-ORIGINAL-URL:https://marktenmeer.nl
X-WR-CALDESC:Evenementen voor Markten en meer
REFRESH-INTERVAL;VALUE=DURATION:PT1H
X-Robots-Tag:noindex
X-PUBLISHED-TTL:PT1H
BEGIN:VTIMEZONE
TZID:Europe/Amsterdam
BEGIN:DAYLIGHT
TZOFFSETFROM:+0100
TZOFFSETTO:+0200
TZNAME:CEST
DTSTART:20250330T010000
END:DAYLIGHT
BEGIN:STANDARD
TZOFFSETFROM:+0200
TZOFFSETTO:+0100
TZNAME:CET
DTSTART:20251026T010000
END:STANDARD
BEGIN:DAYLIGHT
TZOFFSETFROM:+0100
TZOFFSETTO:+0200
TZNAME:CEST
DTSTART:20260329T010000
END:DAYLIGHT
BEGIN:STANDARD
TZOFFSETFROM:+0200
TZOFFSETTO:+0100
TZNAME:CET
DTSTART:20261025T010000
END:STANDARD
BEGIN:DAYLIGHT
TZOFFSETFROM:+0100
TZOFFSETTO:+0200
TZNAME:CEST
DTSTART:20270328T010000
END:DAYLIGHT
BEGIN:STANDARD
TZOFFSETFROM:+0200
TZOFFSETTO:+0100
TZNAME:CET
DTSTART:20271031T010000
END:STANDARD
END:VTIMEZONE
BEGIN:VEVENT
DTSTART;TZID=Europe/Amsterdam:20261002T110000
DTEND;TZID=Europe/Amsterdam:20261002T170000
DTSTAMP:20260419T151831
CREATED:20260330T114517Z
LAST-MODIFIED:20260330T114517Z
UID:24093-1790938800-1790960400@marktenmeer.nl
SUMMARY:Platenbeurs 18 Septemberplein Eindhoven – 2 oktober 2026
DESCRIPTION:Op vrijdag 2 oktober 2026 vindt op het 18 Septemberplein in Eindhoven een toegankelijke en centraal gelegen platenbeurs in Eindhoven plaats. Deze beurs\, georganiseerd door Ray Elpee\, is een vaste plek voor muziekliefhebbers die willen snuffelen tussen vinyl en cd’s. Dankzij de ligging midden in het centrum loop je er gemakkelijk langs en kun je op je gemak rondkijken. \nSfeer en aanbod\nDe platenbeurs heeft een ontspannen en overzichtelijke sfeer. Verkopers bieden een breed assortiment aan vinylplaten en cd’s in uiteenlopende genres. Van bekende albums tot bijzondere vondsten: er is voor zowel verzamelaars als casual bezoekers genoeg te ontdekken. Het directe contact met verkopers maakt het mogelijk om tips te krijgen en nieuwe muziek te leren kennen. \nVoor bezoekers\n\nDatum: vrijdag 2 oktober 2026\nTijd: 11.00 – 17.00 uur\nLocatie: 18 Septemberplein\, Eindhoven\nAanbod: vinylplaten\, cd’s en muziekverzamelingen\nDoelgroep: muziekliefhebbers en verzamelaars\n\nVoor standhouders\nDeze beurs maakt deel uit van de evenementen georganiseerd door Ray Elpee. \n\nKraamprijs: €90\,00 per kraam\nKraamgrootte: circa 4 x 1\,20 meter\nBelangrijk:\n\nVooraf betalen om plek vast te leggen\nVerkoop van bootlegs en namaak is niet toegestaan\nUitbreiding buiten toegewezen plek niet toegestaan\n\n\n\nStandhouders profiteren van een centrale locatie met veel passanten en een gericht publiek. \nEen toegankelijke en overzichtelijke platenbeurs voor liefhebbers van vinyl en cd’s in Eindhoven.
URL:https://marktenmeer.nl/markt/platenbeurs-eindhoven-2-oktober-2026/
LOCATION:18 Septemberplein\, Eindhoven\, 18 Septemberplein\, Eindhoven\, Netherlands
CATEGORIES:Noord-Brabant,Platenbeurs,Platenbeurzen Noord-Brabant
END:VEVENT
END:VCALENDAR