BEGIN:VCALENDAR
VERSION:2.0
PRODID:-//Markten en meer - ECPv6.15.20//NONSGML v1.0//EN
CALSCALE:GREGORIAN
METHOD:PUBLISH
X-ORIGINAL-URL:https://marktenmeer.nl
X-WR-CALDESC:Evenementen voor Markten en meer
REFRESH-INTERVAL;VALUE=DURATION:PT1H
X-Robots-Tag:noindex
X-PUBLISHED-TTL:PT1H
BEGIN:VTIMEZONE
TZID:Europe/Amsterdam
BEGIN:DAYLIGHT
TZOFFSETFROM:+0100
TZOFFSETTO:+0200
TZNAME:CEST
DTSTART:20250330T010000
END:DAYLIGHT
BEGIN:STANDARD
TZOFFSETFROM:+0200
TZOFFSETTO:+0100
TZNAME:CET
DTSTART:20251026T010000
END:STANDARD
BEGIN:DAYLIGHT
TZOFFSETFROM:+0100
TZOFFSETTO:+0200
TZNAME:CEST
DTSTART:20260329T010000
END:DAYLIGHT
BEGIN:STANDARD
TZOFFSETFROM:+0200
TZOFFSETTO:+0100
TZNAME:CET
DTSTART:20261025T010000
END:STANDARD
BEGIN:DAYLIGHT
TZOFFSETFROM:+0100
TZOFFSETTO:+0200
TZNAME:CEST
DTSTART:20270328T010000
END:DAYLIGHT
BEGIN:STANDARD
TZOFFSETFROM:+0200
TZOFFSETTO:+0100
TZNAME:CET
DTSTART:20271031T010000
END:STANDARD
END:VTIMEZONE
BEGIN:VEVENT
DTSTART;TZID=Europe/Amsterdam:20261003T100000
DTEND;TZID=Europe/Amsterdam:20261004T170000
DTSTAMP:20260419T151943
CREATED:20251221T091445Z
LAST-MODIFIED:20260329T061257Z
UID:17265-1791021600-1791133200@marktenmeer.nl
SUMMARY:Record Fair Haarlem – Dreef | 3 & 4 oktober 2026
DESCRIPTION:Op zaterdag 3 en zondag 4 oktober 2026 vindt de Record Fair plaats op de Dreef in Haarlem. Tijdens dit tweedaagse evenement verandert deze groene\, centrale locatie in een ontmoetingsplek voor muziekliefhebbers en vinylfans. \nBezoekers kunnen op hun gemak langs diverse stands struinen met een breed aanbod aan vinyl en cd’s. Van rock\, pop en jazz tot soul\, hiphop en elektronische muziek: de Record Fair in Haarlem biedt voor iedere muzieksmaak iets interessants. Door de laagdrempelige opzet is de beurs aantrekkelijk voor zowel beginnende verzamelaars als ervaren liefhebbers. \nDe beurs is gratis toegankelijk en uitstekend te combineren met een dagje Haarlem. Na het snuffelen tussen de platen wandel je zo de binnenstad in voor winkels\, horeca of een terrasje. Dankzij de ontspannen sfeer en de buitenlocatie is deze Record Fair een geliefd evenement in het najaar. \n\n🕒 Praktische informatie\n\nData: zaterdag 3 & zondag 4 oktober 2026\nTijd: 10.00 – 17.00 uur\nLocatie: De Dreef\, Haarlem\nEntree: gratis
URL:https://marktenmeer.nl/markt/record-fair-haarlem-2026/
LOCATION:De Dreef\, Haarlem\, De Dreef\, Haarlem\, Netherlands
CATEGORIES:Noord-Holland,Platenbeurs,Platenbeurzen Noord-Holland
END:VEVENT
END:VCALENDAR