BEGIN:VCALENDAR
VERSION:2.0
PRODID:-//Markten en meer - ECPv6.15.20//NONSGML v1.0//EN
CALSCALE:GREGORIAN
METHOD:PUBLISH
X-ORIGINAL-URL:https://marktenmeer.nl
X-WR-CALDESC:Evenementen voor Markten en meer
REFRESH-INTERVAL;VALUE=DURATION:PT1H
X-Robots-Tag:noindex
X-PUBLISHED-TTL:PT1H
BEGIN:VTIMEZONE
TZID:Europe/Amsterdam
BEGIN:DAYLIGHT
TZOFFSETFROM:+0100
TZOFFSETTO:+0200
TZNAME:CEST
DTSTART:20250330T010000
END:DAYLIGHT
BEGIN:STANDARD
TZOFFSETFROM:+0200
TZOFFSETTO:+0100
TZNAME:CET
DTSTART:20251026T010000
END:STANDARD
BEGIN:DAYLIGHT
TZOFFSETFROM:+0100
TZOFFSETTO:+0200
TZNAME:CEST
DTSTART:20260329T010000
END:DAYLIGHT
BEGIN:STANDARD
TZOFFSETFROM:+0200
TZOFFSETTO:+0100
TZNAME:CET
DTSTART:20261025T010000
END:STANDARD
BEGIN:DAYLIGHT
TZOFFSETFROM:+0100
TZOFFSETTO:+0200
TZNAME:CEST
DTSTART:20270328T010000
END:DAYLIGHT
BEGIN:STANDARD
TZOFFSETFROM:+0200
TZOFFSETTO:+0100
TZNAME:CET
DTSTART:20271031T010000
END:STANDARD
END:VTIMEZONE
BEGIN:VEVENT
DTSTART;TZID=Europe/Amsterdam:20261025T100000
DTEND;TZID=Europe/Amsterdam:20261025T170000
DTSTAMP:20260419T164225
CREATED:20251126T083438Z
LAST-MODIFIED:20260329T061835Z
UID:15676-1792922400-1792947600@marktenmeer.nl
SUMMARY:XXXL Platenbeurs – Zwolle - 25 oktober 2026
DESCRIPTION:De XXXL Platenbeurs in de WRZV Hallen Zwolle op 25 oktober 2026 is een van de grootste vinylmarkten van het jaar. Deze mega-editie trekt handelaren uit binnen- en buitenland\, waardoor het aanbod enorm divers en diepgaand is. Dozen vol lp’s\, zeldzame first pressings\, Japanse importen\, collector’s editions\, cd’s\, cassettebandjes en muziekmemorabilia vullen de ruime hallen. \nVoor serieuze verzamelaars is dit een absolute must-visit\, omdat hier vaak unieke stukken opduiken die je elders niet snel tegenkomt. Handelaren nemen hun volledige voorraad mee\, inclusief specials die ze bewaren voor grote beurzen zoals deze. \nOok beginnende bezoekers hebben hier volop keus: grote bakken met 1–5 euro lp’s\, instapcollecties\, popklassiekers en moderne titels. Dankzij de brede gangpaden en grote ruimte is de doorloop prettig ondanks de drukte. \nDeze beurs staat bekend om zijn energie\, omvang en goede vindkans — veel bezoekers maken er een volledige dag van.
URL:https://marktenmeer.nl/markt/xxxl-platenbeurs-zwolle-25-oktober-2026/
LOCATION:WRZV Hallen\, Zwolle\, Grote Voort 4\, Zwolle\, Netherlands
CATEGORIES:Overijssel,Platenbeurs,Platenbeurzen Overijssel
ORGANIZER;CN="Variaworld":MAILTO:info@variaworld.nl
END:VEVENT
BEGIN:VEVENT
DTSTART;TZID=Europe/Amsterdam:20261025T110000
DTEND;TZID=Europe/Amsterdam:20261025T170000
DTSTAMP:20260419T164225
CREATED:20260330T114959Z
LAST-MODIFIED:20260330T114959Z
UID:24097-1792926000-1792947600@marktenmeer.nl
SUMMARY:Platenbeurs Noordkade Veghel – 25 oktober 2026
DESCRIPTION:Op zondag 25 oktober 2026 vindt op de Noordkade in Veghel een toegankelijke en overzichtelijke platenbeurs in Veghel plaats. Deze beurs\, georganiseerd door Ray Elpee\, is een vaste plek voor muziekliefhebbers die willen snuffelen tussen vinyl en cd’s. De binnenlocatie zorgt voor een comfortabele setting waar je rustig langs de kramen kunt lopen. \nSfeer en aanbod\nDe platenbeurs heeft een ontspannen en gerichte sfeer. In de ruimte staan meerdere marktkramen opgesteld met een gevarieerd aanbod aan vinylplaten en cd’s in uiteenlopende genres. Verkopers zijn vaak ervaren handelaren en verzamelaars\, waardoor je niet alleen kunt zoeken\, maar ook advies kunt krijgen of iets nieuws kunt ontdekken. \nVoor bezoekers\n\nDatum: zondag 25 oktober 2026\nTijd: 11.00 – 17.00 uur\nLocatie: Noordkade\, Veghel\nAanbod: vinylplaten\, cd’s en muziekverzamelingen\nBijzonder: binnenlocatie\n\nVoor standhouders\nDeze beurs maakt deel uit van de evenementen georganiseerd door Ray Elpee. \n\nKraamprijs: €85\,00 per kraam\nKraamgrootte: circa 4 x 1\,20 meter\nType standplaats: binnen (zonder dak)\nBelangrijk:\n\nVooraf betalen om plek vast te leggen\nVerkoop van bootlegs en namaak is niet toegestaan\nUitbreiding buiten toegewezen plek niet toegestaan\n\n\n\nStandhouders profiteren van een overzichtelijke locatie en een gericht publiek van muziekliefhebbers. \nEen toegankelijke en overzichtelijke platenbeurs voor liefhebbers van vinyl en cd’s in Veghel.
URL:https://marktenmeer.nl/markt/platenbeurs-veghel-noordkade-oktober-2026/
LOCATION:Noordkade\, Veghel\, Veghel\, Netherlands
CATEGORIES:Noord-Brabant,Platenbeurs,Platenbeurzen Noord-Brabant
END:VEVENT
END:VCALENDAR