BEGIN:VCALENDAR
VERSION:2.0
PRODID:-//Markten en meer - ECPv6.15.20//NONSGML v1.0//EN
CALSCALE:GREGORIAN
METHOD:PUBLISH
X-ORIGINAL-URL:https://marktenmeer.nl
X-WR-CALDESC:Evenementen voor Markten en meer
REFRESH-INTERVAL;VALUE=DURATION:PT1H
X-Robots-Tag:noindex
X-PUBLISHED-TTL:PT1H
BEGIN:VTIMEZONE
TZID:Europe/Amsterdam
BEGIN:DAYLIGHT
TZOFFSETFROM:+0100
TZOFFSETTO:+0200
TZNAME:CEST
DTSTART:20250330T010000
END:DAYLIGHT
BEGIN:STANDARD
TZOFFSETFROM:+0200
TZOFFSETTO:+0100
TZNAME:CET
DTSTART:20251026T010000
END:STANDARD
BEGIN:DAYLIGHT
TZOFFSETFROM:+0100
TZOFFSETTO:+0200
TZNAME:CEST
DTSTART:20260329T010000
END:DAYLIGHT
BEGIN:STANDARD
TZOFFSETFROM:+0200
TZOFFSETTO:+0100
TZNAME:CET
DTSTART:20261025T010000
END:STANDARD
BEGIN:DAYLIGHT
TZOFFSETFROM:+0100
TZOFFSETTO:+0200
TZNAME:CEST
DTSTART:20270328T010000
END:DAYLIGHT
BEGIN:STANDARD
TZOFFSETFROM:+0200
TZOFFSETTO:+0100
TZNAME:CET
DTSTART:20271031T010000
END:STANDARD
END:VTIMEZONE
BEGIN:VEVENT
DTSTART;TZID=Europe/Amsterdam:20261129T100000
DTEND;TZID=Europe/Amsterdam:20261129T170000
DTSTAMP:20260419T175939
CREATED:20251126T084036Z
LAST-MODIFIED:20260329T061245Z
UID:15685-1795946400-1795971600@marktenmeer.nl
SUMMARY:Platenbeurs – Haarlem - 29 november 2026
DESCRIPTION:De Kennemer Sporthal in Haarlem vormt op 29 november 2026 het decor voor een grote en drukbezochte platenbeurs. Dankzij de brede paden en hoge capaciteit is dit een overzichtelijke maar omvangrijke markt. \nHandelaren brengen lp’s\, singles\, cd’s\, boxsets\, merchandise\, t-shirts en speciale collector’s vinyl mee. Haarlem trekt een publiek met brede muzieksmaak\, waardoor het aanbod varieert van mainstream pop tot niche genres zoals avant-garde\, progrock en deep jazz.
URL:https://marktenmeer.nl/markt/platenbeurs-haarlem-29-november-2026/
LOCATION:Kennemer Sporthal\, Haarlem\, IJsbaanlaan 4A\, Haarlem\, Netherlands
CATEGORIES:Noord-Holland,Platenbeurs,Platenbeurzen Noord-Holland
ORGANIZER;CN="Variaworld":MAILTO:info@variaworld.nl
END:VEVENT
BEGIN:VEVENT
DTSTART;TZID=Europe/Amsterdam:20261129T110000
DTEND;TZID=Europe/Amsterdam:20261129T170000
DTSTAMP:20260419T175939
CREATED:20260330T115734Z
LAST-MODIFIED:20260330T115734Z
UID:24101-1795950000-1795971600@marktenmeer.nl
SUMMARY:Platenbeurs Cultuurcentrum Deurne – Deurne – 29 november 2026
DESCRIPTION:Op zondag 29 november 2026 vindt in het Cultuurcentrum in Deurne een toegankelijke en overzichtelijke platenbeurs in Deurne plaats. Deze beurs\, georganiseerd door Ray Elpee\, is een fijne bestemming voor muziekliefhebbers die willen snuffelen tussen vinyl en cd’s. Dankzij de binnenlocatie kun je comfortabel rondkijken\, ongeacht het weer. \nSfeer en aanbod\nDe platenbeurs heeft een rustige en gerichte sfeer. Verkopers bieden een gevarieerd aanbod aan vinylplaten en cd’s in verschillende genres. De opzet maakt het eenvoudig om langs alle stands te lopen en op je gemak te bladeren. Zowel verzamelaars als bezoekers die gewoon willen rondkijken vinden hier hun weg. \nVoor bezoekers\n\nDatum: zondag 29 november 2026\nTijd: 11.00 – 17.00 uur\nLocatie: Cultuurcentrum Deurne\nAanbod: vinylplaten\, cd’s en muziekverzamelingen\nParkeren: gratis\n\nVoor standhouders\nDeze beurs maakt deel uit van de evenementen georganiseerd door Ray Elpee. \n\nPrijs: €18\,00 per meter\nKraamgrootte: per strekkende meter\nStoelen: aanwezig\nVoordelen:\n\nLaden en lossen bij de zaal\nGratis parkeren\n\n\nTip: neem een steekwagen mee\nBelangrijk:\n\nVooraf betalen om plek vast te leggen\nVerkoop van bootlegs en namaak is niet toegestaan\n\n\n\nStandhouders profiteren van een goed bereikbare locatie en een gericht publiek. \nEen toegankelijke en overzichtelijke platenbeurs voor liefhebbers van vinyl en cd’s in Deurne.
URL:https://marktenmeer.nl/markt/platenbeurs-deurne-29-november-2026/
LOCATION:Deurne\, Deurne\, Netherlands
CATEGORIES:Noord-Brabant,Platenbeurs,Platenbeurzen Noord-Brabant
END:VEVENT
END:VCALENDAR