BEGIN:VCALENDAR
VERSION:2.0
PRODID:-//Markten en meer - ECPv6.15.20//NONSGML v1.0//EN
CALSCALE:GREGORIAN
METHOD:PUBLISH
X-WR-CALNAME:Markten en meer
X-ORIGINAL-URL:https://marktenmeer.nl
X-WR-CALDESC:Evenementen voor Markten en meer
REFRESH-INTERVAL;VALUE=DURATION:PT1H
X-Robots-Tag:noindex
X-PUBLISHED-TTL:PT1H
BEGIN:VTIMEZONE
TZID:Europe/Amsterdam
BEGIN:DAYLIGHT
TZOFFSETFROM:+0100
TZOFFSETTO:+0200
TZNAME:CEST
DTSTART:20250330T010000
END:DAYLIGHT
BEGIN:STANDARD
TZOFFSETFROM:+0200
TZOFFSETTO:+0100
TZNAME:CET
DTSTART:20251026T010000
END:STANDARD
BEGIN:DAYLIGHT
TZOFFSETFROM:+0100
TZOFFSETTO:+0200
TZNAME:CEST
DTSTART:20260329T010000
END:DAYLIGHT
BEGIN:STANDARD
TZOFFSETFROM:+0200
TZOFFSETTO:+0100
TZNAME:CET
DTSTART:20261025T010000
END:STANDARD
BEGIN:DAYLIGHT
TZOFFSETFROM:+0100
TZOFFSETTO:+0200
TZNAME:CEST
DTSTART:20270328T010000
END:DAYLIGHT
BEGIN:STANDARD
TZOFFSETFROM:+0200
TZOFFSETTO:+0100
TZNAME:CET
DTSTART:20271031T010000
END:STANDARD
END:VTIMEZONE
BEGIN:VEVENT
DTSTART;TZID=Europe/Amsterdam:20260712T100000
DTEND;TZID=Europe/Amsterdam:20260712T163000
DTSTAMP:20260420T154107
CREATED:20251112T182149Z
LAST-MODIFIED:20260407T094836Z
UID:14086-1783850400-1783873800@marktenmeer.nl
SUMMARY:Appelscha Boerestreekmarkt – braderie en vlooienmarkt in Appelscha (12 juli 2026)
DESCRIPTION:De Appelscha Boerestreekmarkt is een braderie en vlooienmarkt in het centrum van Appelscha. Op zondag 12 juli 2026 kun je hier langs kramen struinen met een mix van tweedehands spullen\, curiosa en nieuwe producten. Deze markt in Appelscha trekt zowel toeristen als bezoekers uit de regio en is een toegankelijke bestemming voor een zomers dagje uit. \nDe markt vindt plaats aan de Boerestreek\, een levendige locatie met horeca en uitzicht op de omliggende natuur. Appelscha ligt aan de rand van het Nationaal Park Drents-Friese Wold\, wat het gebied populair maakt voor wandel- en fietstochten. De combinatie van natuur\, terrassen en markt zorgt voor een ontspannen sfeer. \nVoor bezoekers\n\nType markt: braderie en vlooienmarkt\nPlaats: Appelscha\nDatum: zondag 12 juli 2026\nTijd: 10.00 – 16.30 uur\nLocatie: Boerestreek 17\, 8426 BM Appelscha\n\nVoor standhouders\n\nReserveren: verplicht\n\nBraderie: \n\nStandplaats 4 meter: €40\nExtra meters: €6\,50 per meter\nKraam (4 meter met bovenbouw): €55 (extra kraam €41)\nFoodstandplaats (5 meter): vanaf €77\,50\n\nVlooienmarkt: \n\nStandplaats 5 meter incl. kraam (4 meter): €40\n\nHobby/Ambachten: \n\nStandplaats 4 meter incl. kraam: €40\nDiepte standplaats: 2\,5 meter\nFood toegestaan: ja\nOpbouw: 09.00 – 10.30 uur (melden vóór 10.15 uur)\n\nStandhouders kunnen tijdens het opbouwen met de auto bij hun standplaats komen. Daarna wordt de auto geparkeerd op een aangewezen plek. Het is belangrijk dat de stand gedurende de hele markt open blijft. \nDe Boerestreekmarkt in Appelscha biedt een combinatie van een centrale locatie en een gevarieerd aanbod.
URL:https://marktenmeer.nl/markt/boerestreekmarkt-appelscha-12-juli-2026/
LOCATION:Appelscha\, Boerestreek 17\, Boerestreek 17\, Appelscha\, Netherlands
CATEGORIES:Braderie Friesland,Braderieën,Friesland,Rommelmarkten,Rommelmarkten Friesland
END:VEVENT
BEGIN:VEVENT
DTSTART;TZID=Europe/Amsterdam:20260712T100000
DTEND;TZID=Europe/Amsterdam:20260712T180000
DTSTAMP:20260420T154107
CREATED:20260310T104204Z
LAST-MODIFIED:20260329T055821Z
UID:21966-1783850400-1783879200@marktenmeer.nl
SUMMARY:Flinke Flea Market – Hemelum – 12 juli 2026
DESCRIPTION:Op zondag 12 juli 2026 vindt op de Flinkefarm in Hemelum (Friesland) weer een editie van de Flinke Flea Market plaats. Tijdens deze markt kunnen bezoekers rondstruinen tussen vintage meubels\, decoratie en andere tweedehands vondsten. De Flea Market staat bekend als een plek waar liefhebbers van bijzondere en oude items samenkomen om unieke spullen te ontdekken. \nDe markt wordt gehouden op het erf van it Flinkeboskje\, een locatie die ook wordt gebruikt voor bruiloften en andere evenementen. Tijdens de markt is ook de Flinke Vintage shop van de zussen Claartje en Rixt geopend. In de winkel vind je een collectie vintage meubels\, lampen\, kunst en decoratie – de inspiratie achter het ontstaan van de Flinke Flea Market. \nVoor bezoekers\nBezoekers kunnen tijdens de markt rustig rondkijken en op zoek gaan naar bijzondere tweedehands vondsten. \nPraktische informatie \n\nDatum: zondag 12 juli 2026\nTijd: 10:00 – 16:00 uur\nPlaats: Hemelum\nLocatie: Flinkefarm – it Flinkeboskje\nAdres: Flinkeboskje 1+2\, 8584 WV Hemelum\nType markt: vintage markt / flea market\nEntree: €2\,50\nKinderen: tot 12 jaar gratis\n\nVoor standhouders\nHeb je vintage spullen of andere bijzondere items en wil je deze verkopen? Dan kun je deelnemen aan de Flinke Flea Market. \nPraktische informatie voor standhouders \n\nDeelnameprijs: €15\,-\nAanmelden via e-mail: claartje@itflinkeboskje.nl\n\nDe Flinke Flea Market in Hemelum is een markt waar bezoekers en standhouders samenkomen rondom vintage vondsten en bijzondere interieuritems.
URL:https://marktenmeer.nl/markt/flinke-flea-market-hemelum-12-juli-2026/
LOCATION:Flinkefarm\, Hemelum\, Flinkeboskje 1+2\, Hemelum\, 8584 WV\, Netherlands
CATEGORIES:Friesland,Rommelmarkten,Rommelmarkten Friesland,Vintage,Vintage Friesland
END:VEVENT
END:VCALENDAR