BEGIN:VCALENDAR
VERSION:2.0
PRODID:-//Markten en meer - ECPv6.15.20//NONSGML v1.0//EN
CALSCALE:GREGORIAN
METHOD:PUBLISH
X-ORIGINAL-URL:https://marktenmeer.nl
X-WR-CALDESC:Evenementen voor Markten en meer
REFRESH-INTERVAL;VALUE=DURATION:PT1H
X-Robots-Tag:noindex
X-PUBLISHED-TTL:PT1H
BEGIN:VTIMEZONE
TZID:Europe/Amsterdam
BEGIN:DAYLIGHT
TZOFFSETFROM:+0100
TZOFFSETTO:+0200
TZNAME:CEST
DTSTART:20250330T010000
END:DAYLIGHT
BEGIN:STANDARD
TZOFFSETFROM:+0200
TZOFFSETTO:+0100
TZNAME:CET
DTSTART:20251026T010000
END:STANDARD
BEGIN:DAYLIGHT
TZOFFSETFROM:+0100
TZOFFSETTO:+0200
TZNAME:CEST
DTSTART:20260329T010000
END:DAYLIGHT
BEGIN:STANDARD
TZOFFSETFROM:+0200
TZOFFSETTO:+0100
TZNAME:CET
DTSTART:20261025T010000
END:STANDARD
BEGIN:DAYLIGHT
TZOFFSETFROM:+0100
TZOFFSETTO:+0200
TZNAME:CEST
DTSTART:20270328T010000
END:DAYLIGHT
BEGIN:STANDARD
TZOFFSETFROM:+0200
TZOFFSETTO:+0100
TZNAME:CET
DTSTART:20271031T010000
END:STANDARD
END:VTIMEZONE
BEGIN:VEVENT
DTSTART;TZID=Europe/Amsterdam:20260716T110000
DTEND;TZID=Europe/Amsterdam:20260716T180000
DTSTAMP:20260420T215222
CREATED:20251114T115621Z
LAST-MODIFIED:20260329T055808Z
UID:14424-1784199600-1784224800@marktenmeer.nl
SUMMARY:Jaarmarkt Makkum Centrum – 16 juli 2026 | Makkum
DESCRIPTION:Op donderdag 16 juli 2026 vindt de Jaarmarkt Makkum Centrum plaats van 11:00 tot 18:00 uur. Deze markt wordt georganiseerd in samenwerking met de winkeliersvereniging en valt samen met de kermis. Dat zorgt voor extra publiek en een levendige sfeer in het centrum. \nIn deze periode verblijven veel toeristen in en rondom Makkum. De combinatie van winkels\, kermis en markt maakt dit een aantrekkelijke dag voor bezoekers én standhouders. \nOpzet van de markt\n\nCirca 60 kramen\nCombinatie van braderie en rommelmarkt\nGelijktijdig met de kermis\nCentrumlocatie\n\nLet op: er zijn geen foodplaatsen beschikbaar. \nTarieven braderie\n\nKraam: € 60\,25 (incl. € 4\,20 btw)\nGrondplaats: € 7\,50 per meter (minimaal 4 meter)\nReclamekosten: € 6\,05 per standhouder (incl. 21% btw)\n\nTarieven vlomarkt\n\n5 meter grondplaats: € 15\,00\nKraam: € 35\,00\n\nStroom dient zelf geregeld te worden via omwonenden of winkeliers. \nGeen hobbyprijzen\nEr worden geen standaard hobbytarieven gehanteerd. \nWel is het mogelijk om een aangepaste prijs te bespreken wanneer je een zelfgemaakt\, bijzonder product verkoopt met een kleine winstmarge en zonder directe concurrentie voor reguliere standhouders. In dat geval kun je vooraf foto’s per e-mail of WhatsApp toesturen voor beoordeling. \nWat valt onder reguliere artikelen?\nOp onderstaande productgroepen wordt geen korting gegeven: \n\nAlle soorten tassen en lederwaren\nSieraden\nAlle soorten kleding\nSpeelgoed\nHaaraccessoires\nWoonaccessoires\nLifestyleproducten\nBaby- en kinderartikelen\nModeartikelen\nTuinaccessoires\nAlle foodproducten\n\nTwijfel je of jouw assortiment hieronder valt? Neem dan vooraf contact op per e-mail. \nWaarom deelnemen aan de Jaarmarkt Makkum?\n\nToeristisch seizoen\nCombinatie met kermis\n60 kramen in het centrum\nBrede doelgroep\n\nWil je jouw producten presenteren in een drukbezochte zomerse setting? Dan is de Jaarmarkt Makkum een interessante markt om aan deel te nemen.
URL:https://marktenmeer.nl/markt/makkum-centrum-jaarmarkt-16-juli-2026/
LOCATION:Makkum\, Makkum\, Netherlands
CATEGORIES:Braderie Friesland,Braderieën,Friesland,Rommelmarkten,Rommelmarkten Friesland
END:VEVENT
END:VCALENDAR