BEGIN:VCALENDAR
VERSION:2.0
PRODID:-//Markten en meer - ECPv6.15.20//NONSGML v1.0//EN
CALSCALE:GREGORIAN
METHOD:PUBLISH
X-ORIGINAL-URL:https://marktenmeer.nl
X-WR-CALDESC:Evenementen voor Markten en meer
REFRESH-INTERVAL;VALUE=DURATION:PT1H
X-Robots-Tag:noindex
X-PUBLISHED-TTL:PT1H
BEGIN:VTIMEZONE
TZID:Europe/Amsterdam
BEGIN:DAYLIGHT
TZOFFSETFROM:+0100
TZOFFSETTO:+0200
TZNAME:CEST
DTSTART:20250330T010000
END:DAYLIGHT
BEGIN:STANDARD
TZOFFSETFROM:+0200
TZOFFSETTO:+0100
TZNAME:CET
DTSTART:20251026T010000
END:STANDARD
BEGIN:DAYLIGHT
TZOFFSETFROM:+0100
TZOFFSETTO:+0200
TZNAME:CEST
DTSTART:20260329T010000
END:DAYLIGHT
BEGIN:STANDARD
TZOFFSETFROM:+0200
TZOFFSETTO:+0100
TZNAME:CET
DTSTART:20261025T010000
END:STANDARD
BEGIN:DAYLIGHT
TZOFFSETFROM:+0100
TZOFFSETTO:+0200
TZNAME:CEST
DTSTART:20270328T010000
END:DAYLIGHT
BEGIN:STANDARD
TZOFFSETFROM:+0200
TZOFFSETTO:+0100
TZNAME:CET
DTSTART:20271031T010000
END:STANDARD
END:VTIMEZONE
BEGIN:VEVENT
DTSTART;TZID=Europe/Amsterdam:20260111T100000
DTEND;TZID=Europe/Amsterdam:20260111T163000
DTSTAMP:20260420T222844
CREATED:20251112T155312Z
LAST-MODIFIED:20260329T060514Z
UID:14038-1768125600-1768149000@marktenmeer.nl
SUMMARY:GEANNULEERD - Vlooienmarkt – Flowerdome Eelde – 11 januari 2026
DESCRIPTION:Het nieuwe jaar begint goed met de Vlooienmarkt Flowerdome Eelde op zondag 11 januari 2026. In de ruime\, overdekte hal vind je tientallen kramen vol tweedehands artikelen\, antiek\, vintage vondsten\, curiosa\, platen en verzamelobjecten. Of je nu op zoek bent naar een unieke blikvanger voor in huis\, een aanvulling op je collectie of gewoon graag rondsnuffelt tussen bijzondere items: deze markt biedt voor ieder wat wils. \nDe Flowerdome staat bekend om de ontspannen sfeer. Dankzij de overdekking kun je ongeacht het weer comfortabel struinen. Naast de vele kramen is er een koffieruimte voor een pauze tussendoor\, en parkeren is gratis\, wat de markt extra toegankelijk maakt. Voor kinderen is de entree gratis\, ideaal voor een betaalbaar gezinsuitje. \nDeze vlooienmarkt trekt jaarlijks een groot en divers publiek uit Drenthe en omstreken. De combinatie van een breed aanbod\, goede voorzieningen en een overzichtelijke opzet maakt dit evenement een perfecte bestemming voor iedereen die houdt van speuren\, verzamelen en gezellig marktshoppen. \n\n📅 10:00–16:30\n📍 Flowerdome Eelde\n🎟️ €4 (kids gratis)
URL:https://marktenmeer.nl/markt/vlooienmarkt-eelde-11-januari-2026/
LOCATION:Flowerdome\, Eelde\, Burg. J.G. Legroweg 80\, Eelde\, Netherlands
CATEGORIES:Groningen,Rommelmarkten,Rommelmarkten Groningen
END:VEVENT
BEGIN:VEVENT
DTSTART;TZID=Europe/Amsterdam:20260125T100000
DTEND;TZID=Europe/Amsterdam:20260125T163000
DTSTAMP:20260420T222844
CREATED:20251112T172002Z
LAST-MODIFIED:20260329T060514Z
UID:14041-1769335200-1769358600@marktenmeer.nl
SUMMARY:Stadjersmarkt – Groningen – 25 januari 2026
DESCRIPTION:De Stadjersmarkt Groningen keert op zondag 25 januari 2026 terug in MartiniPlaza\, de grootste overdekte evenementenlocatie van Noord-Nederland. Deze populaire vlooienmarkt en braderie trekt bezoekers uit Stad en Ommeland die graag struinen langs lange rijen kramen vol curiosa\, brocante\, kleding\, decoratie\, speelgoed en nieuwe waren. Het brede aanbod zorgt ervoor dat er voor iedere bezoeker iets te ontdekken valt. \nDankzij de ruime opzet van MartiniPlaza kun je comfortabel rondlopen\, zelfs tijdens de drukste momenten van de dag. Gezinnen zijn extra welkom: er is live muziek voor een gezellige sfeer én een gratis kinderattractie\, waardoor de markt een leuk dagje uit vormt voor jong en oud. \nDe Stadjersmarkt staat bekend om zijn vriendelijke sfeer\, fijne mix van handelaren en scherpe prijzen. Of je nu op zoek bent naar unieke vondsten\, praktische spullen of gewoon zin hebt in een middagje snuffelen\, deze markt biedt volop mogelijkheden. \nOpeningstijden: 10.00–16.30Locatie: MartiniPlaza GroningenEntree: €4 (kinderen t/m 13 jaar gratis)
URL:https://marktenmeer.nl/markt/stadjersmarkt-groningen-25-januari-2026/
LOCATION:Martiniplaza\, Groningen\, Leonard Springerlaan 2\, Groningen\, 9727 KB\, Netherlands
CATEGORIES:Groningen,Rommelmarkten,Rommelmarkten Groningen
END:VEVENT
END:VCALENDAR