BEGIN:VCALENDAR
VERSION:2.0
PRODID:-//Markten en meer - ECPv6.15.20//NONSGML v1.0//EN
CALSCALE:GREGORIAN
METHOD:PUBLISH
X-ORIGINAL-URL:https://marktenmeer.nl
X-WR-CALDESC:Evenementen voor Markten en meer
REFRESH-INTERVAL;VALUE=DURATION:PT1H
X-Robots-Tag:noindex
X-PUBLISHED-TTL:PT1H
BEGIN:VTIMEZONE
TZID:Europe/Amsterdam
BEGIN:DAYLIGHT
TZOFFSETFROM:+0100
TZOFFSETTO:+0200
TZNAME:CEST
DTSTART:20250330T010000
END:DAYLIGHT
BEGIN:STANDARD
TZOFFSETFROM:+0200
TZOFFSETTO:+0100
TZNAME:CET
DTSTART:20251026T010000
END:STANDARD
BEGIN:DAYLIGHT
TZOFFSETFROM:+0100
TZOFFSETTO:+0200
TZNAME:CEST
DTSTART:20260329T010000
END:DAYLIGHT
BEGIN:STANDARD
TZOFFSETFROM:+0200
TZOFFSETTO:+0100
TZNAME:CET
DTSTART:20261025T010000
END:STANDARD
BEGIN:DAYLIGHT
TZOFFSETFROM:+0100
TZOFFSETTO:+0200
TZNAME:CEST
DTSTART:20270328T010000
END:DAYLIGHT
BEGIN:STANDARD
TZOFFSETFROM:+0200
TZOFFSETTO:+0100
TZNAME:CET
DTSTART:20271031T010000
END:STANDARD
END:VTIMEZONE
BEGIN:VEVENT
DTSTART;TZID=Europe/Amsterdam:20260301T100000
DTEND;TZID=Europe/Amsterdam:20260301T163000
DTSTAMP:20260418T060835
CREATED:20251112T173050Z
LAST-MODIFIED:20260329T060514Z
UID:14049-1772359200-1772382600@marktenmeer.nl
SUMMARY:Vlooienmarkt – Flowerdome Eelde – 1 maart 2026
DESCRIPTION:De Vlooienmarkt in Flowerdome Eelde op zondag 1 maart 2026 is een ideale bestemming voor liefhebbers van vintage\, brocante en bijzondere vondsten. In de overdekte Flowerdome kun je van 10.00 tot 16.30 uur rustig rondstruinen langs meer dan 100 standhouders\, die samen zorgen voor een gevarieerd en verrassend aanbod. \n\n\n \nBezoekers vinden hier een mix van brocante meubels\, curiosa\, woonaccessoires\, servies\, boeken en decoratie voor huis en tuin. Doordat de vlooienmarkt volledig overdekt is\, ben je niet afhankelijk van het weer en kun je comfortabel winkelen in een gezellige sfeer. Dat maakt deze markt geschikt voor zowel ervaren verzamelaars als bezoekers die gewoon zin hebben in een ontspannen dagje snuffelen. \nDe Flowerdome in Eelde is goed bereikbaar en biedt gratis parkeergelegenheid\, wat een bezoek extra prettig maakt. Ook voor gezinnen is deze vlooienmarkt aantrekkelijk: kinderen hebben gratis toegang. Of je nu op zoek bent naar een uniek item\, inspiratie wilt opdoen of gewoon wilt rondkijken\, deze vlooienmarkt is een fijne manier om de maand maart te beginnen. \n📅 10:00–16:30\n📍 Flowerdome Eelde\n🎟️ €4 (kids gratis)
URL:https://marktenmeer.nl/markt/vlooienmarkt-eelde-1-maart-2026/
LOCATION:Flowerdome\, Eelde\, Burg. J.G. Legroweg 80\, Eelde\, Netherlands
CATEGORIES:Groningen,Rommelmarkten,Rommelmarkten Groningen
END:VEVENT
BEGIN:VEVENT
DTSTART;VALUE=DATE:20260306
DTEND;VALUE=DATE:20260307
DTSTAMP:20260418T060835
CREATED:20260120T120249Z
LAST-MODIFIED:20260329T060514Z
UID:18664-1772755200-1772841599@marktenmeer.nl
SUMMARY:Bazar & Rommelmarkt Wees Kwiek – vrijdag 6 maart & zaterdag 7 maart 2026\, In de Klaver (Niebert)
DESCRIPTION:Op vrijdag 6 maart en zaterdag 7 maart 2026 organiseert korfbalvereniging Wees Kwiek haar jaarlijkse bazar & rommelmarkt bij Wegrestaurant In de Klaver. Dit tweedaagse evenement combineert een gezellige rommelmarkt met activiteiten voor jong en oud en is een vaste traditie in de regio. \n\n\n \nDe rommelmarkt is op vrijdagavond geopend van 19.00 tot 00.00 uur. Bezoekers kunnen rustig rondkijken tussen tweedehands spullen\, curiosa en koopjes. De avond heeft een informele en gezellige sfeer en is geschikt voor een breed publiek. \nOp zaterdagmiddag van 14.00 tot 17.00 uur is de rommelmarkt opnieuw te bezoeken. Tijdens deze middag is er een kinderbazar met leuke spelletjes\, waardoor het evenement ook aantrekkelijk is voor gezinnen.Vanaf 20.00 uur bent u op zaterdagavond welkom in de kroeg van In de Klaver en maakt u kans op veel leuke prijzen tijdens het avondprogramma. \nPraktische informatie\n\nDatum: vrijdag 6 maart & zaterdag 7 maart 2026\nVrijdag: 19.00 – 00.00 uur\nZaterdagmiddag: 14.00 – 17.00 uur (kinderbazar)\nZaterdagavond: vanaf 20.00 uur\nLocatie: Wegrestaurant In de Klaver\nAdres: Molenweg 2\, 9365 PD Niebert\nCategorie: Markt / braderie\nOrganisatie: Korfbalvereniging Wees Kwiek\n\nDeze bazar & rommelmarkt is geschikt voor bezoekers die houden van snuffelen\, gezelligheid en een laagdrempelig dorps evenement.
URL:https://marktenmeer.nl/markt/bazar-rommelmarkt-niebert-in-de-klaver-maart-2026/
LOCATION:Niebert\, Molenweg 2\, Niebert\, Netherlands
CATEGORIES:Groningen,Rommelmarkten,Rommelmarkten Groningen
END:VEVENT
BEGIN:VEVENT
DTSTART;TZID=Europe/Amsterdam:20260308T100000
DTEND;TZID=Europe/Amsterdam:20260308T160000
DTSTAMP:20260418T060835
CREATED:20251114T104101Z
LAST-MODIFIED:20260329T060514Z
UID:14371-1772964000-1772985600@marktenmeer.nl
SUMMARY:Braderie en vlooienmarkt Eurohal Zuidbroek – 8 maart 2026
DESCRIPTION:Op zondag 8 maart 2026 vindt de braderie en vlooienmarkt bij de Eurohal in Zuidbroek plaats. Dit evenement combineert een braderie met een vlooienmarkt en biedt ruimte aan zowel handelaren als particulieren. De markt wordt gehouden aan de Burgemeester Omtaweg 4 in Zuidbroek en is toegankelijk voor een breed publiek uit de regio. \nTijdens deze markt in Zuidbroek kunnen bezoekers langs uiteenlopende kramen en grondplaatsen struinen. Het aanbod verschilt per deelnemer en kan bestaan uit nieuwe artikelen\, tweedehands spullen\, curiosa en praktische producten. Door de combinatie van braderie en vlooienmarkt ontstaat een gevarieerd geheel met voor ieder wat wils. \n\n\n \nVoor bezoekers\n\nType markt: braderie en vlooienmarkt\nPlaats: Zuidbroek\nDatum: 8 maart 2026\nTijd: 10:00 – 16:00 uur\nLocatie: Burgemeester Omtaweg 4\, Zuidbroek\n\nBezoekers kunnen rustig rondkijken tussen de verschillende stands. De markt is geschikt voor koopjeszoekers\, verzamelaars en gezinnen die een dagje uit willen combineren met het zoeken naar tweedehands vondsten of nieuwe producten. \nVoor standhouders\nDe organisatie is in handen van Organisatieburo Wildro. Ondernemers en particulieren kunnen deelnemen aan de braderie of vlooienmarkt. \nBraderie: \n\nGrondplaats: € 6\,00 per strekkende meter\nKraam: € 35\,00 per kraam (excl. btw\, incl. grondplaats)\n\nVlooienmarkt: \n\nGrondplaats 5 meter: € 15\,00\nGrondplaats 10 meter: € 25\,00\nKraam: € 25\,00 per kraam (incl. grondplaats)\nOver grondplaatsen wordt geen btw berekend\n\nInschrijven verloopt via de organisator. De markt richt zich op een regionaal publiek met interesse in zowel nieuwe als tweedehands artikelen. \nDe braderie en vlooienmarkt bij de Eurohal in Zuidbroek biedt een toegankelijke marktdag voor bezoekers en deelnemers.
URL:https://marktenmeer.nl/markt/braderie-vlooienmarkt-eurohal-zuidbroek-8-maart-2026/
LOCATION:Eurohal Zuidbroek\, Burgemeester Omtaweg 4\, Zuidbroek\, Netherlands
CATEGORIES:Braderie Groningen,Braderieën,Groningen,Rommelmarkten,Rommelmarkten Groningen
END:VEVENT
BEGIN:VEVENT
DTSTART;TZID=Europe/Amsterdam:20260315T100000
DTEND;TZID=Europe/Amsterdam:20260315T163000
DTSTAMP:20260418T060835
CREATED:20251112T173325Z
LAST-MODIFIED:20260329T060514Z
UID:14051-1773568800-1773592200@marktenmeer.nl
SUMMARY:Vlooienmarkt Flowerdome Eelde – 15 maart 2026
DESCRIPTION:De Vlooienmarkt in Flowerdome Eelde vindt plaats op zondag 15 maart 2026 en is een geliefd uitje voor iedereen die houdt van snuffelen\, verzamelen en duurzaam winkelen. Van 10.00 tot 16.30 uur staan de hallen van de Flowerdome volledig in het teken van antiek\, verzamelobjecten en retro vondsten. \nBezoekers kunnen op hun gemak langs een groot en gevarieerd aanbod struinen. Denk aan meubels\, woondecoratie\, servies\, boeken\, platen\, curiosa en andere bijzondere items met een verleden. Of je nu een doorgewinterde verzamelaar bent of gewoon graag rondkijkt: op deze vlooienmarkt is altijd iets verrassends te ontdekken. \nDoordat de markt volledig overdekt is\, kun je comfortabel rondlopen\, ongeacht het weer. De sfeer is gemoedelijk en ontspannen\, waardoor de markt geschikt is voor alle leeftijden. Ook voor gezinnen is dit een fijne zondagactiviteit\, mede doordat kinderen gratis toegang hebben. \nDe Flowerdome in Eelde is goed bereikbaar en biedt gratis parkeergelegenheid\, wat een bezoek extra prettig maakt. De Vlooienmarkt Eelde staat bekend als een publieksfavoriet en is een ideale manier om je zondag gezellig én duurzaam door te brengen. \n📅 10:00–16:30\n📍 Flowerdome Eelde\n🎟️ €4 (kids gratis)
URL:https://marktenmeer.nl/markt/vlooienmarkt-eelde-15-maart-2026/
LOCATION:Flowerdome\, Eelde\, Burg. J.G. Legroweg 80\, Eelde\, Netherlands
CATEGORIES:Groningen,Rommelmarkten,Rommelmarkten Groningen
END:VEVENT
BEGIN:VEVENT
DTSTART;TZID=Europe/Amsterdam:20260322T100000
DTEND;TZID=Europe/Amsterdam:20260322T160000
DTSTAMP:20260418T060835
CREATED:20251114T104401Z
LAST-MODIFIED:20260329T060502Z
UID:14373-1774173600-1774195200@marktenmeer.nl
SUMMARY:Braderie & Vlooienmarkt Eurohal Zuidbroek – 22 maart 2026
DESCRIPTION:De Braderie & Vlooienmarkt bij Eurohal Zuidbroek vindt plaats op zondag 22 maart 2026 en is opnieuw een leuke bestemming voor bezoekers die houden van snuffelen\, struinen en gezelligheid. Van 10.00 tot 16.00 uur ben je welkom in en rond de Eurohal aan de Burgemeester Omtaweg 4 in Zuidbroek voor een markt met een gevarieerd aanbod. \nTijdens deze dag komen een braderie en vlooienmarkt samen\, wat zorgt voor een afwisselende mix van nieuwe en gebruikte goederen. Bezoekers kunnen langs kramen lopen met onder andere kleding\, accessoires\, woondecoratie\, huishoudelijke artikelen\, curiosa en allerlei andere verrassende vondsten. Daardoor is de markt aantrekkelijk voor zowel koopjesjagers als bezoekers die gewoon graag rondkijken. \nDe Eurohal biedt een ruime en prettige omgeving om rustig te snuffelen. De opzet is overzichtelijk en de sfeer is gemoedelijk\, waardoor je ontspannen de tijd kunt nemen om alles te bekijken. Deze braderie & vlooienmarkt is geschikt voor jong en oud en vormt een fijne invulling van een zondag. Of je nu gericht iets zoekt of je laat verrassen door het aanbod: in Zuidbroek is altijd iets te ontdekken.
URL:https://marktenmeer.nl/markt/braderie-vlooienmarkt-eurohal-zuidbroek-22-maart-2026/
LOCATION:Eurohal Zuidbroek\, Burgemeester Omtaweg 4\, Zuidbroek\, Netherlands
CATEGORIES:Braderie Groningen,Braderieën,Groningen,Rommelmarkten,Rommelmarkten Groningen
END:VEVENT
BEGIN:VEVENT
DTSTART;TZID=Europe/Amsterdam:20260322T100000
DTEND;TZID=Europe/Amsterdam:20260322T163000
DTSTAMP:20260418T060835
CREATED:20251112T173547Z
LAST-MODIFIED:20260329T060502Z
UID:14053-1774173600-1774197000@marktenmeer.nl
SUMMARY:Lentefair Flowerdome Eelde | Voorjaarsmarkt op 22 maart 2026
DESCRIPTION:De Lentefair in Flowerdome Eelde vindt plaats op zondag 22 maart 2026 en staat volledig in het teken van het voorjaar. Van 10.00 tot 17.00 uur ben je welkom in de Flowerdome voor een vrolijke en inspirerende voorjaarsmarkt waar kleur\, geur en creativiteit samenkomen. \nBezoekers kunnen rondstruinen langs een gevarieerd aanbod van stands met bloemen\, planten\, tuinideeën\, lifestyleproducten\, streekproducten en cadeaus. Of je nu op zoek bent naar inspiratie voor je tuin\, iets moois voor in huis of een origineel cadeau: de Lentefair biedt volop ideeën voor het nieuwe seizoen. De markt heeft een ontspannen en toegankelijke sfeer\, waardoor je rustig de tijd kunt nemen om alles te bekijken. \nDoordat de Lentefair volledig overdekt wordt georganiseerd\, is het evenement comfortabel te bezoeken\, ongeacht het weer. Dit maakt het een prettig dagje uit voor zowel gezinnen als individuele bezoekers. Ook voor kinderen is het leuk om mee te gaan\, mede doordat kinderen gratis toegang hebben. \nDe Flowerdome in Eelde is goed bereikbaar en beschikt over gratis parkeergelegenheid. De Lentefair Eelde is daarmee een ideaal uitje om het voorjaar feestelijk te beginnen en vol inspiratie weer naar huis te gaan. \n📅 10:00–17:00\n📍 Flowerdome Eelde\n🎟️ €4 (kids gratis)
URL:https://marktenmeer.nl/markt/lentefair-eelde-22-maart-2026/
LOCATION:Flowerdome\, Eelde\, Burg. J.G. Legroweg 80\, Eelde\, Netherlands
CATEGORIES:Braderie Groningen,Braderieën,Groningen,Rommelmarkten,Rommelmarkten Groningen
END:VEVENT
BEGIN:VEVENT
DTSTART;TZID=Europe/Amsterdam:20260329T100000
DTEND;TZID=Europe/Amsterdam:20260329T163000
DTSTAMP:20260418T060835
CREATED:20251112T173758Z
LAST-MODIFIED:20260329T060502Z
UID:14055-1774778400-1774801800@marktenmeer.nl
SUMMARY:Stadjersmarkt Groningen – 6 april 2026 (Martiniplaza)
DESCRIPTION:Op maandag 6 april 2026 vindt de Stadjersmarkt in Groningen plaats in Martiniplaza. Deze overdekte markt op Tweede Paasdag combineert een vlooienmarkt en braderie onder één dak. Van 10:00 tot 16:30 uur kun je rondstruinen langs uiteenlopende kramen met tweedehands artikelen\, kleding\, curiosa en non-food producten. \nDankzij de binnenlocatie is de Stadjersmarkt in Martiniplaza een comfortabel uitje\, ongeacht het weer. De markt trekt bezoekers uit Groningen en omgeving die op zoek zijn naar koopjes\, bijzondere vondsten of gewoon een gezellige marktdag.\n\n\n \nVoor bezoekers\n\nDatum: maandag 6 april 2026\nTijd: 10:00 – 16:30 uur\nKassa open: 10:00 – 16:00 uur\nLocatie: Martiniplaza\, Leonard Springerlaan 2\, Groningen\nEntree: € 4\,00 per volwassene\nKinderen t/m 13 jaar: gratis\nStrippenkaart (15x entree): € 50\,00 (geldig op alle Vitalismarkten)\n\nDe markt is overzichtelijk opgezet en geschikt voor jong en oud. \nVoor standhouders\nStandplaatsen dienen vooraf gereserveerd te worden. Standhouders blijven tot 16:30 uur. \nInruimen: tussen 07:30 en 09:30 uur (melden vóór 09:15 uur) \nStandplaats vlooienmarkt\n\n5 meter: € 22\,50\n5 meter incl. kraam (4 meter): € 37\,50\nDiepte stand: 2\,50 meter\n\nStandplaats braderie\n\n4 meter: € 37\,50\nExtra meters: € 6\,50 per meter\n4 meter incl. kraam met bovenbouw: € 52\,50\nElke volgende kraam: € 41\,00\n\nFoodstands zijn niet mogelijk; horeca is in beheer van de locatie. \nDe Stadjersmarkt in Martiniplaza op 6 april 2026 biedt een toegankelijke overdekte marktdag in Groningen.
URL:https://marktenmeer.nl/markt/stadjersmarkt-groningen-29-maart-2026/
LOCATION:Martiniplaza\, Groningen\, Leonard Springerlaan 2\, Groningen\, 9727 KB\, Netherlands
CATEGORIES:Braderie Groningen,Braderieën,Groningen,Paasmarkt Groningen,Paasmarkten,Rommelmarkten,Rommelmarkten Groningen
END:VEVENT
END:VCALENDAR