BEGIN:VCALENDAR
VERSION:2.0
PRODID:-//Markten en meer - ECPv6.15.20//NONSGML v1.0//EN
CALSCALE:GREGORIAN
METHOD:PUBLISH
X-ORIGINAL-URL:https://marktenmeer.nl
X-WR-CALDESC:Evenementen voor Markten en meer
REFRESH-INTERVAL;VALUE=DURATION:PT1H
X-Robots-Tag:noindex
X-PUBLISHED-TTL:PT1H
BEGIN:VTIMEZONE
TZID:Europe/Amsterdam
BEGIN:DAYLIGHT
TZOFFSETFROM:+0100
TZOFFSETTO:+0200
TZNAME:CEST
DTSTART:20240331T010000
END:DAYLIGHT
BEGIN:STANDARD
TZOFFSETFROM:+0200
TZOFFSETTO:+0100
TZNAME:CET
DTSTART:20241027T010000
END:STANDARD
BEGIN:DAYLIGHT
TZOFFSETFROM:+0100
TZOFFSETTO:+0200
TZNAME:CEST
DTSTART:20250330T010000
END:DAYLIGHT
BEGIN:STANDARD
TZOFFSETFROM:+0200
TZOFFSETTO:+0100
TZNAME:CET
DTSTART:20251026T010000
END:STANDARD
BEGIN:DAYLIGHT
TZOFFSETFROM:+0100
TZOFFSETTO:+0200
TZNAME:CEST
DTSTART:20260329T010000
END:DAYLIGHT
BEGIN:STANDARD
TZOFFSETFROM:+0200
TZOFFSETTO:+0100
TZNAME:CET
DTSTART:20261025T010000
END:STANDARD
END:VTIMEZONE
BEGIN:VEVENT
DTSTART;TZID=Europe/Amsterdam:20251226T100000
DTEND;TZID=Europe/Amsterdam:20251226T163000
DTSTAMP:20260421T014506
CREATED:20251112T145501Z
LAST-MODIFIED:20260329T060514Z
UID:14036-1766743200-1766766600@marktenmeer.nl
SUMMARY:Vlooienmarkt & Braderie Flowerdome Eelde | 26 december 2025
DESCRIPTION:Traditiegetrouw staat de Flowerdome in Eelde op 2e kerstdag\, vrijdag 26 december 2025\, volledig in het teken van de speciale kersteditie van de vlooienmarkt. Naast de gebruikelijke 6000 m² vlooienmarkt is de entreehal omgetoverd tot een sfeervolle braderiestraat. \nShop tweedehands schatten\, vintage kleding\, brocante en antiek\, maar ook feestelijke winterse producten. Een perfecte kersttraditie voor het hele gezin! \n📅 Datum: vrijdag 26 december 2025 (2e kerstdag)🕙 Tijd: 10:00 – 16:30 uur (vroege vogels vanaf 08:00 uur)📍 Locatie: Flowerdome\, Burg. J.G. Legroweg 80\, Eelde🎟️ Entree: € 4\,00 (kinderen t/m 13 jaar gratis)
URL:https://marktenmeer.nl/markt/vlooienmarkt-braderie-flowerdome-eelde-26-december-2025/
LOCATION:Flowerdome\, Eelde\, Burg. J.G. Legroweg 80\, Eelde\, Netherlands
CATEGORIES:Braderie Groningen,Braderieën,Groningen,Kerstmarkt Groningen,Kerstmarkten,Rommelmarkten,Rommelmarkten Groningen
END:VEVENT
END:VCALENDAR