BEGIN:VCALENDAR
VERSION:2.0
PRODID:-//Markten en meer - ECPv6.15.20//NONSGML v1.0//EN
CALSCALE:GREGORIAN
METHOD:PUBLISH
X-ORIGINAL-URL:https://marktenmeer.nl
X-WR-CALDESC:Evenementen voor Markten en meer
REFRESH-INTERVAL;VALUE=DURATION:PT1H
X-Robots-Tag:noindex
X-PUBLISHED-TTL:PT1H
BEGIN:VTIMEZONE
TZID:Europe/Amsterdam
BEGIN:DAYLIGHT
TZOFFSETFROM:+0100
TZOFFSETTO:+0200
TZNAME:CEST
DTSTART:20250330T010000
END:DAYLIGHT
BEGIN:STANDARD
TZOFFSETFROM:+0200
TZOFFSETTO:+0100
TZNAME:CET
DTSTART:20251026T010000
END:STANDARD
BEGIN:DAYLIGHT
TZOFFSETFROM:+0100
TZOFFSETTO:+0200
TZNAME:CEST
DTSTART:20260329T010000
END:DAYLIGHT
BEGIN:STANDARD
TZOFFSETFROM:+0200
TZOFFSETTO:+0100
TZNAME:CET
DTSTART:20261025T010000
END:STANDARD
BEGIN:DAYLIGHT
TZOFFSETFROM:+0100
TZOFFSETTO:+0200
TZNAME:CEST
DTSTART:20270328T010000
END:DAYLIGHT
BEGIN:STANDARD
TZOFFSETFROM:+0200
TZOFFSETTO:+0100
TZNAME:CET
DTSTART:20271031T010000
END:STANDARD
END:VTIMEZONE
BEGIN:VEVENT
DTSTART;TZID=Europe/Amsterdam:20260201T100000
DTEND;TZID=Europe/Amsterdam:20260201T163000
DTSTAMP:20260420T222850
CREATED:20251112T172221Z
LAST-MODIFIED:20260329T060514Z
UID:14043-1769940000-1769963400@marktenmeer.nl
SUMMARY:Vlooienmarkt – Flowerdome Eelde – 1 februari 2026
DESCRIPTION:Op zondag 1 februari 2026 staat de Flowerdome Eelde opnieuw volledig in het teken van snuffelen\, ontdekken en duurzaam shoppen. De grote overdekte hal vult zich deze dag met honderden kramen vol vintage vondsten\, curiosa\, verzamelobjecten\, brocante\, kleding\, speelgoed\, woonaccessoires en unieke tweedehands schatten. \nDe vlooienmarkt staat al jaren bekend om de gemoedelijke sfeer en het brede aanbod\, waardoor zowel ervaren speurders als spontane bezoekers hier altijd iets bijzonders vinden. Dankzij de ruime opzet kun je op je gemak langs de kramen wandelen\, terwijl standhouders je graag meer vertellen over hun artikelen. \nVoor gezinnen\, verzamelaars en koopjesjagers is dit een ideaal winteruitje: warm\, overzichtelijk en geschikt voor alle leeftijden. Daarnaast is de Flowerdome goed bereikbaar en is parkeren eenvoudig. Neem wel contant geld mee\, omdat niet alle standhouders pin accepteren. \nEen heerlijke dag vol inspiratie en vondsten wacht op je! \n📅 Datum: zondag 1 februari 2026⏰ Tijd: 10.00 – 16.30 uur📍 Locatie: Flowerdome Eelde🎟️ Entree: €4 (kids gratis)
URL:https://marktenmeer.nl/markt/vlooienmarkt-flowerdome-eelde-1-februari-2026/
LOCATION:Flowerdome\, Eelde\, Burg. J.G. Legroweg 80\, Eelde\, Netherlands
CATEGORIES:Groningen,Rommelmarkten,Rommelmarkten Groningen
END:VEVENT
END:VCALENDAR