BEGIN:VCALENDAR
VERSION:2.0
PRODID:-//Markten en meer - ECPv6.15.20//NONSGML v1.0//EN
CALSCALE:GREGORIAN
METHOD:PUBLISH
X-WR-CALNAME:Markten en meer
X-ORIGINAL-URL:https://marktenmeer.nl
X-WR-CALDESC:Evenementen voor Markten en meer
REFRESH-INTERVAL;VALUE=DURATION:PT1H
X-Robots-Tag:noindex
X-PUBLISHED-TTL:PT1H
BEGIN:VTIMEZONE
TZID:Europe/Amsterdam
BEGIN:DAYLIGHT
TZOFFSETFROM:+0100
TZOFFSETTO:+0200
TZNAME:CEST
DTSTART:20250330T010000
END:DAYLIGHT
BEGIN:STANDARD
TZOFFSETFROM:+0200
TZOFFSETTO:+0100
TZNAME:CET
DTSTART:20251026T010000
END:STANDARD
BEGIN:DAYLIGHT
TZOFFSETFROM:+0100
TZOFFSETTO:+0200
TZNAME:CEST
DTSTART:20260329T010000
END:DAYLIGHT
BEGIN:STANDARD
TZOFFSETFROM:+0200
TZOFFSETTO:+0100
TZNAME:CET
DTSTART:20261025T010000
END:STANDARD
BEGIN:DAYLIGHT
TZOFFSETFROM:+0100
TZOFFSETTO:+0200
TZNAME:CEST
DTSTART:20270328T010000
END:DAYLIGHT
BEGIN:STANDARD
TZOFFSETFROM:+0200
TZOFFSETTO:+0100
TZNAME:CET
DTSTART:20271031T010000
END:STANDARD
END:VTIMEZONE
BEGIN:VEVENT
DTSTART;TZID=Europe/Amsterdam:20260208T100000
DTEND;TZID=Europe/Amsterdam:20260208T160000
DTSTAMP:20260418T145347
CREATED:20251114T093026Z
LAST-MODIFIED:20260329T060514Z
UID:14367-1770544800-1770566400@marktenmeer.nl
SUMMARY:Braderie & Vlooienmarkt Eurohal Zuidbroek – 8 februari 2026
DESCRIPTION:Op zondag 8 februari 2026 verandert de Eurohal Zuidbroek in een levendig ontmoetingspunt voor liefhebbers van snuffelen\, koopjes en gezelligheid. De ruime hal biedt plek aan talloze kramen met een gevarieerd aanbod: van tweedehands vondsten\, curiosa en vintage items tot braderieproducten\, streeklekkernijen en handgemaakte creaties van lokale ondernemers. Dankzij de overdekte locatie is het event comfortabel te bezoeken\, ongeacht het weer — ideaal voor een ontspannen dagje uit. \nBezoekers kunnen in alle rust struinen tussen kramen vol verrassende schatten\, bijzondere verzamelobjecten en praktische gebruiksartikelen. De combinatie van vlooienmarkt en braderie maakt dit evenement aantrekkelijk voor een breed publiek: gezinnen\, verzamelaars\, rommelmarktliefhebbers én recreatieve snuffelaars. \nDe Eurohal staat bekend om zijn goede bereikbaarheid en ruime parkeergelegenheid\, waardoor een bezoek altijd laagdrempelig is. Of je nu gericht op zoek gaat naar iets specifieks of gewoon lekker wilt rondkijken\, deze gezellige markt biedt voor ieder wat wils. \nLocatie: Burgemeester Omtaweg 4\, ZuidbroekTijd: 10:00 – 16:00 uur
URL:https://marktenmeer.nl/markt/braderie-vlooienmarkt-eurohal-zuidbroek-8-februari-2026/
LOCATION:Eurohal Zuidbroek\, Burgemeester Omtaweg 4\, Zuidbroek\, Netherlands
CATEGORIES:Braderie Groningen,Braderieën,Groningen,Rommelmarkten,Rommelmarkten Groningen
END:VEVENT
END:VCALENDAR