BEGIN:VCALENDAR
VERSION:2.0
PRODID:-//Markten en meer - ECPv6.15.20//NONSGML v1.0//EN
CALSCALE:GREGORIAN
METHOD:PUBLISH
X-WR-CALNAME:Markten en meer
X-ORIGINAL-URL:https://marktenmeer.nl
X-WR-CALDESC:Evenementen voor Markten en meer
REFRESH-INTERVAL;VALUE=DURATION:PT1H
X-Robots-Tag:noindex
X-PUBLISHED-TTL:PT1H
BEGIN:VTIMEZONE
TZID:Europe/Amsterdam
BEGIN:DAYLIGHT
TZOFFSETFROM:+0100
TZOFFSETTO:+0200
TZNAME:CEST
DTSTART:20250330T010000
END:DAYLIGHT
BEGIN:STANDARD
TZOFFSETFROM:+0200
TZOFFSETTO:+0100
TZNAME:CET
DTSTART:20251026T010000
END:STANDARD
BEGIN:DAYLIGHT
TZOFFSETFROM:+0100
TZOFFSETTO:+0200
TZNAME:CEST
DTSTART:20260329T010000
END:DAYLIGHT
BEGIN:STANDARD
TZOFFSETFROM:+0200
TZOFFSETTO:+0100
TZNAME:CET
DTSTART:20261025T010000
END:STANDARD
BEGIN:DAYLIGHT
TZOFFSETFROM:+0100
TZOFFSETTO:+0200
TZNAME:CEST
DTSTART:20270328T010000
END:DAYLIGHT
BEGIN:STANDARD
TZOFFSETFROM:+0200
TZOFFSETTO:+0100
TZNAME:CET
DTSTART:20271031T010000
END:STANDARD
END:VTIMEZONE
BEGIN:VEVENT
DTSTART;VALUE=DATE:20260306
DTEND;VALUE=DATE:20260307
DTSTAMP:20260420T204017
CREATED:20260120T120249Z
LAST-MODIFIED:20260329T060514Z
UID:18664-1772755200-1772841599@marktenmeer.nl
SUMMARY:Bazar & Rommelmarkt Wees Kwiek – vrijdag 6 maart & zaterdag 7 maart 2026\, In de Klaver (Niebert)
DESCRIPTION:Op vrijdag 6 maart en zaterdag 7 maart 2026 organiseert korfbalvereniging Wees Kwiek haar jaarlijkse bazar & rommelmarkt bij Wegrestaurant In de Klaver. Dit tweedaagse evenement combineert een gezellige rommelmarkt met activiteiten voor jong en oud en is een vaste traditie in de regio. \n\n\n \nDe rommelmarkt is op vrijdagavond geopend van 19.00 tot 00.00 uur. Bezoekers kunnen rustig rondkijken tussen tweedehands spullen\, curiosa en koopjes. De avond heeft een informele en gezellige sfeer en is geschikt voor een breed publiek. \nOp zaterdagmiddag van 14.00 tot 17.00 uur is de rommelmarkt opnieuw te bezoeken. Tijdens deze middag is er een kinderbazar met leuke spelletjes\, waardoor het evenement ook aantrekkelijk is voor gezinnen.Vanaf 20.00 uur bent u op zaterdagavond welkom in de kroeg van In de Klaver en maakt u kans op veel leuke prijzen tijdens het avondprogramma. \nPraktische informatie\n\nDatum: vrijdag 6 maart & zaterdag 7 maart 2026\nVrijdag: 19.00 – 00.00 uur\nZaterdagmiddag: 14.00 – 17.00 uur (kinderbazar)\nZaterdagavond: vanaf 20.00 uur\nLocatie: Wegrestaurant In de Klaver\nAdres: Molenweg 2\, 9365 PD Niebert\nCategorie: Markt / braderie\nOrganisatie: Korfbalvereniging Wees Kwiek\n\nDeze bazar & rommelmarkt is geschikt voor bezoekers die houden van snuffelen\, gezelligheid en een laagdrempelig dorps evenement.
URL:https://marktenmeer.nl/markt/bazar-rommelmarkt-niebert-in-de-klaver-maart-2026/
LOCATION:Niebert\, Molenweg 2\, Niebert\, Netherlands
CATEGORIES:Groningen,Rommelmarkten,Rommelmarkten Groningen
END:VEVENT
END:VCALENDAR