BEGIN:VCALENDAR
VERSION:2.0
PRODID:-//Markten en meer - ECPv6.15.20//NONSGML v1.0//EN
CALSCALE:GREGORIAN
METHOD:PUBLISH
X-WR-CALNAME:Markten en meer
X-ORIGINAL-URL:https://marktenmeer.nl
X-WR-CALDESC:Evenementen voor Markten en meer
REFRESH-INTERVAL;VALUE=DURATION:PT1H
X-Robots-Tag:noindex
X-PUBLISHED-TTL:PT1H
BEGIN:VTIMEZONE
TZID:Europe/Amsterdam
BEGIN:DAYLIGHT
TZOFFSETFROM:+0100
TZOFFSETTO:+0200
TZNAME:CEST
DTSTART:20250330T010000
END:DAYLIGHT
BEGIN:STANDARD
TZOFFSETFROM:+0200
TZOFFSETTO:+0100
TZNAME:CET
DTSTART:20251026T010000
END:STANDARD
BEGIN:DAYLIGHT
TZOFFSETFROM:+0100
TZOFFSETTO:+0200
TZNAME:CEST
DTSTART:20260329T010000
END:DAYLIGHT
BEGIN:STANDARD
TZOFFSETFROM:+0200
TZOFFSETTO:+0100
TZNAME:CET
DTSTART:20261025T010000
END:STANDARD
BEGIN:DAYLIGHT
TZOFFSETFROM:+0100
TZOFFSETTO:+0200
TZNAME:CEST
DTSTART:20270328T010000
END:DAYLIGHT
BEGIN:STANDARD
TZOFFSETFROM:+0200
TZOFFSETTO:+0100
TZNAME:CET
DTSTART:20271031T010000
END:STANDARD
END:VTIMEZONE
BEGIN:VEVENT
DTSTART;VALUE=DATE:20260418
DTEND;VALUE=DATE:20260419
DTSTAMP:20260420T173635
CREATED:20260121T074445Z
LAST-MODIFIED:20260329T060501Z
UID:18670-1776470400-1776556799@marktenmeer.nl
SUMMARY:Rommelmarkt Aduard – zaterdag 18 april 2026
DESCRIPTION:De Rommelmarkt in Aduard vindt plaats op zaterdag 18 april 2026 en wordt georganiseerd bij ’t Hoge Hof. Deze rommelmarkt valt binnen de rubriek markt/braderie en is een laagdrempelig evenement voor iedereen die graag rondsnuffelt tussen tweedehands spullen. \nBezoekers kunnen op hun gemak langs de kramen lopen en op zoek gaan naar praktische items\, kleine vondsten en onverwachte koopjes. Het aanbod is wisselend en juist dat maakt een rommelmarkt als deze zo aantrekkelijk: je weet nooit wat je tegenkomt. Voor veel bezoekers geldt dan ook: hier zit vast wel iets voor u tussen. \nDe locatie ’t Hoge Hof ligt centraal in Aduard en is goed bereikbaar. Door de kleinschalige en overzichtelijke opzet heeft de markt een gemoedelijke sfeer\, passend bij een dorpsrommelmarkt. Dat maakt dit evenement geschikt voor zowel vaste bezoekers als mensen uit de omgeving die een gezellig uitje zoeken. \nPraktische informatie\n\nDatum: zaterdag 18 april 2026\nPlaats: Aduard\nLocatie: ’t Hoge Hof\nAdres: Schoolstraat 4\, Aduard\nCategorie: Markt / braderie
URL:https://marktenmeer.nl/markt/rommelmarkt-aduard-18-april-2026/
LOCATION:Aduard\, Aduard\, Netherlands
CATEGORIES:Groningen,Rommelmarkten,Rommelmarkten Groningen
END:VEVENT
END:VCALENDAR