BEGIN:VCALENDAR
VERSION:2.0
PRODID:-//Markten en meer - ECPv6.15.20//NONSGML v1.0//EN
CALSCALE:GREGORIAN
METHOD:PUBLISH
X-ORIGINAL-URL:https://marktenmeer.nl
X-WR-CALDESC:Evenementen voor Markten en meer
REFRESH-INTERVAL;VALUE=DURATION:PT1H
X-Robots-Tag:noindex
X-PUBLISHED-TTL:PT1H
BEGIN:VTIMEZONE
TZID:Europe/Amsterdam
BEGIN:DAYLIGHT
TZOFFSETFROM:+0100
TZOFFSETTO:+0200
TZNAME:CEST
DTSTART:20250330T010000
END:DAYLIGHT
BEGIN:STANDARD
TZOFFSETFROM:+0200
TZOFFSETTO:+0100
TZNAME:CET
DTSTART:20251026T010000
END:STANDARD
BEGIN:DAYLIGHT
TZOFFSETFROM:+0100
TZOFFSETTO:+0200
TZNAME:CEST
DTSTART:20260329T010000
END:DAYLIGHT
BEGIN:STANDARD
TZOFFSETFROM:+0200
TZOFFSETTO:+0100
TZNAME:CET
DTSTART:20261025T010000
END:STANDARD
BEGIN:DAYLIGHT
TZOFFSETFROM:+0100
TZOFFSETTO:+0200
TZNAME:CEST
DTSTART:20270328T010000
END:DAYLIGHT
BEGIN:STANDARD
TZOFFSETFROM:+0200
TZOFFSETTO:+0100
TZNAME:CET
DTSTART:20271031T010000
END:STANDARD
END:VTIMEZONE
BEGIN:VEVENT
DTSTART;TZID=Europe/Amsterdam:20260510T110000
DTEND;TZID=Europe/Amsterdam:20260510T170000
DTSTAMP:20260420T204926
CREATED:20260406T054559Z
LAST-MODIFIED:20260406T054559Z
UID:24834-1778410800-1778432400@marktenmeer.nl
SUMMARY:Braderie & rommelmarkt Kropswolde – 10 mei 2026
DESCRIPTION:Op zondag 10 mei 2026 vindt in Kropswolde een uitgebreide braderie en rommelmarkt plaats met diverse activiteiten. Deze markt in Kropswolde biedt meer dan alleen kramen: bezoekers kunnen ook genieten van een circus\, botenmarkt\, oldtimers en een ouder- en kindrun. Hierdoor is het evenement geschikt voor een breed publiek en biedt het voor verschillende leeftijden iets om te doen. De combinatie van activiteiten en marktaanbod zorgt voor een afwisselende dag. \nDe sfeer is levendig en gericht op beleving. Naast het snuffelen langs de kramen is er voldoende vermaak aanwezig. Het aanbod bestaat uit tweedehands spullen\, handel en uiteenlopende producten. Dit maakt de markt aantrekkelijk voor bezoekers die een dagje uit willen combineren met rondkijken en activiteiten. \nVoor bezoekers\n\nDatum: zondag 10 mei 2026\nTijd: 11:00 – 17:00\nLocatie: Kropswolde (centrum/omgeving)\nType markt: braderie en rommelmarkt\nExtra: circus\, botenmarkt\, oldtimers\, ouder- en kindrun\nAanbod: tweedehands spullen\, handel en diverse kramen\nDoelgroep: gezinnen\, dagjesmensen en koopjeszoekers\n\nVoor standhouders\nDoor de extra activiteiten trekt deze markt een breder publiek dan een reguliere braderie. Dit biedt kansen voor standhouders om verschillende doelgroepen te bereiken. \n\nKraamgrootte: circa 5 meter\nKraamprijs: vanaf €47\,50 inclusief kraam\nLosse meters: vanaf €6\,50 per meter\nFood toegestaan: in overleg\nInschrijving: vooraf aanbevolen (vol = vol)\n\nDe doelgroep bestaat uit gezinnen en bezoekers uit de regio\, wat zorgt voor een gevarieerde en constante bezoekersstroom. \nEen veelzijdige markt met extra activiteiten in Kropswolde.
URL:https://marktenmeer.nl/markt/braderie-rommelmarkt-kropswolde-10-mei-2026/
LOCATION:Kropswolde\, Kropswolde\, Netherlands
CATEGORIES:Braderie Groningen,Braderieën,Groningen,Rommelmarkten,Rommelmarkten Groningen
END:VEVENT
END:VCALENDAR