BEGIN:VCALENDAR
VERSION:2.0
PRODID:-//Markten en meer - ECPv6.15.20//NONSGML v1.0//EN
CALSCALE:GREGORIAN
METHOD:PUBLISH
X-WR-CALNAME:Markten en meer
X-ORIGINAL-URL:https://marktenmeer.nl
X-WR-CALDESC:Evenementen voor Markten en meer
REFRESH-INTERVAL;VALUE=DURATION:PT1H
X-Robots-Tag:noindex
X-PUBLISHED-TTL:PT1H
BEGIN:VTIMEZONE
TZID:Europe/Amsterdam
BEGIN:DAYLIGHT
TZOFFSETFROM:+0100
TZOFFSETTO:+0200
TZNAME:CEST
DTSTART:20250330T010000
END:DAYLIGHT
BEGIN:STANDARD
TZOFFSETFROM:+0200
TZOFFSETTO:+0100
TZNAME:CET
DTSTART:20251026T010000
END:STANDARD
BEGIN:DAYLIGHT
TZOFFSETFROM:+0100
TZOFFSETTO:+0200
TZNAME:CEST
DTSTART:20260329T010000
END:DAYLIGHT
BEGIN:STANDARD
TZOFFSETFROM:+0200
TZOFFSETTO:+0100
TZNAME:CET
DTSTART:20261025T010000
END:STANDARD
BEGIN:DAYLIGHT
TZOFFSETFROM:+0100
TZOFFSETTO:+0200
TZNAME:CEST
DTSTART:20270328T010000
END:DAYLIGHT
BEGIN:STANDARD
TZOFFSETFROM:+0200
TZOFFSETTO:+0100
TZNAME:CET
DTSTART:20271031T010000
END:STANDARD
END:VTIMEZONE
BEGIN:VEVENT
DTSTART;TZID=Europe/Amsterdam:20260612T130000
DTEND;TZID=Europe/Amsterdam:20260612T190000
DTSTAMP:20260420T222846
CREATED:20260407T071534Z
LAST-MODIFIED:20260407T071534Z
UID:24842-1781269200-1781290800@marktenmeer.nl
SUMMARY:Braderie & rommelmarkt Blijham – 12 juni 2026
DESCRIPTION:Op vrijdag 12 juni 2026 wordt in Blijham een braderie en rommelmarkt georganiseerd. Deze markt in Blijham vindt plaats in de middag en vroege avond\, wat zorgt voor een iets andere dynamiek dan de gebruikelijke dagmarkten. Bezoekers kunnen na werktijd of school nog een ronde maken langs de kramen en op zoek gaan naar tweedehands spullen of praktische items. De combinatie van braderie en rommelmarkt zorgt voor een gevarieerd aanbod dat geschikt is voor een breed publiek. \nDe sfeer is ontspannen en laagdrempelig. Door het tijdstip is het vaak wat rustiger en overzichtelijker\, waardoor je op je gemak kunt rondkijken. Het aanbod bestaat uit kleding\, accessoires\, huishoudelijke artikelen en diverse kleine vondsten. \nVoor bezoekers\n\nDatum: vrijdag 12 juni 2026\nTijd: 13:00 – 19:00\nLocatie: Blijham (centrum)\nType markt: braderie en rommelmarkt\nAanbod: tweedehands spullen\, handel en diverse kramen\nDoelgroep: breed publiek\, koopjeszoekers en dagjesmensen\n\nVoor standhouders\nDeze middagmarkt is geschikt voor standhouders die ook later op de dag actief willen verkopen. Door het tijdstip trekt de markt bezoekers verspreid over de middag en avond. \n\nKraamgrootte: circa 5 meter\nKraamprijs: vanaf €47\,50 inclusief kraam\nLosse meters: vanaf €6\,50 per meter\nInschrijving: vooraf aanbevolen (vol = vol)\n\nDe doelgroep bestaat voornamelijk uit lokale bezoekers en mensen uit de regio die later op de dag de markt bezoeken. \nEen toegankelijke middagmarkt voor een ontspannen bezoek in Blijham.
URL:https://marktenmeer.nl/markt/braderie-rommelmarkt-blijham-12-juni-2026/
LOCATION:Blijham\, Blijham\, Netherlands
CATEGORIES:Braderie Groningen,Braderieën,Groningen,Rommelmarkten,Rommelmarkten Groningen
END:VEVENT
END:VCALENDAR