BEGIN:VCALENDAR
VERSION:2.0
PRODID:-//Markten en meer - ECPv6.15.20//NONSGML v1.0//EN
CALSCALE:GREGORIAN
METHOD:PUBLISH
X-WR-CALNAME:Markten en meer
X-ORIGINAL-URL:https://marktenmeer.nl
X-WR-CALDESC:Evenementen voor Markten en meer
REFRESH-INTERVAL;VALUE=DURATION:PT1H
X-Robots-Tag:noindex
X-PUBLISHED-TTL:PT1H
BEGIN:VTIMEZONE
TZID:Europe/Amsterdam
BEGIN:DAYLIGHT
TZOFFSETFROM:+0100
TZOFFSETTO:+0200
TZNAME:CEST
DTSTART:20250330T010000
END:DAYLIGHT
BEGIN:STANDARD
TZOFFSETFROM:+0200
TZOFFSETTO:+0100
TZNAME:CET
DTSTART:20251026T010000
END:STANDARD
BEGIN:DAYLIGHT
TZOFFSETFROM:+0100
TZOFFSETTO:+0200
TZNAME:CEST
DTSTART:20260329T010000
END:DAYLIGHT
BEGIN:STANDARD
TZOFFSETFROM:+0200
TZOFFSETTO:+0100
TZNAME:CET
DTSTART:20261025T010000
END:STANDARD
BEGIN:DAYLIGHT
TZOFFSETFROM:+0100
TZOFFSETTO:+0200
TZNAME:CEST
DTSTART:20270328T010000
END:DAYLIGHT
BEGIN:STANDARD
TZOFFSETFROM:+0200
TZOFFSETTO:+0100
TZNAME:CET
DTSTART:20271031T010000
END:STANDARD
END:VTIMEZONE
BEGIN:VEVENT
DTSTART;TZID=Europe/Amsterdam:20260620T100000
DTEND;TZID=Europe/Amsterdam:20260620T170000
DTSTAMP:20260420T222828
CREATED:20260407T071950Z
LAST-MODIFIED:20260407T071950Z
UID:24847-1781949600-1781974800@marktenmeer.nl
SUMMARY:Jaarmarkt\, braderie & rommelmarkt Groningen – 20 juni 2026
DESCRIPTION:Op zaterdag 20 juni 2026 vindt in Groningen een jaarmarkt\, braderie en rommelmarkt plaats met live muziek. Deze markt in Groningen combineert verschillende soorten aanbod en trekt daardoor een breed publiek. Bezoekers kunnen er terecht voor tweedehands spullen\, nieuwe producten en kleinschalige handel. De toevoeging van live muziek zorgt voor extra sfeer en maakt het evenement geschikt voor een dagje uit in de stad. \nDe sfeer is levendig en stedelijk\, met een constante stroom bezoekers. Je kunt op je gemak langs de kramen lopen terwijl er op verschillende plekken muziek te horen is. Het aanbod varieert van kleding en accessoires tot huishoudelijke artikelen en verzamelobjecten. Door de omvang en diversiteit is er voor veel bezoekers iets te vinden. \nVoor bezoekers\n\nDatum: zaterdag 20 juni 2026\nTijd: 10:00 – 17:00\nLocatie: Groningen (centrum)\nType markt: jaarmarkt\, braderie en rommelmarkt\nExtra: live muziek\nAanbod: tweedehands spullen\, handel en diverse kramen\nDoelgroep: breed publiek\, dagjesmensen en koopjeszoekers\n\nVoor standhouders\nDoor de centrale ligging en combinatie van activiteiten trekt deze markt veel bezoekers. Dit maakt het interessant voor standhouders die een groot en divers publiek willen bereiken. \n\nKraamgrootte: circa 5 meter\nKraamprijs: vanaf €47\,50 inclusief kraam\nLosse meters: vanaf €6\,50 per meter\nInschrijving: vooraf aanbevolen (vol = vol)\n\nDe doelgroep bestaat uit zowel lokale bezoekers als mensen van buiten de stad\, wat zorgt voor een brede en continue bezoekersstroom. \nEen uitgebreide markt met extra sfeer door live muziek in Groningen.
URL:https://marktenmeer.nl/markt/jaarmarkt-groningen-20-juni-2026/
LOCATION:Groningen\, Centrum\, Groningen\, Netherlands
CATEGORIES:Braderie Groningen,Braderieën,Groningen,Jaarmarkten,Jaarmarkten Groningen,Rommelmarkten,Rommelmarkten Groningen
END:VEVENT
END:VCALENDAR