BEGIN:VCALENDAR
VERSION:2.0
PRODID:-//Markten en meer - ECPv6.15.20//NONSGML v1.0//EN
CALSCALE:GREGORIAN
METHOD:PUBLISH
X-WR-CALNAME:Markten en meer
X-ORIGINAL-URL:https://marktenmeer.nl
X-WR-CALDESC:Evenementen voor Markten en meer
REFRESH-INTERVAL;VALUE=DURATION:PT1H
X-Robots-Tag:noindex
X-PUBLISHED-TTL:PT1H
BEGIN:VTIMEZONE
TZID:Europe/Amsterdam
BEGIN:DAYLIGHT
TZOFFSETFROM:+0100
TZOFFSETTO:+0200
TZNAME:CEST
DTSTART:20250330T010000
END:DAYLIGHT
BEGIN:STANDARD
TZOFFSETFROM:+0200
TZOFFSETTO:+0100
TZNAME:CET
DTSTART:20251026T010000
END:STANDARD
BEGIN:DAYLIGHT
TZOFFSETFROM:+0100
TZOFFSETTO:+0200
TZNAME:CEST
DTSTART:20260329T010000
END:DAYLIGHT
BEGIN:STANDARD
TZOFFSETFROM:+0200
TZOFFSETTO:+0100
TZNAME:CET
DTSTART:20261025T010000
END:STANDARD
BEGIN:DAYLIGHT
TZOFFSETFROM:+0100
TZOFFSETTO:+0200
TZNAME:CEST
DTSTART:20270328T010000
END:DAYLIGHT
BEGIN:STANDARD
TZOFFSETFROM:+0200
TZOFFSETTO:+0100
TZNAME:CET
DTSTART:20271031T010000
END:STANDARD
END:VTIMEZONE
BEGIN:VEVENT
DTSTART;TZID=Europe/Amsterdam:20260628T100000
DTEND;TZID=Europe/Amsterdam:20260628T170000
DTSTAMP:20260420T222330
CREATED:20260407T072225Z
LAST-MODIFIED:20260407T072225Z
UID:24849-1782640800-1782666000@marktenmeer.nl
SUMMARY:Braderie & rommelmarkt Oude Pekela – 28 juni 2026
DESCRIPTION:Op zondag 28 juni 2026 vindt in Oude Pekela een braderie en rommelmarkt plaats. Deze markt in Oude Pekela is een toegankelijke dagmarkt waar bezoekers rustig langs de kramen kunnen wandelen. Je vindt er een combinatie van tweedehands spullen en reguliere handel\, waardoor het aanbod gevarieerd blijft. De markt trekt voornamelijk lokale bezoekers en mensen uit de regio die op zoek zijn naar praktische items of een ontspannen dagje uit. \nDe sfeer is gemoedelijk en overzichtelijk. Bezoekers kunnen op hun gemak snuffelen tussen kleding\, accessoires\, huishoudelijke artikelen en kleine verzamelobjecten. Het aanbod wisselt per editie\, wat elke marktbezoek anders maakt. \nVoor bezoekers\n\nDatum: zondag 28 juni 2026\nTijd: 10:00 – 17:00\nLocatie: Oude Pekela (centrum)\nType markt: braderie en rommelmarkt\nAanbod: tweedehands spullen\, handel en diverse kramen\nDoelgroep: breed publiek\, koopjeszoekers en dagjesmensen\n\nVoor standhouders\nDeze markt is geschikt voor standhouders die een lokaal en regionaal publiek willen bereiken. De opzet is praktisch en gericht op een constante doorloop van bezoekers. \n\nKraamgrootte: circa 5 meter\nKraamprijs: vanaf €47\,50 inclusief kraam\nLosse meters: vanaf €6\,50 per meter\nInschrijving: vooraf aanbevolen (vol = vol)\n\nDe doelgroep bestaat voornamelijk uit lokale bezoekers en mensen uit de regio\, wat zorgt voor een stabiele bezoekersstroom gedurende de dag. \nEen overzichtelijke markt voor een ontspannen dag in Oude Pekela.
URL:https://marktenmeer.nl/markt/braderie-rommelmarkt-oude-pekela-28-juni-2026/
LOCATION:Oude Pekela\, Oude Pekela\, Netherlands
CATEGORIES:Braderie Groningen,Braderieën,Groningen,Rommelmarkten,Rommelmarkten Groningen
END:VEVENT
END:VCALENDAR