BEGIN:VCALENDAR
VERSION:2.0
PRODID:-//Markten en meer - ECPv6.15.20//NONSGML v1.0//EN
CALSCALE:GREGORIAN
METHOD:PUBLISH
X-ORIGINAL-URL:https://marktenmeer.nl
X-WR-CALDESC:Evenementen voor Markten en meer
REFRESH-INTERVAL;VALUE=DURATION:PT1H
X-Robots-Tag:noindex
X-PUBLISHED-TTL:PT1H
BEGIN:VTIMEZONE
TZID:Europe/Amsterdam
BEGIN:DAYLIGHT
TZOFFSETFROM:+0100
TZOFFSETTO:+0200
TZNAME:CEST
DTSTART:20250330T010000
END:DAYLIGHT
BEGIN:STANDARD
TZOFFSETFROM:+0200
TZOFFSETTO:+0100
TZNAME:CET
DTSTART:20251026T010000
END:STANDARD
BEGIN:DAYLIGHT
TZOFFSETFROM:+0100
TZOFFSETTO:+0200
TZNAME:CEST
DTSTART:20260329T010000
END:DAYLIGHT
BEGIN:STANDARD
TZOFFSETFROM:+0200
TZOFFSETTO:+0100
TZNAME:CET
DTSTART:20261025T010000
END:STANDARD
BEGIN:DAYLIGHT
TZOFFSETFROM:+0100
TZOFFSETTO:+0200
TZNAME:CEST
DTSTART:20270328T010000
END:DAYLIGHT
BEGIN:STANDARD
TZOFFSETFROM:+0200
TZOFFSETTO:+0100
TZNAME:CET
DTSTART:20271031T010000
END:STANDARD
END:VTIMEZONE
BEGIN:VEVENT
DTSTART;TZID=Europe/Amsterdam:20260705T110000
DTEND;TZID=Europe/Amsterdam:20260705T170000
DTSTAMP:20260420T222850
CREATED:20260407T072845Z
LAST-MODIFIED:20260407T072845Z
UID:24855-1783249200-1783270800@marktenmeer.nl
SUMMARY:Braderie & rommelmarkt Appingedam – 5 juli 2026
DESCRIPTION:Op zondag 5 juli 2026 vindt in Appingedam een braderie en rommelmarkt plaats met live muziek en een kermis. Deze markt in Appingedam combineert handel en tweedehands aanbod met extra vermaak\, waardoor het evenement geschikt is voor een breed publiek. Bezoekers kunnen langs de kramen lopen en op zoek gaan naar bruikbare spullen of bijzondere vondsten\, terwijl er tegelijkertijd entertainment aanwezig is. \nDe sfeer is levendig en gevarieerd. Naast het snuffelen op de markt is er ruimte voor ontspanning en vermaak door de kermis en muziek. Het aanbod bestaat uit kleding\, accessoires\, huishoudelijke artikelen en verzamelobjecten. Hierdoor is de markt interessant voor zowel gerichte kopers als bezoekers die gewoon willen rondkijken. \nVoor bezoekers\n\nDatum: zondag 5 juli 2026\nTijd: 11:00 – 17:00\nLocatie: Appingedam (centrum)\nType markt: braderie en rommelmarkt\nExtra: live muziek en kermis\nAanbod: tweedehands spullen\, handel en diverse kramen\nDoelgroep: gezinnen\, dagjesmensen en koopjeszoekers\n\nVoor standhouders\nDoor de combinatie van markt en entertainment trekt deze dag een gevarieerd publiek. Dit maakt het interessant voor standhouders die verschillende doelgroepen willen bereiken. \n\nKraamgrootte: circa 5 meter\nKraamprijs: vanaf €47\,50 inclusief kraam\nLosse meters: vanaf €6\,50 per meter\nInschrijving: vooraf aanbevolen (vol = vol)\n\nDe doelgroep bestaat uit lokale bezoekers en mensen uit de regio\, wat zorgt voor een constante en diverse bezoekersstroom. \nEen levendige markt met extra vermaak in Appingedam.
URL:https://marktenmeer.nl/markt/braderie-rommelmarkt-appingedam-5-juli-2026/
LOCATION:Appingedam\, Appingedam\, Netherlands
CATEGORIES:Braderie Groningen,Braderieën,Groningen,Jaarmarkten,Jaarmarkten Groningen,Rommelmarkten,Rommelmarkten Groningen
END:VEVENT
END:VCALENDAR