BEGIN:VCALENDAR
VERSION:2.0
PRODID:-//Markten en meer - ECPv6.15.20//NONSGML v1.0//EN
CALSCALE:GREGORIAN
METHOD:PUBLISH
X-WR-CALNAME:Markten en meer
X-ORIGINAL-URL:https://marktenmeer.nl
X-WR-CALDESC:Evenementen voor Markten en meer
REFRESH-INTERVAL;VALUE=DURATION:PT1H
X-Robots-Tag:noindex
X-PUBLISHED-TTL:PT1H
BEGIN:VTIMEZONE
TZID:Europe/Amsterdam
BEGIN:DAYLIGHT
TZOFFSETFROM:+0100
TZOFFSETTO:+0200
TZNAME:CEST
DTSTART:20250330T010000
END:DAYLIGHT
BEGIN:STANDARD
TZOFFSETFROM:+0200
TZOFFSETTO:+0100
TZNAME:CET
DTSTART:20251026T010000
END:STANDARD
BEGIN:DAYLIGHT
TZOFFSETFROM:+0100
TZOFFSETTO:+0200
TZNAME:CEST
DTSTART:20260329T010000
END:DAYLIGHT
BEGIN:STANDARD
TZOFFSETFROM:+0200
TZOFFSETTO:+0100
TZNAME:CET
DTSTART:20261025T010000
END:STANDARD
BEGIN:DAYLIGHT
TZOFFSETFROM:+0100
TZOFFSETTO:+0200
TZNAME:CEST
DTSTART:20270328T010000
END:DAYLIGHT
BEGIN:STANDARD
TZOFFSETFROM:+0200
TZOFFSETTO:+0100
TZNAME:CET
DTSTART:20271031T010000
END:STANDARD
END:VTIMEZONE
BEGIN:VEVENT
DTSTART;TZID=Europe/Amsterdam:20260816T100000
DTEND;TZID=Europe/Amsterdam:20260816T163000
DTSTAMP:20260421T014448
CREATED:20260407T084256Z
LAST-MODIFIED:20260407T084256Z
UID:24905-1786874400-1786897800@marktenmeer.nl
SUMMARY:Vismarkt Groningen – vlooienmarkt in Groningen (16 augustus 2026)
DESCRIPTION:De vlooienmarkt op de Vismarkt in Groningen is een vaste waarde in de binnenstad en trekt iedere editie een gevarieerd publiek. Op zondag 16 augustus 2026 kun je hier op je gemak langs de kramen struinen\, op zoek naar tweedehands vondsten\, verzamelobjecten en bijzondere spullen. Deze markt in Groningen is aantrekkelijk voor zowel gerichte kopers als bezoekers die gewoon willen rondkijken in een levendige omgeving. \nDe Vismarkt ligt midden in het centrum en heeft een intiem karakter door de omliggende historische panden. Met de Korenbeurs en de Der Aa-kerk in de directe omgeving en de doorgang naar de Grote Markt om de hoek\, is deze locatie ideaal te combineren met een bezoek aan winkels of een terras. Dit maakt de vlooienmarkt niet alleen praktisch\, maar ook sfeervol. \nVoor bezoekers\n\nType markt: vlooienmarkt\nPlaats: Groningen\nDatum: zondag 16 augustus 2026\nTijd: 10:00 – 16:30 (markt doorgaans tot ca. 16.30 uur)\nLocatie: Vismarkt\, 9711 KV Groningen\nEntree: gratis\nParkeren: betaald parkeren in centrum (ca. €2\,50 per uur\, vanaf 12.00 uur)\n\nVoor standhouders\n\nStandplaats (5 meter): €22\,50\nExtra meters: €4 per meter\nStandplaats incl. kraam (4 meter): €40\nDiepte standplaats: 2\,5 meter\nReserveren: verplicht\nOpbouw: 08.00 – 09.30 uur (melden vóór 09.15 uur)\n\nStandhouders kunnen tijdens het opbouwen hun plek bereiken via het centrum. Daarna moet de auto buiten het marktgebied worden geparkeerd. Voor toegang tot het centrum is een tijdelijke ontheffing nodig. Standplaatsen blijven tot het einde van de markt bezet. \nDeze vlooienmarkt op de Vismarkt in Groningen biedt een toegankelijke combinatie van sfeer\, locatie en een gevarieerd aanbod.
URL:https://marktenmeer.nl/markt/vismarkt-groningen-vlooienmarkt-16-augustus-2026/
LOCATION:Vismarkt\, Groningen\, Vismarkt\, Groningen\, Netherlands
CATEGORIES:Groningen,Rommelmarkten,Rommelmarkten Groningen
END:VEVENT
BEGIN:VEVENT
DTSTART;TZID=Europe/Amsterdam:20260816T100000
DTEND;TZID=Europe/Amsterdam:20260816T170000
DTSTAMP:20260421T014448
CREATED:20260407T075301Z
LAST-MODIFIED:20260407T075301Z
UID:24871-1786874400-1786899600@marktenmeer.nl
SUMMARY:Braderie & rommelmarkt Zuidlaren – 16 augustus 2026
DESCRIPTION:Op zondag 16 augustus 2026 vindt in Zuidlaren een braderie en rommelmarkt plaats. Deze markt in Zuidlaren is een toegankelijke dagmarkt waar bezoekers op hun gemak langs de kramen kunnen lopen. Je vindt er een combinatie van tweedehands spullen en reguliere handel\, wat zorgt voor een gevarieerd aanbod. De markt trekt doorgaans een mix van lokale bezoekers en mensen uit de regio die op zoek zijn naar praktische items of een ontspannen dagje uit. \nDe sfeer is gemoedelijk en overzichtelijk. Bezoekers kunnen rustig rondkijken en snuffelen tussen kleding\, accessoires\, huishoudelijke artikelen en kleine verzamelobjecten. Het aanbod wisselt per editie\, waardoor er altijd iets anders te ontdekken is. \nVoor bezoekers\n\nDatum: zondag 16 augustus 2026\nTijd: 10:00 – 17:00\nLocatie: Zuidlaren (centrum)\nType markt: braderie en rommelmarkt\nAanbod: tweedehands spullen\, handel en diverse kramen\nDoelgroep: breed publiek\, koopjeszoekers en dagjesmensen\n\nVoor standhouders\nDeze markt is geschikt voor standhouders die een lokaal en regionaal publiek willen bereiken. De opzet is praktisch en gericht op een constante doorloop van bezoekers. \n\nKraamgrootte: circa 5 meter\nKraamprijs: vanaf €47\,50 inclusief kraam\nLosse meters: vanaf €6\,50 per meter\nInschrijving: vooraf aanbevolen (vol = vol)\n\nDe doelgroep bestaat voornamelijk uit lokale bezoekers en mensen uit de regio\, wat zorgt voor een stabiele bezoekersstroom gedurende de dag. \nEen toegankelijke markt voor een ontspannen dag in Zuidlaren.
URL:https://marktenmeer.nl/markt/braderie-rommelmarkt-zuidlaren-16-augustus-2026/
LOCATION:Zuidlaren\, Zuidlaren\, Netherlands
CATEGORIES:Braderie Groningen,Braderieën,Groningen,Rommelmarkten,Rommelmarkten Groningen
END:VEVENT
END:VCALENDAR